BEGIN:VCALENDAR
VERSION:2.0
PRODID:-//Crocoule - ECPv6.15.15//NONSGML v1.0//EN
CALSCALE:GREGORIAN
METHOD:PUBLISH
X-ORIGINAL-URL:https://crocoule.org
X-WR-CALDESC:Évènements pour Crocoule
REFRESH-INTERVAL;VALUE=DURATION:PT1H
X-Robots-Tag:noindex
X-PUBLISHED-TTL:PT1H
BEGIN:VTIMEZONE
TZID:Europe/Paris
BEGIN:DAYLIGHT
TZOFFSETFROM:+0100
TZOFFSETTO:+0200
TZNAME:CEST
DTSTART:20210328T010000
END:DAYLIGHT
BEGIN:STANDARD
TZOFFSETFROM:+0200
TZOFFSETTO:+0100
TZNAME:CET
DTSTART:20211031T010000
END:STANDARD
BEGIN:DAYLIGHT
TZOFFSETFROM:+0100
TZOFFSETTO:+0200
TZNAME:CEST
DTSTART:20220327T010000
END:DAYLIGHT
BEGIN:STANDARD
TZOFFSETFROM:+0200
TZOFFSETTO:+0100
TZNAME:CET
DTSTART:20221030T010000
END:STANDARD
BEGIN:DAYLIGHT
TZOFFSETFROM:+0100
TZOFFSETTO:+0200
TZNAME:CEST
DTSTART:20230326T010000
END:DAYLIGHT
BEGIN:STANDARD
TZOFFSETFROM:+0200
TZOFFSETTO:+0100
TZNAME:CET
DTSTART:20231029T010000
END:STANDARD
END:VTIMEZONE
BEGIN:VEVENT
DTSTART;TZID=Europe/Paris:20221102T153000
DTEND;TZID=Europe/Paris:20221102T161500
DTSTAMP:20260422T010604
CREATED:20220929T101128Z
LAST-MODIFIED:20220929T101128Z
UID:10000255-1667403000-1667405700@crocoule.org
SUMMARY:LOUPAPAPOUL
DESCRIPTION:« Quand les poules auront des dents est-ce que les loups feront cot-cot-cot ? »filou est le fils du grand méchant loup. Il nous raconte la vie ordinaire de son papa qui rêverait de changer de rôle pour tenir celui du gentil dans le cœur des enfants.« c’est la crise de la quarantaine !» dit la mère de filou.coup de blues\, bilan de compétences\, relooking\, grand concours « la peur » pour lui trouver un remplaçant…… tout y passe avant que son père découvre auprès de son fils le rôle de sa vie; celui d’un grand méchant loup papa poule ! \nInscriptions : forez-est.com/billetterie \n\n\n\n\n\n	Similaire
URL:https://crocoule.org/notre-evenement/loupapapoul/
LOCATION:L’Avant-Scène – Les Passerelles
CATEGORIES:01 an +,Activité en semaine,Activité pendant les vacances
END:VEVENT
END:VCALENDAR