BEGIN:VCALENDAR
VERSION:2.0
PRODID:-//Crocoule - ECPv6.15.15//NONSGML v1.0//EN
CALSCALE:GREGORIAN
METHOD:PUBLISH
X-ORIGINAL-URL:https://crocoule.org
X-WR-CALDESC:Évènements pour Crocoule
REFRESH-INTERVAL;VALUE=DURATION:PT1H
X-Robots-Tag:noindex
X-PUBLISHED-TTL:PT1H
BEGIN:VTIMEZONE
TZID:Europe/Paris
BEGIN:DAYLIGHT
TZOFFSETFROM:+0100
TZOFFSETTO:+0200
TZNAME:CEST
DTSTART:20230326T010000
END:DAYLIGHT
BEGIN:STANDARD
TZOFFSETFROM:+0200
TZOFFSETTO:+0100
TZNAME:CET
DTSTART:20231029T010000
END:STANDARD
BEGIN:DAYLIGHT
TZOFFSETFROM:+0100
TZOFFSETTO:+0200
TZNAME:CEST
DTSTART:20240331T010000
END:DAYLIGHT
BEGIN:STANDARD
TZOFFSETFROM:+0200
TZOFFSETTO:+0100
TZNAME:CET
DTSTART:20241027T010000
END:STANDARD
BEGIN:DAYLIGHT
TZOFFSETFROM:+0100
TZOFFSETTO:+0200
TZNAME:CEST
DTSTART:20250330T010000
END:DAYLIGHT
BEGIN:STANDARD
TZOFFSETFROM:+0200
TZOFFSETTO:+0100
TZNAME:CET
DTSTART:20251026T010000
END:STANDARD
END:VTIMEZONE
BEGIN:VEVENT
DTSTART;TZID=Europe/Paris:20241025T143000
DTEND;TZID=Europe/Paris:20241025T163000
DTSTAMP:20260421T034432
CREATED:20240828T234615Z
LAST-MODIFIED:20240923T205556Z
UID:10008547-1729866600-1729873800@crocoule.org
SUMMARY:Les Petits gourmets\, Top glacier
DESCRIPTION:Les Petits gourmets\, Top glacier\nAprès avoir découvert les secrets de fabrication de notre glace et de ses ingrédients à la ferme\, chacun confectionnera sa coupe de glace à l’aide de dégustations tout aussi gourmandes les unes que les autres. prix inclut la dégustation de la boule de glace et autres dégustations. Réservation obligatoire. Visite maintenue à partir de 10 personnes. \nDès 5 ans – 11\,50 euros.\nSi ton regard se pose sur ces mots c’est que toi aussi tu fais partie de la Haute Congrégation des Super Parents (HCSP : rien que ça !  ????) investis en quête d’idées de sorties familiales dans la Loire et la Haute-Loire pour son/ses bambin(s) ! \nTu ne me crois pas ? Si si\, promis Bienvenue et toutes mes Félicitations ! Tu es sur la bonne page … Et je vais te le prouver ! Tu es prêt ? Allez\, viens je t’emmène au fil des pages du Crocoule ! \nTout d’abord\, Le Crocoule Magazine c’est quoi ? Le Crocoule\, papier ou web\, c’est LE magazine qui porte en lui la douceur et la bienveillance dont tu as besoin en tant que parent et qui facilite tes recherches d’activités loisirs\, culturelles\, nature pour tous les budgets et tous les goûts ! Et ça c’est une promesse ? Tu veux en savoir +\, suis moi par ici ! \nEt ce n’est pas tout … Si tu as soif d’aventure Le Crocoule Express est fait pour toi !\n  \n  \n\n\n	Similaire
URL:https://crocoule.org/notre-evenement/les-petits-gourmets-top-glacier-2/
LOCATION:La ferme aux délices\, 1230 chemin des Sermages\, Saint-Cyr-les-Vignes\, 42210
CATEGORIES:05 ans +,Activité en semaine,Activité pendant les vacances,En famille,Exterieur,Tous les événements
END:VEVENT
BEGIN:VEVENT
DTSTART;TZID=Europe/Paris:20241023T150000
DTEND;TZID=Europe/Paris:20241023T170000
DTSTAMP:20260421T034432
CREATED:20240911T190922Z
LAST-MODIFIED:20240923T201432Z
UID:10009148-1729695600-1729702800@crocoule.org
SUMMARY:Top pop corn - La visite gonflée
DESCRIPTION:Top pop corn – La visite gonflée\nDu maïs au pop corn\, concevez votre meilleur recette sucrée ou salée… \nDès 5 ans – 11\,50 euros.\nSi ton regard se pose sur ces mots c’est que toi aussi tu fais partie de la Haute Congrégation des Super Parents (HCSP : rien que ça !  ????) investis en quête d’idées de sorties familiales dans la Loire et la Haute-Loire pour son/ses bambin(s) ! \nTu ne me crois pas ? Si si\, promis Bienvenue et toutes mes Félicitations ! Tu es sur la bonne page … Et je vais te le prouver ! Tu es prêt ? Allez\, viens je t’emmène au fil des pages du Crocoule ! \nTout d’abord\, Le Crocoule Magazine c’est quoi ? Le Crocoule\, papier ou web\, c’est LE magazine qui porte en lui la douceur et la bienveillance dont tu as besoin en tant que parent et qui facilite tes recherches d’activités loisirs\, culturelles\, nature pour tous les budgets et tous les goûts ! Et ça c’est une promesse ? Tu veux en savoir +\, suis moi par ici ! \nEt ce n’est pas tout … Si tu as soif d’aventure Le Crocoule Express est fait pour toi !\n  \n  \n\n\n	Similaire
URL:https://crocoule.org/notre-evenement/top-pop-corn-la-visite-gonflee/2024-10-23/
LOCATION:La ferme aux délices\, 1230 chemin des Sermages\, Saint-Cyr-les-Vignes\, 42210
CATEGORIES:05 ans +,En famille,Exterieur,Tous les événements
END:VEVENT
BEGIN:VEVENT
DTSTART;TZID=Europe/Paris:20241022T100000
DTEND;TZID=Europe/Paris:20241022T113000
DTSTAMP:20260421T034433
CREATED:20240828T234213Z
LAST-MODIFIED:20240923T204356Z
UID:10009162-1729591200-1729596600@crocoule.org
SUMMARY:Visite animée :  Les petits scientifiques à la découverte du lait
DESCRIPTION:Visite animée : Les petits scientifiques à la découverte du lait\nDécouvrez les caractéristiques du lait à travers des expériences colorées et son utilisation dans la crème glacée. Le prix inclut la dégustation de la boule de glace. Tarif adulte : 7€. Réservation obligatoire. Visite maintenue à partir de 10 personnes. \nDès 7 ans – 7 euros.\nSi ton regard se pose sur ces mots c’est que toi aussi tu fais partie de la Haute Congrégation des Super Parents (HCSP : rien que ça !  ????) investis en quête d’idées de sorties familiales dans la Loire et la Haute-Loire pour son/ses bambin(s) ! \nTu ne me crois pas ? Si si\, promis Bienvenue et toutes mes Félicitations ! Tu es sur la bonne page … Et je vais te le prouver ! Tu es prêt ? Allez\, viens je t’emmène au fil des pages du Crocoule ! \nTout d’abord\, Le Crocoule Magazine c’est quoi ? Le Crocoule\, papier ou web\, c’est LE magazine qui porte en lui la douceur et la bienveillance dont tu as besoin en tant que parent et qui facilite tes recherches d’activités loisirs\, culturelles\, nature pour tous les budgets et tous les goûts ! Et ça c’est une promesse ? Tu veux en savoir +\, suis moi par ici ! \nEt ce n’est pas tout … Si tu as soif d’aventure Le Crocoule Express est fait pour toi !\n  \n  \n  \n  \n\n\n	Similaire
URL:https://crocoule.org/notre-evenement/visite-animee-les-petits-scientifiques-a-la-decouverte-du-lait/
LOCATION:La ferme aux délices\, 1230 chemin des Sermages\, Saint-Cyr-les-Vignes\, 42210
CATEGORIES:07 ans +,Activité du week-end,Activité pendant les vacances,En famille,Exterieur,Tous les événements
END:VEVENT
BEGIN:VEVENT
DTSTART;TZID=Europe/Paris:20241009T143000
DTEND;TZID=Europe/Paris:20241009T170000
DTSTAMP:20260421T034433
CREATED:20240911T190922Z
LAST-MODIFIED:20240923T201432Z
UID:10009209-1728484200-1728493200@crocoule.org
SUMMARY:Top pop corn - La visite gonflée
DESCRIPTION:Top pop corn – La visite gonflée\nDu maïs au pop corn\, concevez votre meilleur recette sucrée ou salée… \nDès 5 ans – 11\,50 euros.\nSi ton regard se pose sur ces mots c’est que toi aussi tu fais partie de la Haute Congrégation des Super Parents (HCSP : rien que ça !  ????) investis en quête d’idées de sorties familiales dans la Loire et la Haute-Loire pour son/ses bambin(s) ! \nTu ne me crois pas ? Si si\, promis Bienvenue et toutes mes Félicitations ! Tu es sur la bonne page … Et je vais te le prouver ! Tu es prêt ? Allez\, viens je t’emmène au fil des pages du Crocoule ! \nTout d’abord\, Le Crocoule Magazine c’est quoi ? Le Crocoule\, papier ou web\, c’est LE magazine qui porte en lui la douceur et la bienveillance dont tu as besoin en tant que parent et qui facilite tes recherches d’activités loisirs\, culturelles\, nature pour tous les budgets et tous les goûts ! Et ça c’est une promesse ? Tu veux en savoir +\, suis moi par ici ! \nEt ce n’est pas tout … Si tu as soif d’aventure Le Crocoule Express est fait pour toi !\n  \n  \n\n\n	Similaire
URL:https://crocoule.org/notre-evenement/top-pop-corn-la-visite-gonflee/2024-10-09/
LOCATION:La ferme aux délices\, 1230 chemin des Sermages\, Saint-Cyr-les-Vignes\, 42210
CATEGORIES:05 ans +,En famille,Exterieur,Tous les événements
END:VEVENT
END:VCALENDAR