BEGIN:VCALENDAR
VERSION:2.0
PRODID:-//Crocoule - ECPv6.15.15//NONSGML v1.0//EN
CALSCALE:GREGORIAN
METHOD:PUBLISH
X-ORIGINAL-URL:https://crocoule.org
X-WR-CALDESC:Évènements pour Crocoule
REFRESH-INTERVAL;VALUE=DURATION:PT1H
X-Robots-Tag:noindex
X-PUBLISHED-TTL:PT1H
BEGIN:VTIMEZONE
TZID:Europe/Paris
BEGIN:DAYLIGHT
TZOFFSETFROM:+0100
TZOFFSETTO:+0200
TZNAME:CEST
DTSTART:20210328T010000
END:DAYLIGHT
BEGIN:STANDARD
TZOFFSETFROM:+0200
TZOFFSETTO:+0100
TZNAME:CET
DTSTART:20211031T010000
END:STANDARD
BEGIN:DAYLIGHT
TZOFFSETFROM:+0100
TZOFFSETTO:+0200
TZNAME:CEST
DTSTART:20220327T010000
END:DAYLIGHT
BEGIN:STANDARD
TZOFFSETFROM:+0200
TZOFFSETTO:+0100
TZNAME:CET
DTSTART:20221030T010000
END:STANDARD
BEGIN:DAYLIGHT
TZOFFSETFROM:+0100
TZOFFSETTO:+0200
TZNAME:CEST
DTSTART:20230326T010000
END:DAYLIGHT
BEGIN:STANDARD
TZOFFSETFROM:+0200
TZOFFSETTO:+0100
TZNAME:CET
DTSTART:20231029T010000
END:STANDARD
BEGIN:DAYLIGHT
TZOFFSETFROM:+0100
TZOFFSETTO:+0200
TZNAME:CEST
DTSTART:20240331T010000
END:DAYLIGHT
BEGIN:STANDARD
TZOFFSETFROM:+0200
TZOFFSETTO:+0100
TZNAME:CET
DTSTART:20241027T010000
END:STANDARD
BEGIN:DAYLIGHT
TZOFFSETFROM:+0100
TZOFFSETTO:+0200
TZNAME:CEST
DTSTART:20250330T010000
END:DAYLIGHT
BEGIN:STANDARD
TZOFFSETFROM:+0200
TZOFFSETTO:+0100
TZNAME:CET
DTSTART:20251026T010000
END:STANDARD
END:VTIMEZONE
BEGIN:VEVENT
DTSTART;TZID=Europe/Paris:20240428T110000
DTEND;TZID=Europe/Paris:20240428T150000
DTSTAMP:20260420T024845
CREATED:20240118T210657Z
LAST-MODIFIED:20240416T170728Z
UID:10002945-1714302000-1714316400@crocoule.org
SUMMARY:Festi'Mômes !
DESCRIPTION:Festi’Môme 2024 : « Tapanar »\n\n\n\n\nCompagnie Canticum Novum – Conte musical \nTout public à partir de 6 ans \nAprès quarante jours de mer sous la tempête\, une arche s’échoue sur une terre inconnue ; les nuages s’écartent\, un nouveau monde apparaît. Au son de musiques anciennes\, ce conte musi- cal imagé nous raconte\, dans un récit à hauteur d’enfant\, la découverte de cette terre d’accueil. À l’écran\, personnages et décors finement ciselés prennent vie dans un univers graphique d’ombre et de lumière. Une extraordinaire épopée\, qui nous plonge dans les cultures de la Méditerranée. \n\n\n\n\n\n\n\n\n  \n\n\n\n\nDes clowns poétiques\, un conte musical\, un duo interactif… Festimômes mise une fois de plus sur l’émerveillement et l’humour pour sa programmation 2024 ! \nD’ici fin avril\, 4 spectacles sont proposés par la Ville à la salle du Panassa (La Comète)\, un dimanche par mois à 11 h et à 15 h\, pour les enfants dès 6 ans. \nEt les festivités commencent dès le dimanche 28 janvier avec Index\, une pièce de la compagnie Pyramid\, mêlant hip hop et mimes. Rendez-vous aussi dimanche 25 février avec des comédiens excentriques dans Les Frikis de la compagnie El Mundo Costrini. \nTarif : 1 €.\nBilletterie uniquement le jour de la représentation\, prévoyez l’appoint. \n\n\n	Similaire
URL:https://crocoule.org/notre-evenement/festimomes-3/
LOCATION:La comète\, 7 Av. Président Emile Loubet\, Saint Etienne\, France
CATEGORIES:06 ans +,Activité du week-end,En famille,Intérieur,Tous les événements
END:VEVENT
BEGIN:VEVENT
DTSTART;TZID=Europe/Paris:20240331T110000
DTEND;TZID=Europe/Paris:20240331T150000
DTSTAMP:20260420T024845
CREATED:20240118T204903Z
LAST-MODIFIED:20240416T171058Z
UID:10002944-1711882800-1711897200@crocoule.org
SUMMARY:Festi'Mômes !
DESCRIPTION:Festi’Môme 2024 : « Glob »\n\n\n\n\nCompagnie Foutoukours – Clowns poétiques \nTout public à partir de 6 ans \nDeux personnages étranges apparaissent sur scène. Ils sont touffus\, doux et sans âge. Arri- veront-ils à savoir où ils sont\, et où ils vont ? Ils attendent que la vie passe\, en cherchant quoi faire. Ils prennent le temps de regarder l’autre\, de rire\, de pleurer\, de monter et de redescendre… mais ils prennent surtout le temps de prendre le temps. Les surprises de la vie leur indiqueront peut-être quoi faire et où aller. Un spectacle qui explore les thèmes de l’attente\, de l’inconnu et de la rencontre et les mets en scène dans un univers imagé\, épuré et enchanteur. \n\n\n\n\nDes clowns poétiques\, un conte musical\, un duo interactif… Festimômes mise une fois de plus sur l’émerveillement et l’humour pour sa programmation 2024 ! \nD’ici fin avril\, 4 spectacles sont proposés par la Ville à la salle du Panassa (La Comète)\, un dimanche par mois à 11 h et à 15 h\, pour les enfants dès 6 ans. \nEt les festivités commencent dès le dimanche 28 janvier avec Index\, une pièce de la compagnie Pyramid\, mêlant hip hop et mimes. Rendez-vous aussi dimanche 25 février avec des comédiens excentriques dans Les Frikis de la compagnie El Mundo Costrini. \nTarif : 1 €.\nBilletterie uniquement le jour de la représentation\, prévoyez l’appoint. \n\n\n	Similaire
URL:https://crocoule.org/notre-evenement/festimomes-2/
LOCATION:La comète\, 7 Av. Président Emile Loubet\, Saint Etienne\, France
CATEGORIES:06 ans +,Activité du week-end,En famille,Intérieur,Tous les événements
END:VEVENT
BEGIN:VEVENT
DTSTART;TZID=Europe/Paris:20240225T110000
DTEND;TZID=Europe/Paris:20240225T150000
DTSTAMP:20260420T024845
CREATED:20240118T203655Z
LAST-MODIFIED:20240118T203655Z
UID:10002943-1708858800-1708873200@crocoule.org
SUMMARY:Festi'Mômes !
DESCRIPTION:Festi’Mômes : Les Frikis !\n\n\n\n\n\nCompagnie El Mundo Costrini – Duo interactif et survolté \nTout public à partir de 6 ans \nLes Frikis est une parodie de comédiens ex- centriques et loufoques. Chant\, danse\, ma- gie\, acrobatie et jonglerie\, aucune discipline n’échappe à ce couple bien singulier qui évolue dans un univers « cartoons »\, frais et hilarant. Elle\, joyeuse\, un peu survoltée\, voire hystérique… et lui\, bonne pâte\, amusant et sur le qui-vive face à sa partenaire imprévisible ! Très rapidement ce cabaret vire à l’absurde et les artistes nous livrent une somptueuse comédie burlesque sans parole\, basée sur le mime\, la gestuelle et le travail clownesque. Les Frikis plongent dans leur langue préférée : Le RIRE ! \n\n\n\n\n\nDes clowns poétiques\, un conte musical\, un duo interactif… Festimômes mise une fois de plus sur l’émerveillement et l’humour pour sa programmation 2024 ! \nD’ici fin avril\, 4 spectacles sont proposés par la Ville à la salle du Panassa (La Comète)\, un dimanche par mois à 11 h et à 15 h\, pour les enfants dès 6 ans. \nEt les festivités commencent dès le dimanche 28 janvier avec Index\, une pièce de la compagnie Pyramid\, mêlant hip hop et mimes. Rendez-vous aussi dimanche 25 février avec des comédiens excentriques dans Les Frikis de la compagnie El Mundo Costrini. \nTarif : 1 €.\nBilletterie uniquement le jour de la représentation\, prévoyez l’appoint. \n\n\n	Similaire
URL:https://crocoule.org/notre-evenement/festimomes/
LOCATION:La comète\, 7 Av. Président Emile Loubet\, Saint Etienne\, France
CATEGORIES:06 ans +,Activité du week-end,En famille,Intérieur
END:VEVENT
BEGIN:VEVENT
DTSTART;TZID=Europe/Paris:20240128T110000
DTEND;TZID=Europe/Paris:20240128T150000
DTSTAMP:20260420T024845
CREATED:20240118T202636Z
LAST-MODIFIED:20241028T161742Z
UID:10002942-1706439600-1706454000@crocoule.org
SUMMARY:Festi'Mômes
DESCRIPTION:Festi’Môme 2024 : « Index »\n\n\n\n\n\n\n\nFestimômes est devenu un rendez-vous mensuel incontournable pour les familles de Saint-Étienne\, créant une véritable effervescence chaque mois au sein de la communauté. Organisé par la mairie de Saint-Étienne\, cet événement culturel est spécialement pensé pour les enfants\, offrant un spectacle divertissant et enrichissant pour seulement 1 € symbolique par place. Au cœur de cette initiative\, une volonté claire : rendre la culture accessible à toutes les familles\, indépendamment de leur situation financière\, et permettre aux plus jeunes de découvrir des formes artistiques variées\, souvent pour la toute première fois. \nChaque mois\, dans l’emblématique salle de La Comète\, les enfants et leurs parents sont invités à s’immerger dans un univers artistique qui se renouvelle à chaque édition. Du théâtre à la magie\, en passant par la danse\, le cirque et la musique\, les Festimômes proposent un éventail de spectacles qui nourrissent l’imaginaire des enfants et éveillent leur curiosité. Avec deux représentations par jour\, l’événement s’adapte aux emplois du temps des familles et leur offre la possibilité de choisir le créneau qui leur convient le mieux\, garantissant ainsi une expérience sans stress ni précipitation. \nAu-delà de l’accès à la culture\, les Festimômes incarnent un véritable moment de convivialité et de partage pour la communauté stéphanoise. Ce rendez-vous mensuel crée un espace où parents\, enfants et artistes se rencontrent\, où la diversité artistique est célébrée\, et où chacun peut repartir avec des souvenirs inoubliables. Ce lien social et culturel tissé à travers les Festimômes contribue à renforcer le sentiment d’appartenance des familles à la ville\, en leur offrant une activité à la fois ludique et éducative. \nLa mairie de Saint-Étienne\, par cette initiative\, rappelle l’importance de l’accès à la culture dès le plus jeune âge et réaffirme son engagement pour une ville inclusive et dynamique. Festimômes\, c’est donc bien plus qu’un simple spectacle : c’est une invitation pour toutes les familles à vivre un moment unique\, dans une ambiance chaleureuse et bienveillante\, où la culture devient un bien commun\, partagé par tous. \nL’esprit de Festimômes \nDepuis sa création\, Festimômes a su s’imposer comme un pilier de la vie culturelle pour les familles stéphanoises. Né de l’initiative de la mairie de Saint-Étienne\, cet événement mensuel trouve ses racines dans une ambition simple et généreuse : offrir aux plus jeunes un accès privilégié au monde des arts\, dans une ambiance chaleureuse et familiale. Face aux coûts souvent élevés des spectacles\, et avec la volonté de créer un espace de découverte et de partage pour toutes les familles\, la ville a décidé de lancer Festimômes. Le principe est d’une simplicité désarmante : chaque mois\, un spectacle est proposé pour la somme symbolique de 1 € par place\, permettant ainsi de lever toute barrière économique à l’accès culturel. \nL’objectif de Festimômes est avant tout de démocratiser la culture. Par cette initiative\, la mairie entend ouvrir les portes de l’imaginaire aux enfants\, en leur offrant une première expérience du spectacle vivant qui pourrait bien éveiller en eux une passion durable pour l’art sous toutes ses formes. Qu’il s’agisse de magie\, de théâtre\, de musique\, de danse ou même de cirque\, chaque représentation est soigneusement choisie pour captiver les jeunes spectateurs et éveiller leur curiosité. Cette variété dans la programmation témoigne de la volonté de proposer un éventail d’expériences artistiques\, chacune avec sa spécificité\, son ambiance\, et son message. Les enfants peuvent ainsi développer leur regard critique\, s’ouvrir à de nouvelles émotions et\, pourquoi pas\, trouver des sources d’inspiration pour leur propre parcours. \nAu cœur de cette aventure artistique\, la salle de la Comète tient une place centrale. Située en plein cœur de Saint-Étienne\, La Comète est un espace culturel emblématique de la ville\, reconnu pour sa capacité à accueillir des spectacles de petite et moyenne envergure\, dans une ambiance intime et conviviale. Sa scène\, ni trop grande ni trop petite\, crée une proximité précieuse entre les artistes et le public\, une proximité qui enrichit chaque représentation. Pour les enfants\, cette configuration est idéale : ils se sentent « près de l’action »\, comme si chaque spectacle était pensé rien que pour eux. La salle de la Comète a ainsi la capacité de transformer chaque moment en une expérience magique et immersive\, où chaque enfant devient acteur de son propre émerveillement. \nLa Comète est également équipée pour répondre aux exigences techniques variées des spectacles accueillis dans le cadre des Festimômes. Que ce soit pour des effets lumineux fascinants\, une acoustique de qualité ou encore des installations scéniques impressionnantes\, la salle s’adapte aux besoins des artistes\, leur permettant de déployer leur art sans compromis. Pour les familles\, c’est un gage de qualité et de confort\, offrant un espace agréable et accessible où chacun\, enfant ou adulte\, peut profiter pleinement du spectacle. Les lieux sont conçus pour que l’accueil des plus jeunes soit fluide\, avec des aménagements qui permettent une installation rapide et confortable des spectateurs\, même pour les tout-petits. \nFestimômes se veut avant tout un événement inclusif et accueillant\, pensé pour toute la famille. Dans cet espace\, chaque enfant\, quel que soit son âge\, trouve sa place et se sent le bienvenu. Le cadre de Festimômes est conçu pour initier les plus jeunes au spectacle vivant\, une étape clé dans leur éducation culturelle. Chaque représentation est une invitation à s’ouvrir au monde\, à rencontrer des personnages hauts en couleur\, à vibrer au rythme de la musique\, à rire\, à s’émouvoir\, et parfois même à participer activement. Les spectacles choisis pour Festimômes privilégient d’ailleurs souvent une approche interactive\, encourageant les enfants à s’impliquer\, à poser des questions\, ou à participer à des scènes spécifiques. C’est un cadre sécurisé et bienveillant où les enfants peuvent exprimer librement leurs réactions et où les familles vivent ensemble un moment privilégié\, loin des écrans et du quotidien. \nEn créant Festimômes\, la mairie de Saint-Étienne offre aux familles bien plus qu’un simple spectacle. Elle leur donne une opportunité de partage et de découverte\, une porte ouverte vers l’art et l’évasion\, un rendez-vous qui\, mois après mois\, crée des souvenirs et des moments de complicité uniques. Festimômes est devenu ce que beaucoup d’événements espèrent être : un repère familial\, un rendez-vous attendu\, une petite bulle de bonheur dans la routine des familles stéphanoises\, permettant de tisser un lien fort entre les générations et d’inscrire la culture dans le quotidien de chacun. \nUne programmation variée pour éveiller les jeunes spectateurs \nLa programmation de Festimômes est pensée pour éveiller l’imaginaire des enfants en leur offrant un large éventail de spectacles. Magie\, danse\, cirque\, théâtre et musique : chaque discipline artistique est représentée\, pour le plus grand bonheur des jeunes spectateurs et de leurs familles. Cette diversité permet à chaque enfant de découvrir des formes d’expression nouvelles et de s’ouvrir à des univers variés. L’objectif est de susciter des émotions\, d’éveiller la curiosité et d’encourager les enfants à explorer des horizons artistiques auxquels ils n’auraient peut-être pas eu accès autrement. \nPour certains\, la magie devient une porte d’entrée vers le rêve\, les illusionnistes captivant les plus jeunes avec des tours qui défient la logique et créent des étoiles dans les yeux. Les spectacles de danse\, quant à eux\, introduisent les enfants à l’art du mouvement\, aux émotions qui se transmettent sans un mot\, et éveillent parfois en eux l’envie de bouger\, de danser. Le cirque\, avec ses acrobates\, jongleurs et clowns\, est un incontournable qui déclenche autant d’éclats de rire que de moments de surprise. Les spectacles de théâtre initient les enfants à l’art du récit\, leur permettant de se plonger dans des histoires captivantes et de rencontrer des personnages hauts en couleur. La musique\, enfin\, les invite à découvrir des sons et des rythmes nouveaux\, souvent même à chanter ou à taper des mains en rythme\, créant ainsi une ambiance joyeuse et participative. \nCette diversité artistique est l’un des fondements de Festimômes\, et les programmateurs s’efforcent d’offrir une palette aussi large que possible pour éveiller la curiosité des enfants. Selon Mélanie Rivière\, coordinatrice de l’événement\, « chaque discipline a un rôle unique dans l’éveil des plus jeunes. La magie émerveille\, le cirque amuse\, la danse inspire. En variant les genres\, nous permettons aux enfants de se familiariser avec l’art sous toutes ses formes et de découvrir ce qui les touche le plus ». Cette diversité est également essentielle pour les artistes eux-mêmes\, qui y voient l’opportunité de partager leur passion avec un jeune public. Antoine Leclerc\, magicien et habitué de la scène de Festimômes\, explique : « Jouer pour des enfants est un défi unique. Leur réaction est sincère\, immédiate\, et cela rend chaque spectacle unique. Nous\, artistes\, devons sans cesse nous réinventer pour capter leur attention et les émerveiller ». \nAu fil des éditions\, certains spectacles ont laissé des souvenirs impérissables auprès des spectateurs. L’un des plus marquants reste sans doute la représentation du spectacle de cirque de la troupe Pique-et-Pique. Jongleurs\, acrobates et un clown attachant avaient transporté les enfants dans un monde plein de couleurs et de rires. Les petits\, fascinés\, n’avaient d’yeux que pour les prouesses des artistes\, et les parents avaient souligné la qualité du spectacle\, saluant cette opportunité unique de découvrir le cirque à un prix abordable. \nUn autre moment mémorable a été offert par le groupe Les Cordes enchantées\, un duo de musiciens qui avait revisité des classiques de la chanson enfantine tout en y intégrant des instruments insolites venus du monde entier. Les enfants avaient été invités à participer\, à frapper des mains et même à chanter\, créant une interaction joyeuse et mémorable. Ce type de spectacle interactif marque souvent les esprits des jeunes spectateurs\, qui n’oublient pas facilement ces instants où ils sont au cœur de l’action. \nGrâce à cette programmation variée\, Festimômes remplit pleinement son rôle de rendez-vous culturel où les enfants découvrent la magie de l’art sous toutes ses formes. Que ce soit par le rire\, la musique\, ou l’émerveillement\, chaque spectacle laisse une empreinte\, et chaque jeune spectateur repart enrichi de nouveaux souvenirs et d’émotions partagées en famille. \n\n\n	Similaire
URL:https://crocoule.org/notre-evenement/festimome-2024-index/
LOCATION:La comète\, 7 Av. Président Emile Loubet\, Saint Etienne\, France
CATEGORIES:06 ans +,Activité du week-end,En famille,Intérieur,Jeune Public
END:VEVENT
BEGIN:VEVENT
DTSTART;VALUE=DATE:20230206
DTEND;VALUE=DATE:20230211
DTSTAMP:20260420T024845
CREATED:20221221T143108Z
LAST-MODIFIED:20230126T074806Z
UID:10000658-1675641600-1676073599@crocoule.org
SUMMARY:STAGE THÉÂTRE MUSICAL
DESCRIPTION:STAGE THÉÂTRE MUSICAL \nLa comète propose un stage de théâtre musical à destination du jeune public\, du lundi 6 au vendredi 10 février 2023\, tous les jours 10h-12h et 14h-17h.  \nTels des héroïnes et héros mythologiques\, ils n’auront que cinq jours pour accomplir leur destinée. En effet\, leur mission : créer de toute pièce une oeuvre de théâtre musical. Enfin\, deux comédiennes les guideront sur le chemin de la création à travers un travail théâtral et vocal\, à partir de récits mythologiques venus du monde entier ! \nLes intervenantes : Aurélie Pirrera : chanteuse\, comédienne Angeline Bouille : chanteuse\, comédienne. \nCependant\, une adhésion est obligatoire pour les nouveaux.elles inscrit.e.s de cette saison (5€) Nous proposons une prise en charge d’une partie des frais d’inscription pour les personnes éligibles au fond de soutien\, n’hésitez pas à nous contacter pour plus d’informations. Nous proposons pas de surveillance de 12h à 14h. \nPour vous inscrire : – sur place à la Comète – au 07-67-11-60-17 – par e-mail à l’adresse inscription@ecoledeloralite.org \nSITE INTERNET  \nLa Comète\, nouvel équipement culturel de la Ville de Saint-Étienne\, a ouvert ses portes au public le 4 janvier 2021. Sur près de 5 000 m²\, ses activités se concentrent sur l’accompagnement des pratiques amateurs et émergentes du spectacle vivant : danse\, théâtre\, musique\, cirque\, etc. \nSitué au 7 avenue du Président Émile Loubet\, le bâtiment de la Comète a hébergé dès 1952 la Fédération Nationale des Mutilés du Travail\, avant de laisser la place à l’un des premiers Centres Dramatiques Nationaux de France : la Comédie de Saint-Étienne. Cependant en 2017\, cette dernière a emménagé dans ses nouveaux locaux du quartier créatif Manufacture Cité du design. \nLieu de vie\, d’échange et de partage\, la Comète\, et notamment son salon urbain\, est ouverte à tous du lundi au samedi de 9h à 23h. \n\n\n	Similaire
URL:https://crocoule.org/notre-evenement/stage-theatre-musical/
LOCATION:La comète\, 7 Av. Président Emile Loubet\, Saint Etienne\, France
END:VEVENT
BEGIN:VEVENT
DTSTART;TZID=Europe/Paris:20230115T150000
DTEND;TZID=Europe/Paris:20230115T154000
DTSTAMP:20260420T024845
CREATED:20221221T102046Z
LAST-MODIFIED:20221221T102046Z
UID:10000610-1673794800-1673797200@crocoule.org
SUMMARY:
DESCRIPTION:spectacles familiaux\nInscriptions : billetterie uniquement sur site le jour J \n\n\n	Similaire
URL:https://crocoule.org/notre-evenement/3896/
LOCATION:La comète\, 7 Av. Président Emile Loubet\, Saint Etienne\, France
CATEGORIES:06 ans +,Activité du week-end
END:VEVENT
BEGIN:VEVENT
DTSTART;TZID=Europe/Paris:20230115T110000
DTEND;TZID=Europe/Paris:20230115T160000
DTSTAMP:20260420T024845
CREATED:20230110T103138Z
LAST-MODIFIED:20230110T103138Z
UID:10000826-1673780400-1673798400@crocoule.org
SUMMARY:Qui sommes-nous je ?
DESCRIPTION:spectacles familiaux\nInscriptions : billetterie uniquement sur site le jour J \n\n\n	Similaire
URL:https://crocoule.org/notre-evenement/qui-sommes-nous-je/
LOCATION:La comète\, 7 Av. Président Emile Loubet\, Saint Etienne\, France
CATEGORIES:Activité du week-end,Jeune Public
END:VEVENT
BEGIN:VEVENT
DTSTART;TZID=Europe/Paris:20221120T140000
DTEND;TZID=Europe/Paris:20221120T170000
DTSTAMP:20260420T024845
CREATED:20221031T103358Z
LAST-MODIFIED:20221031T103358Z
UID:10000376-1668952800-1668963600@crocoule.org
SUMMARY:ATELIER RADIO PARENTS ENFANTS - FETE DE LA COMETE
DESCRIPTION:Dimanche 20 novembre  14h  \nAtelier radio parents/enfants  \nRadio Mâtrus revient sur les ondes ! La rédaction cherche une nouvelle équipe de reporters\, avec comme seule compétence exigée\, la curiosité. Ils n’auront que deux heures\, pas plus\, pour créer leur propre émission sur la Fête de la Comète (générique inclus). Proposé par l’École de l’Oralité\, La Fabrique Musicale et Le Solar  \nÀ partir de 8 ans  \nDurée : 2h  \nÀ l’Atelier de l’École de l’Oralité \n\n\n	Similaire
URL:https://crocoule.org/notre-evenement/atelier-radio-parents-enfants-fete-de-la-comete/
LOCATION:La comète\, 7 Av. Président Emile Loubet\, Saint Etienne\, France
CATEGORIES:08 ans +,Activité du week-end
END:VEVENT
BEGIN:VEVENT
DTSTART;TZID=Europe/Paris:20221119T110000
DTEND;TZID=Europe/Paris:20221119T170000
DTSTAMP:20260420T024845
CREATED:20221031T102735Z
LAST-MODIFIED:20221031T102735Z
UID:10000373-1668855600-1668877200@crocoule.org
SUMMARY:Il faut manger - spectacle
DESCRIPTION:Samedi 19 novembre  11h et 15h45  \nIl faut manger  – Compagnie LalalaChamade  \nDuel psychologique entre le roi Charles 7 et son serviteur autour d’une assiette de ragoût.  \nTout public\, à partir de 7 ans  \nDurée : 15’  \nSalle d’orchestre (501) \n\n\n	Similaire
URL:https://crocoule.org/notre-evenement/il-faut-manger-spectacle/
LOCATION:La comète\, 7 Av. Président Emile Loubet\, Saint Etienne\, France
CATEGORIES:07 ans +,Activité du week-end
END:VEVENT
BEGIN:VEVENT
DTSTART;TZID=Europe/Paris:20221119T103000
DTEND;TZID=Europe/Paris:20221119T110000
DTSTAMP:20260420T024845
CREATED:20221031T102535Z
LAST-MODIFIED:20221031T102535Z
UID:10000372-1668853800-1668855600@crocoule.org
SUMMARY:Concert la Comète
DESCRIPTION:Samedi 19 novembre 10h30  \nBatucada enfants  \nLaissez-vous porter par les percussions entraînantes de la batucada enfants de La Fabrique Musicale.  \nProposé par La Fabrique Musicale  \nTout public  \nDurée : 30’  \nPlace Roannelle  \n\n\n	Similaire
URL:https://crocoule.org/notre-evenement/concert-la-comete/
LOCATION:La comète\, 7 Av. Président Emile Loubet\, Saint Etienne\, France
CATEGORIES:Activité du week-end,Tout public
END:VEVENT
BEGIN:VEVENT
DTSTART;TZID=Europe/Paris:20221119T100000
DTEND;TZID=Europe/Paris:20221119T170000
DTSTAMP:20260420T024845
CREATED:20221031T102754Z
LAST-MODIFIED:20221031T102754Z
UID:10000374-1668852000-1668877200@crocoule.org
SUMMARY:Atelier percussions - Fête de la Comète
DESCRIPTION:10h (de 8 à 12 ans)  \n14h (à partir de 12 ans)  \nAtelier percussions  \nPartant de répertoires traditionnels\, cet atelier de pratique des percussions vous entraînera dans un voyage musical à travers la mer Méditerranée. La pratique est accessible aux débutants.  \nProposé par l’École de l’Oralité  \nDurée : 2h par atelier  \nÀ l’Atelier de l’École de l’Oralité  \n\n\n	Similaire
URL:https://crocoule.org/notre-evenement/atelier-percussions-fete-de-la-comete/
LOCATION:La comète\, 7 Av. Président Emile Loubet\, Saint Etienne\, France
END:VEVENT
BEGIN:VEVENT
DTSTART;TZID=Europe/Paris:20221119T080000
DTEND;TZID=Europe/Paris:20221120T170000
DTSTAMP:20260420T024845
CREATED:20221031T102048Z
LAST-MODIFIED:20221031T102222Z
UID:10000371-1668844800-1668963600@crocoule.org
SUMMARY:Éveil musical parents/enfants
DESCRIPTION:Laissez-vous transporter à travers différents univers musicaux pour partager avec votre enfant un temps de prise de conscience de ses 5 sens. Chants\, comptines\, ambiances sonores….  \nProposé par La Fabrique Musicale  \nChaque atelier est limité à 10 duos parent/enfant.  \nDurée : 30’ par atelier  \nÀ La Fabrique Musicale  \nSamedi 19 novembre  \n9h30 et 10h30  \nDimanche 20 novembre  \n10h et 11h  \n\n\n	Similaire
URL:https://crocoule.org/notre-evenement/eveil-musical-parents-enfants/
LOCATION:La comète\, 7 Av. Président Emile Loubet\, Saint Etienne\, France
END:VEVENT
END:VCALENDAR