BEGIN:VCALENDAR
VERSION:2.0
PRODID:-//Crocoule - ECPv6.15.15//NONSGML v1.0//EN
CALSCALE:GREGORIAN
METHOD:PUBLISH
X-WR-CALNAME:Crocoule
X-ORIGINAL-URL:https://crocoule.org
X-WR-CALDESC:Évènements pour Crocoule
REFRESH-INTERVAL;VALUE=DURATION:PT1H
X-Robots-Tag:noindex
X-PUBLISHED-TTL:PT1H
BEGIN:VTIMEZONE
TZID:Europe/Paris
BEGIN:DAYLIGHT
TZOFFSETFROM:+0100
TZOFFSETTO:+0200
TZNAME:CEST
DTSTART:20240331T010000
END:DAYLIGHT
BEGIN:STANDARD
TZOFFSETFROM:+0200
TZOFFSETTO:+0100
TZNAME:CET
DTSTART:20241027T010000
END:STANDARD
BEGIN:DAYLIGHT
TZOFFSETFROM:+0100
TZOFFSETTO:+0200
TZNAME:CEST
DTSTART:20250330T010000
END:DAYLIGHT
BEGIN:STANDARD
TZOFFSETFROM:+0200
TZOFFSETTO:+0100
TZNAME:CET
DTSTART:20251026T010000
END:STANDARD
BEGIN:DAYLIGHT
TZOFFSETFROM:+0100
TZOFFSETTO:+0200
TZNAME:CEST
DTSTART:20260329T010000
END:DAYLIGHT
BEGIN:STANDARD
TZOFFSETFROM:+0200
TZOFFSETTO:+0100
TZNAME:CET
DTSTART:20261025T010000
END:STANDARD
END:VTIMEZONE
BEGIN:VEVENT
DTSTART;TZID=Europe/Paris:20250426T090000
DTEND;TZID=Europe/Paris:20250427T180000
DTSTAMP:20260421T073224
CREATED:20250218T152641Z
LAST-MODIFIED:20250313T162514Z
UID:10010605-1745658000-1745776800@crocoule.org
SUMMARY:ST-GAMIER | LES ATELIERS BIEN-ETRE TENDANCE BONHEUR
DESCRIPTION:Les ateliers bien-être Tendance Bonheur spécial bébé\, enfant de – 10 ans maman ou future maman accompagnée de papa\, ont lieu les 26 &27 avril 2025 à la Charpinière à St-Galmier à 20mn de Saint-Etienne.\nVenez en famille\, entre papa et maman\, avec grands frères et soeurs ou tout seul avec maman…On s’occupe de vous chouchouter…avec de nombreux ateliers et pratiques à découvrir + ateliers jeux pour enfants!\nVenez en famille\, entre papa et maman\, avec grands frères et soeurs ou tout seul avec maman…On s’occupe de vous chouchouter…avec de nombreux ateliers et pratiques à découvrir + ateliers jeux pour enfants! \nDécouverte de pratiques à travers des ateliers :\n– Les réflexes archaïques (pour favoriser les apprentissages liés à la motricité\, le langage\, la lecture\, le sommeil….)\n– Des massages bébés et mamans\n– De l’acupuncture et acupression pédiatrique\n– Du shiatsu pour les bébés et les enfants\n– De l’ostéopathie pour les bébés\, enfants\, adultes\n– Des accompagnements à la périnatalité et parentalité\n– Des conférences liées aux gestes de 1er secours\n– Des accompagnements allaitement\n– De l’homéopathie à la psychogénéalogie\n– Du yoga enfants\n– Du bien-être à l’école pour développer les compétences de l’enfant\n(la confiance en soi\, l’estime de soi\, les apprentissages…)\n-etc… \n\n\n	Similaire
URL:https://crocoule.org/notre-evenement/st-gamier-les-ateliers-bien-etre-tendance-bonheur/
LOCATION:La Charpinière\, La Charpinière\, Saint-Galmier\, 42330\, France
CATEGORIES:Activité du week-end,Activité pendant les vacances,Avec bébé dès la naissance,En famille,Exterieur,Intérieur,Tous les événements
END:VEVENT
END:VCALENDAR