BEGIN:VCALENDAR
VERSION:2.0
PRODID:-//Crocoule - ECPv6.15.15//NONSGML v1.0//EN
CALSCALE:GREGORIAN
METHOD:PUBLISH
X-ORIGINAL-URL:https://crocoule.org
X-WR-CALDESC:Évènements pour Crocoule
REFRESH-INTERVAL;VALUE=DURATION:PT1H
X-Robots-Tag:noindex
X-PUBLISHED-TTL:PT1H
BEGIN:VTIMEZONE
TZID:Europe/Paris
BEGIN:DAYLIGHT
TZOFFSETFROM:+0100
TZOFFSETTO:+0200
TZNAME:CEST
DTSTART:20220327T010000
END:DAYLIGHT
BEGIN:STANDARD
TZOFFSETFROM:+0200
TZOFFSETTO:+0100
TZNAME:CET
DTSTART:20221030T010000
END:STANDARD
BEGIN:DAYLIGHT
TZOFFSETFROM:+0100
TZOFFSETTO:+0200
TZNAME:CEST
DTSTART:20230326T010000
END:DAYLIGHT
BEGIN:STANDARD
TZOFFSETFROM:+0200
TZOFFSETTO:+0100
TZNAME:CET
DTSTART:20231029T010000
END:STANDARD
BEGIN:DAYLIGHT
TZOFFSETFROM:+0100
TZOFFSETTO:+0200
TZNAME:CEST
DTSTART:20240331T010000
END:DAYLIGHT
BEGIN:STANDARD
TZOFFSETFROM:+0200
TZOFFSETTO:+0100
TZNAME:CET
DTSTART:20241027T010000
END:STANDARD
END:VTIMEZONE
BEGIN:VEVENT
DTSTART;TZID=Europe/Paris:20230817T090000
DTEND;TZID=Europe/Paris:20230817T120000
DTSTAMP:20260421T174337
CREATED:20230801T121528Z
LAST-MODIFIED:20230801T121528Z
UID:10002180-1692262800-1692273600@crocoule.org
SUMMARY:Découverte de la pêche au coup
DESCRIPTION:Découverte de la pêche au coup\nDécouverte de la pêche au coup pendant les vacances ! \nL’AAPPMA de Monistrol Gournier vous propose de découvrir la pêche au coup au lieu dit « Le Chambon ». Matériel fourni. Pour les adultes et les enfants à partir de 8 ans accompagnés d’un adulte. \nRéservation obligatoire dans les bureaux d’accueil de l’OTI des Marches du Velay-Rochebaron. \nProgramme  \nLa pêche \nTout d’abord\, la pêche est une activité millénaire qui fascine les Hommes depuis des générations. En effet\, que ce soit en eau douce ou en mer\, la pêche offre une opportunité unique de se connecter à la nature et de se plonger dans un environnement paisible. En effet\, armé d’une canne à pêche et d’une patience infinie\, le pêcheur recherche l’excitation d’une prise. Mais trouve également la tranquillité dans le rythme apaisant de lancer et de ramener sa ligne. \nLa pêche est bien plus qu’un simple loisir\, c’est un art qui demande de la connaissance\, de la technique et un profond respect pour l’équilibre fragile des écosystèmes aquatiques. C’est un moyen de s’évader du tumulte de la vie quotidienne\, de se reconnecter à soi-même et de savourer l’instant présent. Que l’on pratique la pêche sportive ou la pêche traditionnelle\, c’est une activité qui unit les passionnés\, transmettant des valeurs de patience\, de persévérance et de respect de la nature. \nAdresse\nLe Chambon\n43120 La Chapelle-d’Aurec \n  \n\n\n	Similaire
URL:https://crocoule.org/notre-evenement/decouverte-de-la-peche-au-coup-3/
LOCATION:La Chapelle-d’Aurec\, Le Chambon\, La Chapelle-d'Aurec\, 43120
CATEGORIES:08 ans +
END:VEVENT
END:VCALENDAR