BEGIN:VCALENDAR
VERSION:2.0
PRODID:-//Crocoule - ECPv6.15.15//NONSGML v1.0//EN
CALSCALE:GREGORIAN
METHOD:PUBLISH
X-WR-CALNAME:Crocoule
X-ORIGINAL-URL:https://crocoule.org
X-WR-CALDESC:Évènements pour Crocoule
REFRESH-INTERVAL;VALUE=DURATION:PT1H
X-Robots-Tag:noindex
X-PUBLISHED-TTL:PT1H
BEGIN:VTIMEZONE
TZID:Europe/Paris
BEGIN:DAYLIGHT
TZOFFSETFROM:+0100
TZOFFSETTO:+0200
TZNAME:CEST
DTSTART:20210328T010000
END:DAYLIGHT
BEGIN:STANDARD
TZOFFSETFROM:+0200
TZOFFSETTO:+0100
TZNAME:CET
DTSTART:20211031T010000
END:STANDARD
BEGIN:DAYLIGHT
TZOFFSETFROM:+0100
TZOFFSETTO:+0200
TZNAME:CEST
DTSTART:20220327T010000
END:DAYLIGHT
BEGIN:STANDARD
TZOFFSETFROM:+0200
TZOFFSETTO:+0100
TZNAME:CET
DTSTART:20221030T010000
END:STANDARD
BEGIN:DAYLIGHT
TZOFFSETFROM:+0100
TZOFFSETTO:+0200
TZNAME:CEST
DTSTART:20230326T010000
END:DAYLIGHT
BEGIN:STANDARD
TZOFFSETFROM:+0200
TZOFFSETTO:+0100
TZNAME:CET
DTSTART:20231029T010000
END:STANDARD
BEGIN:DAYLIGHT
TZOFFSETFROM:+0100
TZOFFSETTO:+0200
TZNAME:CEST
DTSTART:20240331T010000
END:DAYLIGHT
BEGIN:STANDARD
TZOFFSETFROM:+0200
TZOFFSETTO:+0100
TZNAME:CET
DTSTART:20241027T010000
END:STANDARD
BEGIN:DAYLIGHT
TZOFFSETFROM:+0100
TZOFFSETTO:+0200
TZNAME:CEST
DTSTART:20250330T010000
END:DAYLIGHT
BEGIN:STANDARD
TZOFFSETFROM:+0200
TZOFFSETTO:+0100
TZNAME:CET
DTSTART:20251026T010000
END:STANDARD
BEGIN:DAYLIGHT
TZOFFSETFROM:+0100
TZOFFSETTO:+0200
TZNAME:CEST
DTSTART:20260329T010000
END:DAYLIGHT
BEGIN:STANDARD
TZOFFSETFROM:+0200
TZOFFSETTO:+0100
TZNAME:CET
DTSTART:20261025T010000
END:STANDARD
END:VTIMEZONE
BEGIN:VEVENT
DTSTART;TZID=Europe/Paris:20251129T080000
DTEND;TZID=Europe/Paris:20251130T170000
DTSTAMP:20260420T080912
CREATED:20251119T140202Z
LAST-MODIFIED:20251119T140202Z
UID:10012387-1764403200-1764522000@crocoule.org
SUMMARY:Ateliers de poterie enfant _ Monistrol sur Loire
DESCRIPTION:Des ateliers de poterie enfants (à partir de 6 ans) animés par Marie Dreux (2€) pendant que les parents pourront arpenter les stands des potier(e)s présents sur le marché de Potiers \n\n\n	Similaire
URL:https://crocoule.org/notre-evenement/ateliers-de-poterie-enfant-_-monistrol-sur-loire/
LOCATION:La Capitelle – Monistrol-sur-Loire\, 2 Boulevard François Mitterrand\, Monistrol-sur-Loire\, 43120
CATEGORIES:Tous les événements,Tout public
ATTACH;FMTTYPE=image/jpeg:https://crocoule.org/wp-content/uploads/2025/11/DSC_0075-scaled.jpg
END:VEVENT
BEGIN:VEVENT
DTSTART;TZID=Europe/Paris:20221224T150000
DTEND;TZID=Europe/Paris:20221224T160000
DTSTAMP:20260420T080912
CREATED:20221125T154106Z
LAST-MODIFIED:20221125T154106Z
UID:10000451-1671894000-1671897600@crocoule.org
SUMMARY:MAGIE\, JONGLERIE ET CLOWNS
DESCRIPTION:Spectacle de magie\, jonglerie et clowns\, Spectacle et goûter offerts par Monistrol Animation. \n04 71 66 03 14  \n  \n\n\n	Similaire
URL:https://crocoule.org/notre-evenement/magie-jonglerie-et-clowns/
LOCATION:La Capitelle – Monistrol-sur-Loire\, 2 Boulevard François Mitterrand\, Monistrol-sur-Loire\, 43120
END:VEVENT
BEGIN:VEVENT
DTSTART;TZID=Europe/Paris:20221219T143000
DTEND;TZID=Europe/Paris:20221219T143000
DTSTAMP:20260420T080912
CREATED:20221125T144204Z
LAST-MODIFIED:20221125T144204Z
UID:10000427-1671460200-1671460200@crocoule.org
SUMMARY:HARRY POTTER À L'ÉCOLE DES SORCI- ERS SUR GRAND ÉCRAN
DESCRIPTION:Projection du premier volet de la saga\, suivie d’un goûter animé par un magicien. \n\n\n	Similaire
URL:https://crocoule.org/notre-evenement/harry-potter-a-lecole-des-sorci-ers-sur-grand-ecran/
LOCATION:La Capitelle – Monistrol-sur-Loire\, 2 Boulevard François Mitterrand\, Monistrol-sur-Loire\, 43120
END:VEVENT
END:VCALENDAR