BEGIN:VCALENDAR
VERSION:2.0
PRODID:-//Crocoule - ECPv6.15.20//NONSGML v1.0//EN
CALSCALE:GREGORIAN
METHOD:PUBLISH
X-ORIGINAL-URL:https://crocoule.org
X-WR-CALDESC:Évènements pour Crocoule
REFRESH-INTERVAL;VALUE=DURATION:PT1H
X-Robots-Tag:noindex
X-PUBLISHED-TTL:PT1H
BEGIN:VTIMEZONE
TZID:Europe/Paris
BEGIN:DAYLIGHT
TZOFFSETFROM:+0100
TZOFFSETTO:+0200
TZNAME:CEST
DTSTART:20220327T010000
END:DAYLIGHT
BEGIN:STANDARD
TZOFFSETFROM:+0200
TZOFFSETTO:+0100
TZNAME:CET
DTSTART:20221030T010000
END:STANDARD
BEGIN:DAYLIGHT
TZOFFSETFROM:+0100
TZOFFSETTO:+0200
TZNAME:CEST
DTSTART:20230326T010000
END:DAYLIGHT
BEGIN:STANDARD
TZOFFSETFROM:+0200
TZOFFSETTO:+0100
TZNAME:CET
DTSTART:20231029T010000
END:STANDARD
BEGIN:DAYLIGHT
TZOFFSETFROM:+0100
TZOFFSETTO:+0200
TZNAME:CEST
DTSTART:20240331T010000
END:DAYLIGHT
BEGIN:STANDARD
TZOFFSETFROM:+0200
TZOFFSETTO:+0100
TZNAME:CET
DTSTART:20241027T010000
END:STANDARD
END:VTIMEZONE
BEGIN:VEVENT
DTSTART;TZID=Europe/Paris:20230823T140000
DTEND;TZID=Europe/Paris:20230823T140000
DTSTAMP:20260423T003256
CREATED:20230802T064024Z
LAST-MODIFIED:20230802T082603Z
UID:10002207-1692799200-1692799200@crocoule.org
SUMMARY:Lectures sous l’arbre
DESCRIPTION:Lectures sous l’arbre\nDécouvrez lectures sous l’arbre dans la haute loire pendant les vacances. \n\nÀ vos marques\, prêts ? Partez à la découverte d’un auteur mystère lors d’une captivante balade parsemée d’indices intrigants. \nÉvoluant à une altitude de 1000 mètres ! Cette semaine dédiée à la poésie et à la littérature contemporaines vous réserve un programme des plus enrichissants. \nAu menu : des rencontres privilégiées avec des auteurs\, des lectures envoûtantes. Mais aussi des balades littéraires envoûtantes\, des séances de cinéma inspirantes\, des conférences passionnantes centrées sur le pays invité. L’Espagne\, ainsi que des repas partagés en compagnie d’écrivains renommés. \nMais ce n’est pas tout\, puisque cette édition mettra également à l’honneur les éditions Métailié et l’artiste talentueuse Mireille Fulpius. Tout au long de cette semaine mémorable\, vous serez invité à dénicher les indices soigneusement disséminés pour percer le mystère de l’auteur inconnu\, faisant ainsi de cette expérience un moment littéraire des plus captivants. Alors\, saisissez cette opportunité unique et plongez-vous dans l’univers envoûtant de la littérature contemporaine ! \n\nEntrée libre\, tarifs réduits\nDe plus\, l’entrée à de très nombreuses manifestations est offerte. Pour les soirées\, un tarif réduit (50%) est proposé aux moins de 26 ans\, stagiaires et demandeurs d’emploi. Pass Culture et Chèques-vacances acceptés. \n\nAccès\nLa programmation des Lectures sous l’arbre se fait sur l’ensemble du Plateau Vivarais-Lignon. En effet\, le site principal du festival est situé à : L’Arbre vagabond\, Lieu-dit Cheyne\, 43400 Le Chambon-sur-Lignon. \nInformations \n\n\n\n	Similaire
URL:https://crocoule.org/notre-evenement/lectures-sous-larbre-2/
LOCATION:L’ Arbre vagabond\, Lieu-dit Cheyne\, Le Chambon-sur-Lignon\, 43400
END:VEVENT
BEGIN:VEVENT
DTSTART;TZID=Europe/Paris:20230823T100000
DTEND;TZID=Europe/Paris:20230823T100000
DTSTAMP:20260423T003256
CREATED:20230802T063620Z
LAST-MODIFIED:20230802T063620Z
UID:10002206-1692784800-1692784800@crocoule.org
SUMMARY:Lectures sous l’arbre
DESCRIPTION:Lectures sous l’arbre\nDécouvrez lectures sous l’arbre dans la haute loire pendant les vacances. \n\nÀ vos marques\, prêts ? Partez à la découverte d’un auteur mystère lors d’une captivante balade parsemée d’indices intrigants. \nÉvoluant à une altitude de 1000 mètres ! Cette semaine dédiée à la poésie et à la littérature contemporaines vous réserve un programme des plus enrichissants. \nAu menu : des rencontres privilégiées avec des auteurs\, des lectures envoûtantes. Mais aussi des balades littéraires envoûtantes\, des séances de cinéma inspirantes\, des conférences passionnantes centrées sur le pays invité. L’Espagne\, ainsi que des repas partagés en compagnie d’écrivains renommés. \nMais ce n’est pas tout\, puisque cette édition mettra également à l’honneur les éditions Métailié et l’artiste talentueuse Mireille Fulpius. Tout au long de cette semaine mémorable\, vous serez invité à dénicher les indices soigneusement disséminés pour percer le mystère de l’auteur inconnu\, faisant ainsi de cette expérience un moment littéraire des plus captivants. Alors\, saisissez cette opportunité unique et plongez-vous dans l’univers envoûtant de la littérature contemporaine ! \n\nEntrée libre\, tarifs réduits\nDe plus\, l’entrée à de très nombreuses manifestations est offerte. Pour les soirées\, un tarif réduit (50%) est proposé aux moins de 26 ans\, stagiaires et demandeurs d’emploi. Pass Culture et Chèques-vacances acceptés. \n\nAccès\nLa programmation des Lectures sous l’arbre se fait sur l’ensemble du Plateau Vivarais-Lignon. En effet\, le site principal du festival est situé à : L’Arbre vagabond\, Lieu-dit Cheyne\, 43400 Le Chambon-sur-Lignon. \nInformations \n\n\n\n	Similaire
URL:https://crocoule.org/notre-evenement/lectures-sous-larbre/
LOCATION:L’ Arbre vagabond\, Lieu-dit Cheyne\, Le Chambon-sur-Lignon\, 43400
END:VEVENT
END:VCALENDAR