BEGIN:VCALENDAR
VERSION:2.0
PRODID:-//Crocoule - ECPv6.15.15//NONSGML v1.0//EN
CALSCALE:GREGORIAN
METHOD:PUBLISH
X-ORIGINAL-URL:https://crocoule.org
X-WR-CALDESC:Évènements pour Crocoule
REFRESH-INTERVAL;VALUE=DURATION:PT1H
X-Robots-Tag:noindex
X-PUBLISHED-TTL:PT1H
BEGIN:VTIMEZONE
TZID:Europe/Paris
BEGIN:DAYLIGHT
TZOFFSETFROM:+0100
TZOFFSETTO:+0200
TZNAME:CEST
DTSTART:20240331T010000
END:DAYLIGHT
BEGIN:STANDARD
TZOFFSETFROM:+0200
TZOFFSETTO:+0100
TZNAME:CET
DTSTART:20241027T010000
END:STANDARD
BEGIN:DAYLIGHT
TZOFFSETFROM:+0100
TZOFFSETTO:+0200
TZNAME:CEST
DTSTART:20250330T010000
END:DAYLIGHT
BEGIN:STANDARD
TZOFFSETFROM:+0200
TZOFFSETTO:+0100
TZNAME:CET
DTSTART:20251026T010000
END:STANDARD
BEGIN:DAYLIGHT
TZOFFSETFROM:+0100
TZOFFSETTO:+0200
TZNAME:CEST
DTSTART:20260329T010000
END:DAYLIGHT
BEGIN:STANDARD
TZOFFSETFROM:+0200
TZOFFSETTO:+0100
TZNAME:CET
DTSTART:20261025T010000
END:STANDARD
BEGIN:DAYLIGHT
TZOFFSETFROM:+0100
TZOFFSETTO:+0200
TZNAME:CEST
DTSTART:20270328T010000
END:DAYLIGHT
BEGIN:STANDARD
TZOFFSETFROM:+0200
TZOFFSETTO:+0100
TZNAME:CET
DTSTART:20271031T010000
END:STANDARD
END:VTIMEZONE
BEGIN:VEVENT
DTSTART;TZID=Europe/Paris:20260314T100000
DTEND;TZID=Europe/Paris:20260314T113000
DTSTAMP:20260422T173038
CREATED:20260301T105320Z
LAST-MODIFIED:20260301T105320Z
UID:10012994-1773482400-1773487800@crocoule.org
SUMMARY:Saint etienne | Atelier Créatif Parent/Enfant Suspension système solaire
DESCRIPTION:Création ensemble enfant et parent d’une suspension representant le système solaire \n\n\n	Similaire
URL:https://crocoule.org/notre-evenement/saint-etienne-atelier-creatif-parent-enfant-suspension-systeme-solaire/
LOCATION:Kit Création\, 4 Rue Philippon\, St Etienne\, 42000\, France
CATEGORIES:04 ans +,Activité du week-end,En famille,Intérieur,Tous les événements
ATTACH;FMTTYPE=image/webp:https://crocoule.org/wp-content/uploads/2026/03/mars.jpeg-vy70Ot.webp
END:VEVENT
BEGIN:VEVENT
DTSTART;TZID=Europe/Paris:20260307T150000
DTEND;TZID=Europe/Paris:20260307T160000
DTSTAMP:20260422T173038
CREATED:20260301T105319Z
LAST-MODIFIED:20260301T105319Z
UID:10012993-1772895600-1772899200@crocoule.org
SUMMARY:Saint-Etienne | Atelier Créatif Enfant Décor sur tuille en terre cuite
DESCRIPTION:Décoration sur une grande tuile en terre cuite \n\n\n	Similaire
URL:https://crocoule.org/notre-evenement/saint-etienne-atelier-creatif-enfant-decor-sur-tuille-en-terre-cuite/
LOCATION:Kit Création\, 4 Rue Philippon\, St Etienne\, 42000\, France
CATEGORIES:04 ans +,Activité du week-end,Intérieur,Tous les événements
ATTACH;FMTTYPE=image/webp:https://crocoule.org/wp-content/uploads/2026/03/mars.jpeg-fKhhgu.webp
END:VEVENT
BEGIN:VEVENT
DTSTART;TZID=Europe/Paris:20260304T150000
DTEND;TZID=Europe/Paris:20260304T163000
DTSTAMP:20260422T173038
CREATED:20260301T105317Z
LAST-MODIFIED:20260301T105317Z
UID:10012992-1772636400-1772641800@crocoule.org
SUMMARY:Saint etienne | Atelier Créatif Enfant Tableau Grenouille
DESCRIPTION:Création d’un tableau representant une grenouille en 3D \n\n\n	Similaire
URL:https://crocoule.org/notre-evenement/saint-etienne-atelier-creatif-enfant-tableau-grenouille/
LOCATION:Kit Création\, 4 Rue Philippon\, St Etienne\, 42000\, France
CATEGORIES:04 ans +,Activité en semaine,Intérieur,Tous les événements
ATTACH;FMTTYPE=image/webp:https://crocoule.org/wp-content/uploads/2026/03/mars.jpeg-pYs9fy.webp
END:VEVENT
BEGIN:VEVENT
DTSTART;TZID=Europe/Paris:20251129T150000
DTEND;TZID=Europe/Paris:20251129T163000
DTSTAMP:20260422T173038
CREATED:20250826T144248Z
LAST-MODIFIED:20250828T142350Z
UID:10011697-1764428400-1764433800@crocoule.org
SUMMARY:Saint-Etienne | Atelier Créatif Enfant Fleurs de Noël en chenilles et perles
DESCRIPTION:Nous allons créer des fleurs en chenille incrustant des perles \n\n\n	Similaire
URL:https://crocoule.org/notre-evenement/saint-etienne-atelier-creatif-enfant-fleurs-de-noel-en-chenilles-et-perles/
LOCATION:Kit Création\, 4 Rue Philippon\, St Etienne\, 42000\, France
CATEGORIES:04 ans +,Activité du week-end,Intérieur,Tous les événements
END:VEVENT
BEGIN:VEVENT
DTSTART;TZID=Europe/Paris:20251129T100000
DTEND;TZID=Europe/Paris:20251129T113000
DTSTAMP:20260422T173038
CREATED:20250826T144246Z
LAST-MODIFIED:20250828T142349Z
UID:10011696-1764410400-1764415800@crocoule.org
SUMMARY:Saint-Etienne | Atelier Créatif Parent/Enfant Décors pour le sapin en mousse EVA
DESCRIPTION:Nous créer des suspensions pour le sapin en mousse EVA \n\n\n	Similaire
URL:https://crocoule.org/notre-evenement/saint-etienne-atelier-creatif-parent-enfant-decors-pour-le-sapin-en-mousse-eva/
LOCATION:Kit Création\, 4 Rue Philippon\, St Etienne\, 42000\, France
CATEGORIES:04 ans +,Activité du week-end,En famille,Intérieur,Tous les événements
END:VEVENT
BEGIN:VEVENT
DTSTART;TZID=Europe/Paris:20251126T150000
DTEND;TZID=Europe/Paris:20251126T163000
DTSTAMP:20260422T173038
CREATED:20250826T144245Z
LAST-MODIFIED:20250828T142348Z
UID:10011695-1764169200-1764174600@crocoule.org
SUMMARY:Saint etienne | Atelier Créatif Enfants Décor de Noël HO HO HO
DESCRIPTION:Nous créer une déco representant le HO HO HO du papa Noël \n\n\n	Similaire
URL:https://crocoule.org/notre-evenement/saint-etienne-atelier-creatif-enfants-decor-de-noel-ho-ho-ho/
LOCATION:Kit Création\, 4 Rue Philippon\, St Etienne\, 42000\, France
CATEGORIES:04 ans +,Activité en semaine,Intérieur,Tous les événements
END:VEVENT
BEGIN:VEVENT
DTSTART;TZID=Europe/Paris:20251122T150000
DTEND;TZID=Europe/Paris:20251122T163000
DTSTAMP:20260422T173038
CREATED:20250826T144241Z
LAST-MODIFIED:20250828T142346Z
UID:10011694-1763823600-1763829000@crocoule.org
SUMMARY:Saint etienne | Atelier Créatif Enfants Petit train de Noël
DESCRIPTION:Nous allons créer un petit train miniature transportant des cadeaux de Noël \n\n\n	Similaire
URL:https://crocoule.org/notre-evenement/saint-etienne-atelier-creatif-enfants-petit-train-de-noel/
LOCATION:Kit Création\, 4 Rue Philippon\, St Etienne\, 42000\, France
CATEGORIES:04 ans +,Activité du week-end,Intérieur,Tous les événements
END:VEVENT
BEGIN:VEVENT
DTSTART;TZID=Europe/Paris:20251115T150000
DTEND;TZID=Europe/Paris:20251115T163000
DTSTAMP:20260422T173038
CREATED:20250826T144239Z
LAST-MODIFIED:20250826T144950Z
UID:10011693-1763218800-1763224200@crocoule.org
SUMMARY:Saint etienne | Atelier Créatif Enfant Minis lanternes suspendus animaux de la forêt
DESCRIPTION:Nous allons créer des petites lanternes suspendues representant des animaux de la fôret \n\n\n	Similaire
URL:https://crocoule.org/notre-evenement/saint-etienne-atelier-creatif-enfant-minis-lanternes-suspendus-animaux-de-la-foret/
LOCATION:Kit Création\, 4 Rue Philippon\, St Etienne\, 42000\, France
END:VEVENT
BEGIN:VEVENT
DTSTART;TZID=Europe/Paris:20251115T150000
DTEND;TZID=Europe/Paris:20251115T150000
DTSTAMP:20260422T173038
CREATED:20250828T142345Z
LAST-MODIFIED:20250828T142345Z
UID:10012054-1763218800-1763218800@crocoule.org
SUMMARY:Saint etienne | Atelier Créatif Enfant Minis lanternes suspendus animaux de la forêt
DESCRIPTION:Nous allons créer des petites lanternes suspendues representant des animaux de la fôret \n\n\n	Similaire
URL:https://crocoule.org/notre-evenement/saint-etienne-atelier-creatif-enfant-minis-lanternes-suspendus-animaux-de-la-foret-2/
LOCATION:Kit Création\, 4 Rue Philippon\, St Etienne\, 42000\, France
CATEGORIES:04 ans +,Activité du week-end,Intérieur,Tous les événements
END:VEVENT
BEGIN:VEVENT
DTSTART;TZID=Europe/Paris:20251115T100000
DTEND;TZID=Europe/Paris:20251115T113000
DTSTAMP:20260422T173038
CREATED:20250826T144238Z
LAST-MODIFIED:20250828T142149Z
UID:10011692-1763200800-1763206200@crocoule.org
SUMMARY:Saint etienne | Atelier Créatif Parent/Enfant Carrousel des rennes
DESCRIPTION:nous allons créer et monter un caroussel en cartion ainsi que les rennes en mousse eva \n\n\n	Similaire
URL:https://crocoule.org/notre-evenement/saint-etienne-atelier-creatif-parent-enfant-carrousel-des-rennes/
LOCATION:Kit Création\, 4 Rue Philippon\, St Etienne\, 42000\, France
CATEGORIES:04 ans +,Activité du week-end,En famille,Intérieur,Tous les événements
END:VEVENT
BEGIN:VEVENT
DTSTART;TZID=Europe/Paris:20251112T150000
DTEND;TZID=Europe/Paris:20251112T163000
DTSTAMP:20260422T173038
CREATED:20250826T144236Z
LAST-MODIFIED:20250828T142147Z
UID:10011691-1762959600-1762965000@crocoule.org
SUMMARY:Saint etienne | Atelier Créatif Enfant Renard en feutrine
DESCRIPTION:Nous créer et coudre facilement un renard en feutrine et le rembourrer \n\n\n	Similaire
URL:https://crocoule.org/notre-evenement/saint-etienne-atelier-creatif-enfant-renard-en-feutrine/
LOCATION:Kit Création\, 4 Rue Philippon\, St Etienne\, 42000\, France
CATEGORIES:04 ans +,Activité en semaine,Intérieur,Tous les événements
END:VEVENT
BEGIN:VEVENT
DTSTART;TZID=Europe/Paris:20251031T100000
DTEND;TZID=Europe/Paris:20251031T190000
DTSTAMP:20260422T173038
CREATED:20250828T142147Z
LAST-MODIFIED:20250828T142147Z
UID:10012053-1761904800-1761937200@crocoule.org
SUMMARY:Saint etienne | Distribution de bonbons
DESCRIPTION:Venez déguisez tout au long de la journée (je le suis aussi) j’attend la formule et je distribue des bonbons \n\n\n	Similaire
URL:https://crocoule.org/notre-evenement/saint-etienne-distribution-de-bonbons-2/
LOCATION:Kit Création\, 4 Rue Philippon\, St Etienne\, 42000\, France
CATEGORIES:01 an +,Activité en semaine,Activité pendant les vacances,En famille,Gratuit,Tous les événements
END:VEVENT
BEGIN:VEVENT
DTSTART;TZID=Europe/Paris:20251031T100000
DTEND;TZID=Europe/Paris:20251031T100000
DTSTAMP:20260422T173038
CREATED:20250826T144236Z
LAST-MODIFIED:20250826T144947Z
UID:10011690-1761904800-1761904800@crocoule.org
SUMMARY:Saint etienne | Distribution de bonbons
DESCRIPTION:Venez déguisez tout au long de la journée (je le suis aussi) j’attend la formule et je distribue des bonbons \n\n\n	Similaire
URL:https://crocoule.org/notre-evenement/saint-etienne-distribution-de-bonbons/
LOCATION:Kit Création\, 4 Rue Philippon\, St Etienne\, 42000\, France
END:VEVENT
BEGIN:VEVENT
DTSTART;TZID=Europe/Paris:20251030T150000
DTEND;TZID=Europe/Paris:20251030T163000
DTSTAMP:20260422T173038
CREATED:20250826T144231Z
LAST-MODIFIED:20250828T142146Z
UID:10011689-1761836400-1761841800@crocoule.org
SUMMARY:Saint etienne | Atelier Créatif Enfant Lanterne Halloween
DESCRIPTION:Nous allons créer une petite lanterne sur le thème d’Halloween \n\n\n	Similaire
URL:https://crocoule.org/notre-evenement/saint-etienne-atelier-creatif-enfant-lanterne-halloween/
LOCATION:Kit Création\, 4 Rue Philippon\, St Etienne\, 42000\, France
CATEGORIES:04 ans +,Activité en semaine,Activité pendant les vacances,Intérieur,Tous les événements
END:VEVENT
BEGIN:VEVENT
DTSTART;TZID=Europe/Paris:20251029T150000
DTEND;TZID=Europe/Paris:20251029T163000
DTSTAMP:20260422T173038
CREATED:20250826T144230Z
LAST-MODIFIED:20250828T142144Z
UID:10011688-1761750000-1761755400@crocoule.org
SUMMARY:Saint etienne | Atelier Créatif Enfant Citrouille\, fantôme en feutrine
DESCRIPTION:Nous allons créer et coudre facilement un citrouille et un fantôme en feutrine \n\n\n	Similaire
URL:https://crocoule.org/notre-evenement/saint-etienne-atelier-creatif-enfant-citrouille-fantome-en-feutrine/
LOCATION:Kit Création\, 4 Rue Philippon\, St Etienne\, 42000\, France
CATEGORIES:04 ans +,Activité en semaine,Activité pendant les vacances,Intérieur,Tous les événements
END:VEVENT
BEGIN:VEVENT
DTSTART;TZID=Europe/Paris:20251025T150000
DTEND;TZID=Europe/Paris:20251025T163000
DTSTAMP:20260422T173038
CREATED:20250826T144228Z
LAST-MODIFIED:20250828T141949Z
UID:10011687-1761404400-1761409800@crocoule.org
SUMMARY:Saint etienne | Atelier Créatif Enfant Sac à bonbons monstres
DESCRIPTION:Nous allons créer un sac representant un monstre pour aller récolter les bonbons le jour d’Halloween \n\n\n	Similaire
URL:https://crocoule.org/notre-evenement/saint-etienne-atelier-creatif-enfant-sac-a-bonbons-monstres/
LOCATION:Kit Création\, 4 Rue Philippon\, St Etienne\, 42000\, France
CATEGORIES:04 ans +,Activité du week-end,Activité pendant les vacances,En famille,Tous les événements
END:VEVENT
BEGIN:VEVENT
DTSTART;TZID=Europe/Paris:20251025T100000
DTEND;TZID=Europe/Paris:20251025T113000
DTSTAMP:20260422T173038
CREATED:20250826T144227Z
LAST-MODIFIED:20250828T141947Z
UID:10011686-1761386400-1761391800@crocoule.org
SUMMARY:Saint etienne | Atelier Créatif Parent/Enfant Attrapre rêve d'Halloween
DESCRIPTION:Nous allons créer un attrape rêve autour du thème d’Halloween \n\n\n	Similaire
URL:https://crocoule.org/notre-evenement/saint-etienne-atelier-creatif-parent-enfant-attrapre-reve-dhalloween/
LOCATION:Kit Création\, 4 Rue Philippon\, St Etienne\, 42000\, France
CATEGORIES:04 ans +,Activité du week-end,Activité pendant les vacances,En famille,Intérieur,Tous les événements
END:VEVENT
BEGIN:VEVENT
DTSTART;TZID=Europe/Paris:20251023T150000
DTEND;TZID=Europe/Paris:20251023T163000
DTSTAMP:20260422T173038
CREATED:20250826T144225Z
LAST-MODIFIED:20250828T141946Z
UID:10011685-1761231600-1761237000@crocoule.org
SUMMARY:Saint etienne | Atelier Créatif Enfant Tableau monstres riigolos
DESCRIPTION:Nous allons créer un tableau representant de petits monstres rigolos avec des yeux qui bouge \n\n\n	Similaire
URL:https://crocoule.org/notre-evenement/saint-etienne-atelier-creatif-enfant-tableau-monstres-riigolos/
LOCATION:Kit Création\, 4 Rue Philippon\, St Etienne\, 42000\, France
CATEGORIES:04 ans +,Activité en semaine,Activité pendant les vacances,Intérieur,Tous les événements
END:VEVENT
BEGIN:VEVENT
DTSTART;TZID=Europe/Paris:20251022T150000
DTEND;TZID=Europe/Paris:20251022T163000
DTSTAMP:20260422T173038
CREATED:20250826T144217Z
LAST-MODIFIED:20250828T141945Z
UID:10011684-1761145200-1761150600@crocoule.org
SUMMARY:Saint etienne | Atelier Créatif Enfant Guirlande Halloween
DESCRIPTION:Nous allons créer une guirlande avec fantômes\, squelettes\, chauve-souris \n\n\n	Similaire
URL:https://crocoule.org/notre-evenement/saint-etienne-atelier-creatif-enfant-guirlande-halloween/
LOCATION:Kit Création\, 4 Rue Philippon\, St Etienne\, 42000\, France
CATEGORIES:04 ans +,Activité en semaine,Activité pendant les vacances,Intérieur,Tous les événements
END:VEVENT
BEGIN:VEVENT
DTSTART;TZID=Europe/Paris:20251018T150000
DTEND;TZID=Europe/Paris:20251018T163000
DTSTAMP:20260422T173038
CREATED:20250826T144216Z
LAST-MODIFIED:20250828T141943Z
UID:10011683-1760799600-1760805000@crocoule.org
SUMMARY:Saint etienne | Atelier Créatif Enfant Baguette Magique
DESCRIPTION:Nous allons créer une baguette magique et la décorer \n\n\n	Similaire
URL:https://crocoule.org/notre-evenement/saint-etienne-atelier-creatif-enfant-baguette-magique/
LOCATION:Kit Création\, 4 Rue Philippon\, St Etienne\, 42000\, France
CATEGORIES:04 ans +,Activité du week-end,Intérieur,Tous les événements
END:VEVENT
BEGIN:VEVENT
DTSTART;TZID=Europe/Paris:20251011T100000
DTEND;TZID=Europe/Paris:20251011T113000
DTSTAMP:20260422T173038
CREATED:20250826T144214Z
LAST-MODIFIED:20250828T141744Z
UID:10011682-1760176800-1760182200@crocoule.org
SUMMARY:Saint etienne | Atelier Créatif Parent/Enfant Jeu morpion spécial halloween
DESCRIPTION:Nous allons créer un jeu morpion spécial Halloween tapis de jeu et pions \n\n\n	Similaire
URL:https://crocoule.org/notre-evenement/saint-etienne-atelier-creatif-parent-enfant-jeu-morpion-special-halloween/
LOCATION:Kit Création\, 4 Rue Philippon\, St Etienne\, 42000\, France
CATEGORIES:04 ans +,Activité du week-end,En famille,Intérieur,Tous les événements
END:VEVENT
BEGIN:VEVENT
DTSTART;TZID=Europe/Paris:20251008T150000
DTEND;TZID=Europe/Paris:20251008T163000
DTSTAMP:20260422T173038
CREATED:20250826T144213Z
LAST-MODIFIED:20250828T141743Z
UID:10011681-1759935600-1759941000@crocoule.org
SUMMARY:Saint etienne | Atelier Créatif Enfant La maison du village hanté
DESCRIPTION:Nous allons créer un sujet d’Halloween representant une maison hantée \n\n\n	Similaire
URL:https://crocoule.org/notre-evenement/saint-etienne-atelier-creatif-enfant-la-maison-du-village-hante/
LOCATION:Kit Création\, 4 Rue Philippon\, St Etienne\, 42000\, France
CATEGORIES:04 ans +,Activité en semaine,Intérieur,Tous les événements
END:VEVENT
BEGIN:VEVENT
DTSTART;TZID=Europe/Paris:20251004T150000
DTEND;TZID=Europe/Paris:20251004T163000
DTSTAMP:20260422T173038
CREATED:20250826T144211Z
LAST-MODIFIED:20250828T141742Z
UID:10011680-1759590000-1759595400@crocoule.org
SUMMARY:Saint etienne | Atelier Créatif Enfant Le champignon et sa fleur féérique
DESCRIPTION:Nous allons créer un petit champignon et un fleur féerique décoratif \n\n\n	Similaire
URL:https://crocoule.org/notre-evenement/saint-etienne-atelier-creatif-enfant-le-champignon-et-sa-fleur-feerique/
LOCATION:Kit Création\, 4 Rue Philippon\, St Etienne\, 42000\, France
CATEGORIES:04 ans +,Activité du week-end,Intérieur,Tous les événements
END:VEVENT
BEGIN:VEVENT
DTSTART;TZID=Europe/Paris:20250927T150000
DTEND;TZID=Europe/Paris:20250927T163000
DTSTAMP:20260422T173038
CREATED:20250828T141741Z
LAST-MODIFIED:20250828T141741Z
UID:10012052-1758985200-1758990600@crocoule.org
SUMMARY:Saint etienne | Atelier Créatif Enfant Création de magnets
DESCRIPTION:Création d’aimants décoratifs de différentes matières \n\n\n	Similaire
URL:https://crocoule.org/notre-evenement/saint-etienne-atelier-creatif-enfant-creation-de-magnets-3/
LOCATION:Kit Création\, 4 Rue Philippon\, St Etienne\, 42000\, France
CATEGORIES:04 ans +,Activité du week-end,Intérieur,Tous les événements
END:VEVENT
BEGIN:VEVENT
DTSTART;TZID=Europe/Paris:20250927T150000
DTEND;TZID=Europe/Paris:20250927T150000
DTSTAMP:20260422T173038
CREATED:20250826T144152Z
LAST-MODIFIED:20250826T144914Z
UID:10011679-1758985200-1758985200@crocoule.org
SUMMARY:Saint etienne | Atelier Créatif Enfant Création de magnets
DESCRIPTION:Création d’aimants décoratifs de différentes matières \n\n\n	Similaire
URL:https://crocoule.org/notre-evenement/saint-etienne-atelier-creatif-enfant-creation-de-magnets-2/
LOCATION:Kit Création\, 4 Rue Philippon\, St Etienne\, 42000\, France
CATEGORIES:04 ans +,Activité du week-end,Intérieur,Tous les événements
END:VEVENT
BEGIN:VEVENT
DTSTART;TZID=Europe/Paris:20250927T100000
DTEND;TZID=Europe/Paris:20250927T113000
DTSTAMP:20260422T173038
CREATED:20250826T144150Z
LAST-MODIFIED:20250828T141739Z
UID:10011678-1758967200-1758972600@crocoule.org
SUMMARY:Saint etienne | Atelier Créatif Parent/Enfant Le train pot de crayons
DESCRIPTION:Nous allons créer un train en carton et le décorer qui servira de pots à crayons \n\n\n	Similaire
URL:https://crocoule.org/notre-evenement/saint-etienne-atelier-creatif-parent-enfant-le-train-pot-de-crayons/
LOCATION:Kit Création\, 4 Rue Philippon\, St Etienne\, 42000\, France
CATEGORIES:04 ans +,Activité du week-end,Intérieur,Tous les événements
END:VEVENT
BEGIN:VEVENT
DTSTART;TZID=Europe/Paris:20250924T150000
DTEND;TZID=Europe/Paris:20250924T163000
DTSTAMP:20260422T173038
CREATED:20250826T144148Z
LAST-MODIFIED:20250828T141734Z
UID:10011677-1758726000-1758731400@crocoule.org
SUMMARY:Saint etienne | Atelier Créatif Enfant Minis jardinière de plantes
DESCRIPTION:Nous allons créer une miniature : jardinière et plantes en papier \n\n\n	Similaire
URL:https://crocoule.org/notre-evenement/saint-etienne-atelier-creatif-enfant-minis-jardiniere-de-plantes/
LOCATION:Kit Création\, 4 Rue Philippon\, St Etienne\, 42000\, France
CATEGORIES:04 ans +,Activité en semaine,Intérieur,Tous les événements
END:VEVENT
BEGIN:VEVENT
DTSTART;TZID=Europe/Paris:20250920T150000
DTEND;TZID=Europe/Paris:20250920T163000
DTSTAMP:20260422T173038
CREATED:20250826T144146Z
LAST-MODIFIED:20250828T141733Z
UID:10011676-1758380400-1758385800@crocoule.org
SUMMARY:Saint etienne | Atelier Créatif Enfant Dot painting sur galet en plâtre
DESCRIPTION:Nous allons créez des galets en plâtre\, puis les décorer avec de la technique du dot painting \n\n\n	Similaire
URL:https://crocoule.org/notre-evenement/saint-etienne-atelier-creatif-enfant-dot-painting-sur-galet-en-platre/
LOCATION:Kit Création\, 4 Rue Philippon\, St Etienne\, 42000\, France
CATEGORIES:04 ans +,Activité du week-end,En famille,Intérieur,Tous les événements
END:VEVENT
BEGIN:VEVENT
DTSTART;TZID=Europe/Paris:20250913T100000
DTEND;TZID=Europe/Paris:20250913T113000
DTSTAMP:20260422T173038
CREATED:20250826T144144Z
LAST-MODIFIED:20250828T141732Z
UID:10011675-1757757600-1757763000@crocoule.org
SUMMARY:Saint etienne | Atelier Créatif Parent/Enfant Calendrier Anniversaires
DESCRIPTION:Nous allons créer un calendrier des anniversaires perpétuel \n\n\n	Similaire
URL:https://crocoule.org/notre-evenement/saint-etienne-atelier-creatif-parent-enfant-calendrier-anniversaires/
LOCATION:Kit Création\, 4 Rue Philippon\, St Etienne\, 42000\, France
CATEGORIES:04 ans +,Activité du week-end,Adultes,En famille,Intérieur,Tous les événements
END:VEVENT
BEGIN:VEVENT
DTSTART;TZID=Europe/Paris:20250910T150000
DTEND;TZID=Europe/Paris:20250910T163000
DTSTAMP:20260422T173038
CREATED:20250826T144133Z
LAST-MODIFIED:20250828T141731Z
UID:10011674-1757516400-1757521800@crocoule.org
SUMMARY:Saint etienne | Atelier Créatif Enfant Création de magnets
DESCRIPTION:Création d’aimants décoratifs de différentes matières \n\n\n	Similaire
URL:https://crocoule.org/notre-evenement/saint-etienne-atelier-creatif-enfant-creation-de-magnets/
LOCATION:Kit Création\, 4 Rue Philippon\, St Etienne\, 42000\, France
CATEGORIES:04 ans +,Activité en semaine,Intérieur,Tous les événements
END:VEVENT
END:VCALENDAR