BEGIN:VCALENDAR
VERSION:2.0
PRODID:-//Crocoule - ECPv6.15.15//NONSGML v1.0//EN
CALSCALE:GREGORIAN
METHOD:PUBLISH
X-ORIGINAL-URL:https://crocoule.org
X-WR-CALDESC:Évènements pour Crocoule
REFRESH-INTERVAL;VALUE=DURATION:PT1H
X-Robots-Tag:noindex
X-PUBLISHED-TTL:PT1H
BEGIN:VTIMEZONE
TZID:Europe/Paris
BEGIN:DAYLIGHT
TZOFFSETFROM:+0100
TZOFFSETTO:+0200
TZNAME:CEST
DTSTART:20250330T010000
END:DAYLIGHT
BEGIN:STANDARD
TZOFFSETFROM:+0200
TZOFFSETTO:+0100
TZNAME:CET
DTSTART:20251026T010000
END:STANDARD
BEGIN:DAYLIGHT
TZOFFSETFROM:+0100
TZOFFSETTO:+0200
TZNAME:CEST
DTSTART:20260329T010000
END:DAYLIGHT
BEGIN:STANDARD
TZOFFSETFROM:+0200
TZOFFSETTO:+0100
TZNAME:CET
DTSTART:20261025T010000
END:STANDARD
BEGIN:DAYLIGHT
TZOFFSETFROM:+0100
TZOFFSETTO:+0200
TZNAME:CEST
DTSTART:20270328T010000
END:DAYLIGHT
BEGIN:STANDARD
TZOFFSETFROM:+0200
TZOFFSETTO:+0100
TZNAME:CET
DTSTART:20271031T010000
END:STANDARD
END:VTIMEZONE
BEGIN:VEVENT
DTSTART;TZID=Europe/Paris:20260425T100000
DTEND;TZID=Europe/Paris:20260425T113000
DTSTAMP:20260420T024556
CREATED:20260301T105356Z
LAST-MODIFIED:20260301T105356Z
UID:10013008-1777111200-1777116600@crocoule.org
SUMMARY:Saint etienne | Atelier Créatif Enfant Photophore printanier personnalisé
DESCRIPTION:Création ensemble\, enfant et parent de fleurs en papiers crépon \n\n\n	Similaire
URL:https://crocoule.org/notre-evenement/saint-etienne-atelier-creatif-enfant-photophore-printanier-personnalise/
LOCATION:Kit Création\, 4 Rue Philippon\, St Etienne\, 42000\, France
CATEGORIES:04 ans +,Activité du week-end,En famille,Intérieur,Tous les événements
ATTACH;FMTTYPE=image/webp:https://crocoule.org/wp-content/uploads/2026/03/mars.jpeg-vy70Ot.webp
END:VEVENT
BEGIN:VEVENT
DTSTART;TZID=Europe/Paris:20260425T150000
DTEND;TZID=Europe/Paris:20260425T153000
DTSTAMP:20260420T024556
CREATED:20260301T105356Z
LAST-MODIFIED:20260301T105356Z
UID:10013009-1777129200-1777131000@crocoule.org
SUMMARY:Saint etienne | Atelier Créatif Enfant Carte du 1er mai
DESCRIPTION:Création de jolies cartes ambiance muguet \n\n\n	Similaire
URL:https://crocoule.org/notre-evenement/saint-etienne-atelier-creatif-enfant-carte-du-1er-mai/
LOCATION:Kit Création\, 4 Rue Philippon\, St Etienne\, 42000\, France
CATEGORIES:04 ans +,Activité du week-end,Intérieur,Tous les événements
ATTACH;FMTTYPE=image/webp:https://crocoule.org/wp-content/uploads/2026/03/mars.jpeg-vy70Ot.webp
END:VEVENT
BEGIN:VEVENT
DTSTART;TZID=Europe/Paris:20260429T150000
DTEND;TZID=Europe/Paris:20260429T163000
DTSTAMP:20260420T024556
CREATED:20260301T105357Z
LAST-MODIFIED:20260301T105357Z
UID:10013010-1777474800-1777480200@crocoule.org
SUMMARY:Saint etienne | Atelier Créatif Enfant tableau quilling
DESCRIPTION:Faire un tableau avec des bandes de papiers « le quilling » \n\n\n	Similaire
URL:https://crocoule.org/notre-evenement/saint-etienne-atelier-creatif-enfant-tableau-quilling/
LOCATION:Kit Création\, 4 Rue Philippon\, St Etienne\, 42000\, France
CATEGORIES:04 ans +,Activité en semaine,Intérieur,Tous les événements
ATTACH;FMTTYPE=image/webp:https://crocoule.org/wp-content/uploads/2026/03/mars.jpeg-vy70Ot.webp
END:VEVENT
BEGIN:VEVENT
DTSTART;TZID=Europe/Paris:20260502T100000
DTEND;TZID=Europe/Paris:20260502T113000
DTSTAMP:20260420T024556
CREATED:20260301T105357Z
LAST-MODIFIED:20260301T105357Z
UID:10013011-1777716000-1777721400@crocoule.org
SUMMARY:#REF!
DESCRIPTION:Création ensemble\, enfant et parent d’un mobile ambiance printemps \n\n\n	Similaire
URL:https://crocoule.org/notre-evenement/ref-13/
LOCATION:Kit Création\, 4 Rue Philippon\, St Etienne\, 42000\, France
CATEGORIES:04 ans +,Activité du week-end,En famille,Intérieur,Tous les événements
ATTACH;FMTTYPE=image/webp:https://crocoule.org/wp-content/uploads/2026/03/mars.jpeg-vy70Ot.webp
END:VEVENT
BEGIN:VEVENT
DTSTART;TZID=Europe/Paris:20260502T150000
DTEND;TZID=Europe/Paris:20260502T163000
DTSTAMP:20260420T024556
CREATED:20260301T105410Z
LAST-MODIFIED:20260301T105410Z
UID:10013012-1777734000-1777739400@crocoule.org
SUMMARY:Saint etienne | Atelier Créatif Parent/Enfant Fleurs en papiers crépon
DESCRIPTION:Création d’un tableau representant une fusée \n\n\n	Similaire
URL:https://crocoule.org/notre-evenement/saint-etienne-atelier-creatif-parent-enfant-fleurs-en-papiers-crepon/
LOCATION:Kit Création\, 4 Rue Philippon\, St Etienne\, 42000\, France
CATEGORIES:04 ans +,Activité du week-end,Intérieur,Tous les événements
ATTACH;FMTTYPE=image/webp:https://crocoule.org/wp-content/uploads/2026/03/mars.jpeg-vy70Ot.webp
END:VEVENT
BEGIN:VEVENT
DTSTART;TZID=Europe/Paris:20260509T150000
DTEND;TZID=Europe/Paris:20260509T163000
DTSTAMP:20260420T024556
CREATED:20260301T105410Z
LAST-MODIFIED:20260301T105410Z
UID:10013013-1778338800-1778344200@crocoule.org
SUMMARY:Saint etienne | Atelier Créatif Enfant Tableau fusée
DESCRIPTION:Création d’une petite abeilles en perles de rocailles \n\n\n	Similaire
URL:https://crocoule.org/notre-evenement/saint-etienne-atelier-creatif-enfant-tableau-fusee/
LOCATION:Kit Création\, 4 Rue Philippon\, St Etienne\, 42000\, France
CATEGORIES:06 ans +,Activité du week-end,Intérieur,Tous les événements
ATTACH;FMTTYPE=image/webp:https://crocoule.org/wp-content/uploads/2026/03/mars.jpeg-vy70Ot.webp
END:VEVENT
BEGIN:VEVENT
DTSTART;TZID=Europe/Paris:20260513T150000
DTEND;TZID=Europe/Paris:20260513T163000
DTSTAMP:20260420T024556
CREATED:20260301T105411Z
LAST-MODIFIED:20260301T105411Z
UID:10013014-1778684400-1778689800@crocoule.org
SUMMARY:Saint etienne | Atelier Créatif Enfant suspension oiseaux printanier
DESCRIPTION:Création d’une déco representant des oiseaux \n\n\n	Similaire
URL:https://crocoule.org/notre-evenement/saint-etienne-atelier-creatif-enfant-suspension-oiseaux-printanier/
LOCATION:Kit Création\, 4 Rue Philippon\, St Etienne\, 42000\, France
CATEGORIES:04 ans +,Activité en semaine,Intérieur,Tous les événements
ATTACH;FMTTYPE=image/webp:https://crocoule.org/wp-content/uploads/2026/03/mars.jpeg-vy70Ot.webp
END:VEVENT
BEGIN:VEVENT
DTSTART;TZID=Europe/Paris:20260516T100000
DTEND;TZID=Europe/Paris:20260516T113000
DTSTAMP:20260420T024556
CREATED:20260301T105412Z
LAST-MODIFIED:20260301T105412Z
UID:10013015-1778925600-1778931000@crocoule.org
SUMMARY:Saint-Etienne | Atelier Créatif Parent/Enfant attrape soleil
DESCRIPTION:Création ensemble\, enfant et parent d’un attrape soleil \n\n\n	Similaire
URL:https://crocoule.org/notre-evenement/saint-etienne-atelier-creatif-parent-enfant-attrape-soleil/
LOCATION:Kit Création\, 4 Rue Philippon\, St Etienne\, 42000\, France
CATEGORIES:04 ans +,Activité du week-end,En famille,Intérieur,Tous les événements
ATTACH;FMTTYPE=image/webp:https://crocoule.org/wp-content/uploads/2026/03/mars.jpeg-vy70Ot.webp
END:VEVENT
BEGIN:VEVENT
DTSTART;TZID=Europe/Paris:20260516T150000
DTEND;TZID=Europe/Paris:20260516T163000
DTSTAMP:20260420T024556
CREATED:20260301T105412Z
LAST-MODIFIED:20260301T105412Z
UID:10013016-1778943600-1778949000@crocoule.org
SUMMARY:Saint-Etienne | Atelier Créatif Enfant porte clés libellule
DESCRIPTION:Création d’un porte clés representant une libellule avec perles et simili cuir \n\n\n	Similaire
URL:https://crocoule.org/notre-evenement/saint-etienne-atelier-creatif-enfant-porte-cles-libellule/
LOCATION:Kit Création\, 4 Rue Philippon\, St Etienne\, 42000\, France
CATEGORIES:04 ans +,Activité du week-end,Intérieur,Tous les événements
ATTACH;FMTTYPE=image/webp:https://crocoule.org/wp-content/uploads/2026/03/mars.jpeg-vy70Ot.webp
END:VEVENT
BEGIN:VEVENT
DTSTART;TZID=Europe/Paris:20260523T150000
DTEND;TZID=Europe/Paris:20260523T163000
DTSTAMP:20260420T024556
CREATED:20260301T105425Z
LAST-MODIFIED:20260301T105425Z
UID:10013017-1779548400-1779553800@crocoule.org
SUMMARY:#REF!
DESCRIPTION:Peindre et décorer pour representer une abeille \n\n\n	Similaire
URL:https://crocoule.org/notre-evenement/ref-14/
LOCATION:Kit Création\, 4 Rue Philippon\, St Etienne\, 42000\, France
CATEGORIES:04 ans +,Activité du week-end,Intérieur,Tous les événements
ATTACH;FMTTYPE=image/webp:https://crocoule.org/wp-content/uploads/2026/03/mars.jpeg-vy70Ot.webp
END:VEVENT
BEGIN:VEVENT
DTSTART;TZID=Europe/Paris:20260527T150000
DTEND;TZID=Europe/Paris:20260527T163000
DTSTAMP:20260420T024556
CREATED:20260301T105426Z
LAST-MODIFIED:20260301T105426Z
UID:10013018-1779894000-1779899400@crocoule.org
SUMMARY:Saint-Etienne | Atelier Créatif Enfant Cadaeu pour la fête des mères
DESCRIPTION:Création surprise pour les mamans « on ne peut pas en dire plus c’est une surprise » \n\n\n	Similaire
URL:https://crocoule.org/notre-evenement/saint-etienne-atelier-creatif-enfant-cadaeu-pour-la-fete-des-meres/
LOCATION:Kit Création\, 4 Rue Philippon\, St Etienne\, 42000\, France
CATEGORIES:04 ans +,Activité en semaine,Intérieur,Tous les événements
ATTACH;FMTTYPE=image/webp:https://crocoule.org/wp-content/uploads/2026/03/mars.jpeg-vy70Ot.webp
END:VEVENT
BEGIN:VEVENT
DTSTART;TZID=Europe/Paris:20260530T100000
DTEND;TZID=Europe/Paris:20260530T113000
DTSTAMP:20260420T024556
CREATED:20260301T105428Z
LAST-MODIFIED:20260301T105428Z
UID:10013019-1780135200-1780140600@crocoule.org
SUMMARY:Saint-Etienne | Atelier Créatif Parent/Enfant attrape soleil
DESCRIPTION:Création d’un petit décor estvale \n\n\n	Similaire
URL:https://crocoule.org/notre-evenement/saint-etienne-atelier-creatif-parent-enfant-attrape-soleil-2/
LOCATION:Kit Création\, 4 Rue Philippon\, St Etienne\, 42000\, France
CATEGORIES:04 ans +,Activité du week-end,En famille,Intérieur,Tous les événements
ATTACH;FMTTYPE=image/webp:https://crocoule.org/wp-content/uploads/2026/03/mars.jpeg-vy70Ot.webp
END:VEVENT
BEGIN:VEVENT
DTSTART;TZID=Europe/Paris:20260530T150000
DTEND;TZID=Europe/Paris:20260530T163000
DTSTAMP:20260420T024556
CREATED:20260301T105429Z
LAST-MODIFIED:20260301T105429Z
UID:10013020-1780153200-1780158600@crocoule.org
SUMMARY:Saint-Etienne | Atelier Créatif Enfant attrape soleil
DESCRIPTION:Création d’une suspension attrrape soleil \n\n\n	Similaire
URL:https://crocoule.org/notre-evenement/saint-etienne-atelier-creatif-enfant-attrape-soleil/
LOCATION:Kit Création\, 4 Rue Philippon\, St Etienne\, 42000\, France
CATEGORIES:04 ans +,Activité du week-end,Intérieur,Tous les événements
ATTACH;FMTTYPE=image/webp:https://crocoule.org/wp-content/uploads/2026/03/mars.jpeg-vy70Ot.webp
END:VEVENT
BEGIN:VEVENT
DTSTART;TZID=Europe/Paris:20261104T150000
DTEND;TZID=Europe/Paris:20261104T150000
DTSTAMP:20260420T024556
CREATED:20260301T105343Z
LAST-MODIFIED:20260301T105343Z
UID:10013004-1793804400-1793804400@crocoule.org
SUMMARY:Saint etienne | Atelier Créatif Enfant Tableau string art
DESCRIPTION:Création d’un tableau avec de la ficelle \n\n\n	Similaire
URL:https://crocoule.org/notre-evenement/saint-etienne-atelier-creatif-enfant-tableau-string-art/
LOCATION:Kit Création\, 4 Rue Philippon\, St Etienne\, 42000\, France
CATEGORIES:04 ans +,Activité du week-end,Activité pendant les vacances,Intérieur,Tous les événements
ATTACH;FMTTYPE=image/webp:https://crocoule.org/wp-content/uploads/2026/03/mars.jpeg-vy70Ot.webp
END:VEVENT
END:VCALENDAR