BEGIN:VCALENDAR
VERSION:2.0
PRODID:-//Crocoule - ECPv6.15.15//NONSGML v1.0//EN
CALSCALE:GREGORIAN
METHOD:PUBLISH
X-ORIGINAL-URL:https://crocoule.org
X-WR-CALDESC:Évènements pour Crocoule
REFRESH-INTERVAL;VALUE=DURATION:PT1H
X-Robots-Tag:noindex
X-PUBLISHED-TTL:PT1H
BEGIN:VTIMEZONE
TZID:Europe/Paris
BEGIN:DAYLIGHT
TZOFFSETFROM:+0100
TZOFFSETTO:+0200
TZNAME:CEST
DTSTART:20220327T010000
END:DAYLIGHT
BEGIN:STANDARD
TZOFFSETFROM:+0200
TZOFFSETTO:+0100
TZNAME:CET
DTSTART:20221030T010000
END:STANDARD
BEGIN:DAYLIGHT
TZOFFSETFROM:+0100
TZOFFSETTO:+0200
TZNAME:CEST
DTSTART:20230326T010000
END:DAYLIGHT
BEGIN:STANDARD
TZOFFSETFROM:+0200
TZOFFSETTO:+0100
TZNAME:CET
DTSTART:20231029T010000
END:STANDARD
BEGIN:DAYLIGHT
TZOFFSETFROM:+0100
TZOFFSETTO:+0200
TZNAME:CEST
DTSTART:20240331T010000
END:DAYLIGHT
BEGIN:STANDARD
TZOFFSETFROM:+0200
TZOFFSETTO:+0100
TZNAME:CET
DTSTART:20241027T010000
END:STANDARD
END:VTIMEZONE
BEGIN:VEVENT
DTSTART;TZID=Europe/Paris:20230701T130000
DTEND;TZID=Europe/Paris:20230701T210000
DTSTAMP:20260421T080006
CREATED:20230522T092908Z
LAST-MODIFIED:20230522T092908Z
UID:10001484-1688216400-1688245200@crocoule.org
SUMMARY:ASSE LOIRE KIDS TOUR
DESCRIPTION:ASSE LOIRE KIDS TOUR\nAsse Loire Kids Tour débarque à L’Hippodrome de Feurs ! \nChaque année\, l’ASSE Loire Kids’Tour fait étape dans des communes ligériennes. Et propose\, aux enfants de 4 à 12 ans\, des jeux\, activités sportives et de nombreuses animations sur une aire de près de 2 000 m². \nEn effet\, le tout gratuitement et en présence de Pantéo. La célèbre mascotte des Verts. Ces rendez-vous ont pour but de promouvoir la pratique du sport auprès des plus jeunes et pour l’ASSE\, d’aller à la rencontre de ses jeunes supporters à travers le Département. \nASSE KIDS C’EST QUOI ?\n\n\nTout d’abord\, L’ASSE Kids’ Club est un club d’animation créé par l’AS Saint-Étienne. En effet\, son but est de faire vivre des moments magiques et exceptionnels aux enfants supporters des Verts ! \nDes actualités\, des jeux et concours sont proposés sur le site internet tout au long de la saison. Dans le but de divertir les enfants tout en restant pédagogique. \nÀ ça s’ajoute de nombreux événements privés\, réservés aux seuls enfants membres de l’ASSE Kids’ Club\, qui sont organisés pour faire rêver les enfants. Notamment\, des expérience match avec Pantéo\, entrée avec les joueurs sur le terrain\, visite du musée avec les Kids\, chasse aux œufs de Pâques au centre d’entrainement et bien d’autres. \nEnfin\, Le Kids’Club propose un site internet : \n\n100 % sécurisé\nqui propose des contenus adaptés à vos enfants\nqui respecte les informations personnelles de vos enfants et ne les dévoile pas\n\nPlus qu’un site communautaire\, l’ASSE Kids’ Club s’engage à développer des valeurs qui lui sont chères : respect\, partage\, éducation\, citoyenneté etc… \nLe Kids’ Club désire\, via le football\, guider ses membres dans la vie en communauté. Par ses actions le Kids’ Club entend faire de ses membres de jeunes citoyens actifs et concernés. \nLe sport\, et le football en particulier\, se doit de donner l’exemple à ses plus jeunes supporters. Au sein du Kids’ Club et d’un point de vue football\, la notion de respect de l’autre\, de l’adversaire et du corps arbitral est fondamentale. \n\n\n\n\n	Similaire
URL:https://crocoule.org/notre-evenement/asse-loire-kids-tour-7/
LOCATION:Hippodrome de Feurs\, 3 Bd de l'Hippodrome\, Feurs\, 42110
CATEGORIES:Activité du week-end
END:VEVENT
END:VCALENDAR