BEGIN:VCALENDAR
VERSION:2.0
PRODID:-//Crocoule - ECPv6.15.15//NONSGML v1.0//EN
CALSCALE:GREGORIAN
METHOD:PUBLISH
X-ORIGINAL-URL:https://crocoule.org
X-WR-CALDESC:Évènements pour Crocoule
REFRESH-INTERVAL;VALUE=DURATION:PT1H
X-Robots-Tag:noindex
X-PUBLISHED-TTL:PT1H
BEGIN:VTIMEZONE
TZID:Europe/Paris
BEGIN:DAYLIGHT
TZOFFSETFROM:+0100
TZOFFSETTO:+0200
TZNAME:CEST
DTSTART:20220327T010000
END:DAYLIGHT
BEGIN:STANDARD
TZOFFSETFROM:+0200
TZOFFSETTO:+0100
TZNAME:CET
DTSTART:20221030T010000
END:STANDARD
BEGIN:DAYLIGHT
TZOFFSETFROM:+0100
TZOFFSETTO:+0200
TZNAME:CEST
DTSTART:20230326T010000
END:DAYLIGHT
BEGIN:STANDARD
TZOFFSETFROM:+0200
TZOFFSETTO:+0100
TZNAME:CET
DTSTART:20231029T010000
END:STANDARD
BEGIN:DAYLIGHT
TZOFFSETFROM:+0100
TZOFFSETTO:+0200
TZNAME:CEST
DTSTART:20240331T010000
END:DAYLIGHT
BEGIN:STANDARD
TZOFFSETFROM:+0200
TZOFFSETTO:+0100
TZNAME:CET
DTSTART:20241027T010000
END:STANDARD
END:VTIMEZONE
BEGIN:VEVENT
DTSTART;VALUE=DATE:20230916
DTEND;VALUE=DATE:20230917
DTSTAMP:20260421T062817
CREATED:20230817T130020Z
LAST-MODIFIED:20230817T130020Z
UID:10002325-1694822400-1694908799@crocoule.org
SUMMARY:PORTES OUVERTES DU CHEMIN DE FER DU HAUT-FOREZ
DESCRIPTION:PORTES OUVERTES DU CHEMIN DE FER DU HAUT-FOREZ – JOURNÉES EUROPÉENNES DU PATRIMOINE\nProfitez des portes ouvertes du chemin de fer du Haut-Forez ! Le Chemin de Fer du Haut-Forez ouvre les portes de la gare en ces journées européennes du patrimoine ! Dans le but de découvrir le bâtiment\, l’histoire de la ligne Bonson-Sembadel\, le matériel roulant … accueillis par des passionnés ! \nChemin de fer du Haut-Forez \nEn effet\, longue de 42 km la ligne à voie normale relie Estivareilles dans la Loire à La Chaise Dieu en Haute-Loire\, en passant par Sembadel ancienne étoile ferroviaire située à 1091m d’altitude. \nCette ligne de montagne sinueuse ! Au profil sévère comporte de nombreuses rampes de 25 mm/m\, et traverse une terre qui\, indolente sous l’accablant soleil d’été. Elle retrouve son caractère sauvage et austère lorsque « la burle » souffle des congères de neige sur les plateaux. \nCaractéristiques de la structure : Association Loi de 1901\, déclarée auprès de la Préfecture de la Loire en 1986. Siége social : La Gare 577 route du Musée – 42380 ESTIVAREILLES \nBut : Assurer une desserte ferroviaire touristique entre Estivareilles dans la Loire 42 et La Chaise-Dieu en Haute Loire 43 . \nCapacité technique : Un arrêté préfectoral a été délivré par le Préfet de la Haute Loire au vu des capacités techniques de l’association à remplir les préconisations du décret 2003-425 . Ces capacités techniques sont contrôlés deux fois par an par un service spécialisé du Ministère des Transports le STRMTG. \n\n\n	Similaire
URL:https://crocoule.org/notre-evenement/portes-ouvertes-du-chemin-de-fer-du-haut-forez/
LOCATION:Gare – ESTIVAREILLES\, Le bourg\, ESTIVAREILLES\, 42380
CATEGORIES:Activité du week-end,Tout public
END:VEVENT
END:VCALENDAR