BEGIN:VCALENDAR
VERSION:2.0
PRODID:-//Crocoule - ECPv6.15.15//NONSGML v1.0//EN
CALSCALE:GREGORIAN
METHOD:PUBLISH
X-WR-CALNAME:Crocoule
X-ORIGINAL-URL:https://crocoule.org
X-WR-CALDESC:Évènements pour Crocoule
REFRESH-INTERVAL;VALUE=DURATION:PT1H
X-Robots-Tag:noindex
X-PUBLISHED-TTL:PT1H
BEGIN:VTIMEZONE
TZID:Europe/Paris
BEGIN:DAYLIGHT
TZOFFSETFROM:+0100
TZOFFSETTO:+0200
TZNAME:CEST
DTSTART:20220327T010000
END:DAYLIGHT
BEGIN:STANDARD
TZOFFSETFROM:+0200
TZOFFSETTO:+0100
TZNAME:CET
DTSTART:20221030T010000
END:STANDARD
BEGIN:DAYLIGHT
TZOFFSETFROM:+0100
TZOFFSETTO:+0200
TZNAME:CEST
DTSTART:20230326T010000
END:DAYLIGHT
BEGIN:STANDARD
TZOFFSETFROM:+0200
TZOFFSETTO:+0100
TZNAME:CET
DTSTART:20231029T010000
END:STANDARD
BEGIN:DAYLIGHT
TZOFFSETFROM:+0100
TZOFFSETTO:+0200
TZNAME:CEST
DTSTART:20240331T010000
END:DAYLIGHT
BEGIN:STANDARD
TZOFFSETFROM:+0200
TZOFFSETTO:+0100
TZNAME:CET
DTSTART:20241027T010000
END:STANDARD
BEGIN:DAYLIGHT
TZOFFSETFROM:+0100
TZOFFSETTO:+0200
TZNAME:CEST
DTSTART:20250330T010000
END:DAYLIGHT
BEGIN:STANDARD
TZOFFSETFROM:+0200
TZOFFSETTO:+0100
TZNAME:CET
DTSTART:20251026T010000
END:STANDARD
END:VTIMEZONE
BEGIN:VEVENT
DTSTART;TZID=Europe/Paris:20240730T173000
DTEND;TZID=Europe/Paris:20240730T183000
DTSTAMP:20260420T052212
CREATED:20240610T110728Z
LAST-MODIFIED:20240610T110728Z
UID:10007788-1722360600-1722364200@crocoule.org
SUMMARY:Visite de la ferme du GAEC de l'Herm
DESCRIPTION:Visite de la ferme du GAEC de l’Herm\nVisite à l’heure de la traite des vaches et du biberon des veaux au Gaec de l’Herm! Après la visite\, quel délice de déguster les glaces fabriquées à la ferme. \nTout public – 5€ / adulte\, 4€ / enfant sur réservation au 04 71 66 95 44 \n  \n  \nSi ton regard se pose sur ces mots c’est que toi aussi tu fais partie de la Haute Congrégation des Super Parents (HCSP : rien que ça !  ????) investis en quête d’idées de sorties familiales dans la Loire et la Haute-Loire pour son/ses bambin(s) ! \nTu ne me crois pas ? Si si\, promis Bienvenue et toutes mes Félicitations ! Tu es sur la bonne page … Et je vais te le prouver ! Tu es prêt ? Allez\, viens je t’emmène au fil des pages du Crocoule ! \nTout d’abord\, Le Crocoule Magazine c’est quoi ? Le Crocoule\, papier ou web\, c’est LE magazine qui porte en lui la douceur et la bienveillance dont tu as besoin en tant que parent et qui facilite tes recherches d’activités loisirs\, culturelles\, nature pour tous les budgets et tous les goûts ! Et ça c’est une promesse ? Tu veux en savoir +\, suis moi par ici ! \nEt ce n’est pas tout … Si tu as soif d’aventure Le Crocoule Express est fait pour toi !\n  \n  \n\n\n	Similaire
URL:https://crocoule.org/notre-evenement/visite-de-la-ferme-du-gaec-de-lherm/2024-07-30/
LOCATION:Gaec De l’Herm – Boisset\, L'Herm\, Boisset\, 43500
CATEGORIES:Activité pendant les vacances,En famille,Exterieur,Intérieur,Jeune Public,Tous les événements,Tout public
END:VEVENT
BEGIN:VEVENT
DTSTART;TZID=Europe/Paris:20240723T173000
DTEND;TZID=Europe/Paris:20240723T183000
DTSTAMP:20260420T052212
CREATED:20240610T110728Z
LAST-MODIFIED:20240610T110728Z
UID:10007787-1721755800-1721759400@crocoule.org
SUMMARY:Visite de la ferme du GAEC de l'Herm
DESCRIPTION:Visite de la ferme du GAEC de l’Herm\nVisite à l’heure de la traite des vaches et du biberon des veaux au Gaec de l’Herm! Après la visite\, quel délice de déguster les glaces fabriquées à la ferme. \nTout public – 5€ / adulte\, 4€ / enfant sur réservation au 04 71 66 95 44 \n  \n  \nSi ton regard se pose sur ces mots c’est que toi aussi tu fais partie de la Haute Congrégation des Super Parents (HCSP : rien que ça !  ????) investis en quête d’idées de sorties familiales dans la Loire et la Haute-Loire pour son/ses bambin(s) ! \nTu ne me crois pas ? Si si\, promis Bienvenue et toutes mes Félicitations ! Tu es sur la bonne page … Et je vais te le prouver ! Tu es prêt ? Allez\, viens je t’emmène au fil des pages du Crocoule ! \nTout d’abord\, Le Crocoule Magazine c’est quoi ? Le Crocoule\, papier ou web\, c’est LE magazine qui porte en lui la douceur et la bienveillance dont tu as besoin en tant que parent et qui facilite tes recherches d’activités loisirs\, culturelles\, nature pour tous les budgets et tous les goûts ! Et ça c’est une promesse ? Tu veux en savoir +\, suis moi par ici ! \nEt ce n’est pas tout … Si tu as soif d’aventure Le Crocoule Express est fait pour toi !\n  \n  \n\n\n	Similaire
URL:https://crocoule.org/notre-evenement/visite-de-la-ferme-du-gaec-de-lherm/2024-07-23/
LOCATION:Gaec De l’Herm – Boisset\, L'Herm\, Boisset\, 43500
CATEGORIES:Activité pendant les vacances,En famille,Exterieur,Intérieur,Jeune Public,Tous les événements,Tout public
END:VEVENT
BEGIN:VEVENT
DTSTART;TZID=Europe/Paris:20240716T173000
DTEND;TZID=Europe/Paris:20240716T183000
DTSTAMP:20260420T052213
CREATED:20240610T110728Z
LAST-MODIFIED:20240610T110728Z
UID:10007786-1721151000-1721154600@crocoule.org
SUMMARY:Visite de la ferme du GAEC de l'Herm
DESCRIPTION:Visite de la ferme du GAEC de l’Herm\nVisite à l’heure de la traite des vaches et du biberon des veaux au Gaec de l’Herm! Après la visite\, quel délice de déguster les glaces fabriquées à la ferme. \nTout public – 5€ / adulte\, 4€ / enfant sur réservation au 04 71 66 95 44 \n  \n  \nSi ton regard se pose sur ces mots c’est que toi aussi tu fais partie de la Haute Congrégation des Super Parents (HCSP : rien que ça !  ????) investis en quête d’idées de sorties familiales dans la Loire et la Haute-Loire pour son/ses bambin(s) ! \nTu ne me crois pas ? Si si\, promis Bienvenue et toutes mes Félicitations ! Tu es sur la bonne page … Et je vais te le prouver ! Tu es prêt ? Allez\, viens je t’emmène au fil des pages du Crocoule ! \nTout d’abord\, Le Crocoule Magazine c’est quoi ? Le Crocoule\, papier ou web\, c’est LE magazine qui porte en lui la douceur et la bienveillance dont tu as besoin en tant que parent et qui facilite tes recherches d’activités loisirs\, culturelles\, nature pour tous les budgets et tous les goûts ! Et ça c’est une promesse ? Tu veux en savoir +\, suis moi par ici ! \nEt ce n’est pas tout … Si tu as soif d’aventure Le Crocoule Express est fait pour toi !\n  \n  \n\n\n	Similaire
URL:https://crocoule.org/notre-evenement/visite-de-la-ferme-du-gaec-de-lherm/2024-07-16/
LOCATION:Gaec De l’Herm – Boisset\, L'Herm\, Boisset\, 43500
CATEGORIES:Activité pendant les vacances,En famille,Exterieur,Intérieur,Jeune Public,Tous les événements,Tout public
END:VEVENT
BEGIN:VEVENT
DTSTART;TZID=Europe/Paris:20240709T173000
DTEND;TZID=Europe/Paris:20240709T183000
DTSTAMP:20260420T052213
CREATED:20240610T110728Z
LAST-MODIFIED:20240610T110728Z
UID:10007785-1720546200-1720549800@crocoule.org
SUMMARY:Visite de la ferme du GAEC de l'Herm
DESCRIPTION:Visite de la ferme du GAEC de l’Herm\nVisite à l’heure de la traite des vaches et du biberon des veaux au Gaec de l’Herm! Après la visite\, quel délice de déguster les glaces fabriquées à la ferme. \nTout public – 5€ / adulte\, 4€ / enfant sur réservation au 04 71 66 95 44 \n  \n  \nSi ton regard se pose sur ces mots c’est que toi aussi tu fais partie de la Haute Congrégation des Super Parents (HCSP : rien que ça !  ????) investis en quête d’idées de sorties familiales dans la Loire et la Haute-Loire pour son/ses bambin(s) ! \nTu ne me crois pas ? Si si\, promis Bienvenue et toutes mes Félicitations ! Tu es sur la bonne page … Et je vais te le prouver ! Tu es prêt ? Allez\, viens je t’emmène au fil des pages du Crocoule ! \nTout d’abord\, Le Crocoule Magazine c’est quoi ? Le Crocoule\, papier ou web\, c’est LE magazine qui porte en lui la douceur et la bienveillance dont tu as besoin en tant que parent et qui facilite tes recherches d’activités loisirs\, culturelles\, nature pour tous les budgets et tous les goûts ! Et ça c’est une promesse ? Tu veux en savoir +\, suis moi par ici ! \nEt ce n’est pas tout … Si tu as soif d’aventure Le Crocoule Express est fait pour toi !\n  \n  \n\n\n	Similaire
URL:https://crocoule.org/notre-evenement/visite-de-la-ferme-du-gaec-de-lherm/2024-07-09/
LOCATION:Gaec De l’Herm – Boisset\, L'Herm\, Boisset\, 43500
CATEGORIES:Activité pendant les vacances,En famille,Exterieur,Intérieur,Jeune Public,Tous les événements,Tout public
END:VEVENT
BEGIN:VEVENT
DTSTART;TZID=Europe/Paris:20230822T173000
DTEND;TZID=Europe/Paris:20230822T193000
DTSTAMP:20260420T052213
CREATED:20230725T081245Z
LAST-MODIFIED:20230725T081245Z
UID:10001908-1692725400-1692732600@crocoule.org
SUMMARY:VISITE À LA FERME
DESCRIPTION:VISITE À LA FERME AU GAEC DE L’HERM \nVisite à la ferme Gaec de l’herm à Boisset. \nDégustation de glaces fabriquées à la ferme. \nTarifs : 6€/adulte\, 5€/enfant de 3 à 12 ans. \nRéservation obligatoire au 04 71 66 95 44 \n\nGaec de L’Herm\nLaurie Coudert \nHaute-Loire / Boisset (43500) \nVenez visiter\, participer\, découvrir une ferme bio avec un système de traite qui sort de l’ordinaire. \nLe Gaec de l’herm vous ouvre ses portes pour découvrir\, participer et visiter notre ferme pédagogique. De la traite aux soins aux animaux\, venez découvrir le fonctionnement de notre ferme. Sur place vous pouvez\, déguster nos produits\, échanger\, faire du poney et découvrir nos animaux. En agriculture biologique la ferme existe depuis 1979. Depuis 6 ans nous avons mis en place un systeme de traite innovant : un roto de traite de 24 places. \nProductions de la ferme : page facebook uniquement pour le moment ; Gaec de l’herm AnimEsens \nProductions labellisées Agriculture biologiques : agriculture biologique \nProduits fermiers\nDécouvrir nos produits\n\n\nProduits proposés : \n– produits de la ferme : glaces/ dessert glacés/viande de boeuf bio/ crèmes desserts et faisselles bio\n– autres produits : paniers de producteur legumes\, fromage chevre vache \nAtelier sur place \nDégustation gratuite \nLes engagements du producteur : circuits courts paratager notre passion \nVente à la ferme\nOuverture : le samedi matin periode scolaire de 10h amidi 15 et toute la semaine sur rdv pour vacances estivale \nVente sur les marchés\nmarché nocturne estivale chomelix\, boisset beauzac \n\n\n\n\n	Similaire
URL:https://crocoule.org/notre-evenement/visite-a-la-ferme-8/
LOCATION:Gaec De l’Herm – Boisset\, L'Herm\, Boisset\, 43500
CATEGORIES:03 ans +
END:VEVENT
BEGIN:VEVENT
DTSTART;TZID=Europe/Paris:20230815T173000
DTEND;TZID=Europe/Paris:20230815T193000
DTSTAMP:20260420T052213
CREATED:20230725T081024Z
LAST-MODIFIED:20230725T081024Z
UID:10001907-1692120600-1692127800@crocoule.org
SUMMARY:VISITE À LA FERME
DESCRIPTION:VISITE À LA FERME AU GAEC DE L’HERM \nVisite à la ferme Gaec de l’herm à Boisset. \nDégustation de glaces fabriquées à la ferme. \nTarifs : 6€/adulte\, 5€/enfant de 3 à 12 ans. \nRéservation obligatoire au 04 71 66 95 44 \n\nGaec de L’Herm\nLaurie Coudert \nHaute-Loire / Boisset (43500) \nVenez visiter\, participer\, découvrir une ferme bio avec un système de traite qui sort de l’ordinaire. \nLe Gaec de l’herm vous ouvre ses portes pour découvrir\, participer et visiter notre ferme pédagogique. De la traite aux soins aux animaux\, venez découvrir le fonctionnement de notre ferme. Sur place vous pouvez\, déguster nos produits\, échanger\, faire du poney et découvrir nos animaux. En agriculture biologique la ferme existe depuis 1979. Depuis 6 ans nous avons mis en place un systeme de traite innovant : un roto de traite de 24 places. \nProductions de la ferme : page facebook uniquement pour le moment ; Gaec de l’herm AnimEsens \nProductions labellisées Agriculture biologiques : agriculture biologique \nProduits fermiers\nDécouvrir nos produits\n\n\nProduits proposés : \n– produits de la ferme : glaces/ dessert glacés/viande de boeuf bio/ crèmes desserts et faisselles bio\n– autres produits : paniers de producteur legumes\, fromage chevre vache \nAtelier sur place \nDégustation gratuite \nLes engagements du producteur : circuits courts paratager notre passion \nVente à la ferme\nOuverture : le samedi matin periode scolaire de 10h amidi 15 et toute la semaine sur rdv pour vacances estivale \nVente sur les marchés\nmarché nocturne estivale chomelix\, boisset beauzac \n\n\n\n\n	Similaire
URL:https://crocoule.org/notre-evenement/visite-a-la-ferme-7/
LOCATION:Gaec De l’Herm – Boisset\, L'Herm\, Boisset\, 43500
CATEGORIES:03 ans +
END:VEVENT
BEGIN:VEVENT
DTSTART;TZID=Europe/Paris:20230808T173000
DTEND;TZID=Europe/Paris:20230808T193000
DTSTAMP:20260420T052213
CREATED:20230725T080841Z
LAST-MODIFIED:20230725T080841Z
UID:10001906-1691515800-1691523000@crocoule.org
SUMMARY:VISITE À LA FERME
DESCRIPTION:VISITE À LA FERME AU GAEC DE L’HERM \nVisite à la ferme Gaec de l’herm à Boisset. \nDégustation de glaces fabriquées à la ferme. \nTarifs : 6€/adulte\, 5€/enfant de 3 à 12 ans. \nRéservation obligatoire au 04 71 66 95 44 \n\nGaec de L’Herm\nLaurie Coudert \nHaute-Loire / Boisset (43500) \nVenez visiter\, participer\, découvrir une ferme bio avec un système de traite qui sort de l’ordinaire. \nLe Gaec de l’herm vous ouvre ses portes pour découvrir\, participer et visiter notre ferme pédagogique. De la traite aux soins aux animaux\, venez découvrir le fonctionnement de notre ferme. Sur place vous pouvez\, déguster nos produits\, échanger\, faire du poney et découvrir nos animaux. En agriculture biologique la ferme existe depuis 1979. Depuis 6 ans nous avons mis en place un systeme de traite innovant : un roto de traite de 24 places. \nProductions de la ferme : page facebook uniquement pour le moment ; Gaec de l’herm AnimEsens \nProductions labellisées Agriculture biologiques : agriculture biologique \nProduits fermiers\nDécouvrir nos produits\n\n\nProduits proposés : \n– produits de la ferme : glaces/ dessert glacés/viande de boeuf bio/ crèmes desserts et faisselles bio\n– autres produits : paniers de producteur legumes\, fromage chevre vache \nAtelier sur place \nDégustation gratuite \nLes engagements du producteur : circuits courts paratager notre passion \nVente à la ferme\nOuverture : le samedi matin periode scolaire de 10h amidi 15 et toute la semaine sur rdv pour vacances estivale \nVente sur les marchés\nmarché nocturne estivale chomelix\, boisset beauzac \n\n\n\n\n	Similaire
URL:https://crocoule.org/notre-evenement/visite-a-la-ferme-6/
LOCATION:Gaec De l’Herm – Boisset\, L'Herm\, Boisset\, 43500
CATEGORIES:03 ans +
END:VEVENT
BEGIN:VEVENT
DTSTART;TZID=Europe/Paris:20230801T173000
DTEND;TZID=Europe/Paris:20230801T193000
DTSTAMP:20260420T052213
CREATED:20230725T080646Z
LAST-MODIFIED:20230725T080646Z
UID:10001905-1690911000-1690918200@crocoule.org
SUMMARY:VISITE À LA FERME
DESCRIPTION:VISITE À LA FERME AU GAEC DE L’HERM \nVisite à la ferme Gaec de l’herm à Boisset. \nDégustation de glaces fabriquées à la ferme. \nTarifs : 6€/adulte\, 5€/enfant de 3 à 12 ans. \nRéservation obligatoire au 04 71 66 95 44 \n\nGaec de L’Herm\nLaurie Coudert \nHaute-Loire / Boisset (43500) \nVenez visiter\, participer\, découvrir une ferme bio avec un système de traite qui sort de l’ordinaire. \nLe Gaec de l’herm vous ouvre ses portes pour découvrir\, participer et visiter notre ferme pédagogique. De la traite aux soins aux animaux\, venez découvrir le fonctionnement de notre ferme. Sur place vous pouvez\, déguster nos produits\, échanger\, faire du poney et découvrir nos animaux. En agriculture biologique la ferme existe depuis 1979. Depuis 6 ans nous avons mis en place un systeme de traite innovant : un roto de traite de 24 places. \nProductions de la ferme : page facebook uniquement pour le moment ; Gaec de l’herm AnimEsens \nProductions labellisées Agriculture biologiques : agriculture biologique \nProduits fermiers\nDécouvrir nos produits\n\n\nProduits proposés : \n– produits de la ferme : glaces/ dessert glacés/viande de boeuf bio/ crèmes desserts et faisselles bio\n– autres produits : paniers de producteur legumes\, fromage chevre vache \nAtelier sur place \nDégustation gratuite \nLes engagements du producteur : circuits courts paratager notre passion \nVente à la ferme\nOuverture : le samedi matin periode scolaire de 10h amidi 15 et toute la semaine sur rdv pour vacances estivale \nVente sur les marchés\nmarché nocturne estivale chomelix\, boisset beauzac \n\n\n\n\n	Similaire
URL:https://crocoule.org/notre-evenement/visite-a-la-ferme-5/
LOCATION:Gaec De l’Herm – Boisset\, L'Herm\, Boisset\, 43500
CATEGORIES:03 ans +
END:VEVENT
BEGIN:VEVENT
DTSTART;TZID=Europe/Paris:20230725T173000
DTEND;TZID=Europe/Paris:20230725T193000
DTSTAMP:20260420T052213
CREATED:20230627T112625Z
LAST-MODIFIED:20230627T112625Z
UID:10001723-1690306200-1690313400@crocoule.org
SUMMARY:VISITE À LA FERME
DESCRIPTION:VISITE À LA FERME \nVisite à la ferme Gaec de l’herm à Boisset. \nDégustation de glaces fabriquées à la ferme. \nTarifs : 6€/adulte\, 5€/enfant de 3 à 12 ans. \nRéservation obligatoire au 04 71 66 95 44 \n\nGaec de L’Herm\nLaurie Coudert \nHaute-Loire / Boisset (43500) \nVenez visiter\, participer\, découvrir une ferme bio avec un système de traite qui sort de l’ordinaire. \nLe Gaec de l’herm vous ouvre ses portes pour découvrir\, participer et visiter notre ferme pédagogique. De la traite aux soins aux animaux\, venez découvrir le fonctionnement de notre ferme. Sur place vous pouvez\, déguster nos produits\, échanger\, faire du poney et découvrir nos animaux. En agriculture biologique la ferme existe depuis 1979. Depuis 6 ans nous avons mis en place un systeme de traite innovant : un roto de traite de 24 places. \nProductions de la ferme : page facebook uniquement pour le moment ; Gaec de l’herm AnimEsens \nProductions labellisées Agriculture biologiques : agriculture biologique \nProduits fermiers\nDécouvrir nos produits\n\n\nProduits proposés : \n– produits de la ferme : glaces/ dessert glacés/viande de boeuf bio/ crèmes desserts et faisselles bio\n– autres produits : paniers de producteur legumes\, fromage chevre vache \nAtelier sur place \nDégustation gratuite \nLes engagements du producteur : circuits courts paratager notre passion \nVente à la ferme\nOuverture : le samedi matin periode scolaire de 10h amidi 15 et toute la semaine sur rdv pour vacances estivale \nVente sur les marchés\nmarché nocturne estivale chomelix\, boisset beauzac \n\n\n\n\n	Similaire
URL:https://crocoule.org/notre-evenement/visite-a-la-ferme-4/
LOCATION:Gaec De l’Herm – Boisset\, L'Herm\, Boisset\, 43500
CATEGORIES:03 ans +
END:VEVENT
BEGIN:VEVENT
DTSTART;TZID=Europe/Paris:20230718T173000
DTEND;TZID=Europe/Paris:20230718T193000
DTSTAMP:20260420T052213
CREATED:20230327T123143Z
LAST-MODIFIED:20230627T112336Z
UID:10001155-1689701400-1689708600@crocoule.org
SUMMARY:VISITE À LA FERME
DESCRIPTION:VISITE À LA FERME \nVisite à la ferme Gaec de l’herm à Boisset. \nDégustation de glaces fabriquées à la ferme. \nTarifs : 6€/adulte\, 5€/enfant de 3 à 12 ans. \nRéservation obligatoire au 04 71 66 95 44 \n\nGaec de L’Herm\nLaurie Coudert \nHaute-Loire / Boisset (43500) \nVenez visiter\, participer\, découvrir une ferme bio avec un système de traite qui sort de l’ordinaire. \nLe Gaec de l’herm vous ouvre ses portes pour découvrir\, participer et visiter notre ferme pédagogique. De la traite aux soins aux animaux\, venez découvrir le fonctionnement de notre ferme. Sur place vous pouvez\, déguster nos produits\, échanger\, faire du poney et découvrir nos animaux. En agriculture biologique la ferme existe depuis 1979. Depuis 6 ans nous avons mis en place un systeme de traite innovant : un roto de traite de 24 places. \nProductions de la ferme : page facebook uniquement pour le moment ; Gaec de l’herm AnimEsens \nProductions labellisées Agriculture biologiques : agriculture biologique \nProduits fermiers\nDécouvrir nos produits\n\n\nProduits proposés : \n– produits de la ferme : glaces/ dessert glacés/viande de boeuf bio/ crèmes desserts et faisselles bio\n– autres produits : paniers de producteur legumes\, fromage chevre vache \nAtelier sur place \nDégustation gratuite \nLes engagements du producteur : circuits courts paratager notre passion \nVente à la ferme\nOuverture : le samedi matin periode scolaire de 10h amidi 15 et toute la semaine sur rdv pour vacances estivale \nVente sur les marchés\nmarché nocturne estivale chomelix\, boisset beauzac \n\n\n\n\n	Similaire
URL:https://crocoule.org/notre-evenement/visite-a-la-ferme-2/
LOCATION:Gaec De l’Herm – Boisset\, L'Herm\, Boisset\, 43500
CATEGORIES:03 ans +
END:VEVENT
BEGIN:VEVENT
DTSTART;TZID=Europe/Paris:20230711T173000
DTEND;TZID=Europe/Paris:20230711T193000
DTSTAMP:20260420T052213
CREATED:20230627T112033Z
LAST-MODIFIED:20230627T112033Z
UID:10001722-1689096600-1689103800@crocoule.org
SUMMARY:Visite à la ferme
DESCRIPTION:VISITE À LA FERME \nVisite à la ferme Gaec de l’herm à Boisset. \nDégustation de glaces fabriquées à la ferme. \nTarifs : 6€/adulte\, 5€/enfant de 3 à 12 ans. \nRéservation obligatoire au 04 71 66 95 44 \n\nGaec de L’Herm\nLaurie Coudert \nHaute-Loire / Boisset (43500) \nVenez visiter\, participer\, découvrir une ferme bio avec un système de traite qui sort de l’ordinaire. \nLe Gaec de l’herm vous ouvre ses portes pour découvrir\, participer et visiter notre ferme pédagogique. De la traite aux soins aux animaux\, venez découvrir le fonctionnement de notre ferme. Sur place vous pouvez\, déguster nos produits\, échanger\, faire du poney et découvrir nos animaux. En agriculture biologique la ferme existe depuis 1979. Depuis 6 ans nous avons mis en place un systeme de traite innovant : un roto de traite de 24 places. \nProductions de la ferme : page facebook uniquement pour le moment ; Gaec de l’herm AnimEsens \nProductions labellisées Agriculture biologiques : agriculture biologique \nProduits fermiers\nDécouvrir nos produits\n\n\nProduits proposés : \n– produits de la ferme : glaces/ dessert glacés/viande de boeuf bio/ crèmes desserts et faisselles bio\n– autres produits : paniers de producteur legumes\, fromage chevre vache \nAtelier sur place \nDégustation gratuite \nLes engagements du producteur : circuits courts paratager notre passion \nVente à la ferme\nOuverture : le samedi matin periode scolaire de 10h amidi 15 et toute la semaine sur rdv pour vacances estivale \nVente sur les marchés\nmarché nocturne estivale chomelix\, boisset beauzac \n\n\n\n\n	Similaire
URL:https://crocoule.org/notre-evenement/visite-a-la-ferme-3/
LOCATION:Gaec De l’Herm – Boisset\, L'Herm\, Boisset\, 43500
CATEGORIES:03 ans +
END:VEVENT
BEGIN:VEVENT
DTSTART;TZID=Europe/Paris:20230411T173000
DTEND;TZID=Europe/Paris:20230411T190000
DTSTAMP:20260420T052213
CREATED:20230327T121115Z
LAST-MODIFIED:20230327T121115Z
UID:10001154-1681234200-1681239600@crocoule.org
SUMMARY:VISITE À LA FERME
DESCRIPTION:VISITE À LA FERME \nVisite à la ferme Gaec de l’herm à Boisset. \nDégustation de glaces fabriquées à la ferme. \nTarifs : 6€/adulte\, 5€/enfant de 3 à 12 ans. \nRéservation obligatoire au 04 71 66 95 44  \n\nGaec de L’Herm\nLaurie Coudert \nHaute-Loire / Boisset (43500) \nVenez visiter\, participer\, découvrir une ferme bio avec un système de traite qui sort de l’ordinaire. \nLe Gaec de l’herm vous ouvre ses portes pour découvrir\, participer et visiter notre ferme pédagogique. De la traite aux soins aux animaux\, venez découvrir le fonctionnement de notre ferme. Sur place vous pouvez\, déguster nos produits\, échanger\, faire du poney et découvrir nos animaux. En agriculture biologique la ferme existe depuis 1979. Depuis 6 ans nous avons mis en place un systeme de traite innovant : un roto de traite de 24 places. \nProductions de la ferme : page facebook uniquement pour le moment ; Gaec de l’herm AnimEsens \nProductions labellisées Agriculture biologiques : agriculture biologique \nProduits fermiers\nDécouvrir nos produits\n\n\nProduits proposés : \n– produits de la ferme : glaces/ dessert glacés/viande de boeuf bio/ crèmes desserts et faisselles bio\n– autres produits : paniers de producteur legumes\, fromage chevre vache \nAtelier sur place \nDégustation gratuite \nLes engagements du producteur : circuits courts paratager notre passion \nVente à la ferme\nOuverture : le samedi matin periode scolaire de 10h amidi 15 et toute la semaine sur rdv pour vacances estivale \nVente sur les marchés\nmarché nocturne estivale chomelix\, boisset beauzac \n\n\n\n\n	Similaire
URL:https://crocoule.org/notre-evenement/visite-a-la-ferme/
LOCATION:Gaec De l’Herm – Boisset\, L'Herm\, Boisset\, 43500
END:VEVENT
END:VCALENDAR