BEGIN:VCALENDAR
VERSION:2.0
PRODID:-//Crocoule - ECPv6.15.20//NONSGML v1.0//EN
CALSCALE:GREGORIAN
METHOD:PUBLISH
X-WR-CALNAME:Crocoule
X-ORIGINAL-URL:https://crocoule.org
X-WR-CALDESC:Évènements pour Crocoule
REFRESH-INTERVAL;VALUE=DURATION:PT1H
X-Robots-Tag:noindex
X-PUBLISHED-TTL:PT1H
BEGIN:VTIMEZONE
TZID:Europe/Paris
BEGIN:DAYLIGHT
TZOFFSETFROM:+0100
TZOFFSETTO:+0200
TZNAME:CEST
DTSTART:20210328T010000
END:DAYLIGHT
BEGIN:STANDARD
TZOFFSETFROM:+0200
TZOFFSETTO:+0100
TZNAME:CET
DTSTART:20211031T010000
END:STANDARD
BEGIN:DAYLIGHT
TZOFFSETFROM:+0100
TZOFFSETTO:+0200
TZNAME:CEST
DTSTART:20220327T010000
END:DAYLIGHT
BEGIN:STANDARD
TZOFFSETFROM:+0200
TZOFFSETTO:+0100
TZNAME:CET
DTSTART:20221030T010000
END:STANDARD
BEGIN:DAYLIGHT
TZOFFSETFROM:+0100
TZOFFSETTO:+0200
TZNAME:CEST
DTSTART:20230326T010000
END:DAYLIGHT
BEGIN:STANDARD
TZOFFSETFROM:+0200
TZOFFSETTO:+0100
TZNAME:CET
DTSTART:20231029T010000
END:STANDARD
BEGIN:DAYLIGHT
TZOFFSETFROM:+0100
TZOFFSETTO:+0200
TZNAME:CEST
DTSTART:20240331T010000
END:DAYLIGHT
BEGIN:STANDARD
TZOFFSETFROM:+0200
TZOFFSETTO:+0100
TZNAME:CET
DTSTART:20241027T010000
END:STANDARD
END:VTIMEZONE
BEGIN:VEVENT
DTSTART;TZID=Europe/Paris:20230727T140000
DTEND;TZID=Europe/Paris:20230727T160000
DTSTAMP:20260423T150407
CREATED:20230418T074659Z
LAST-MODIFIED:20230418T074659Z
UID:10001229-1690466400-1690473600@crocoule.org
SUMMARY:FORÊT SURPRENANTE
DESCRIPTION:FÔRET SURPRENANTE\nMadeleine Environnement proposer l’atelier FORÊT SURPRENANTE. \nLa forêt et ses habitants nous réservent une multitude de surprises. À chaque recoin\, percez quelques secrets les concernant. \nObservations\, écoute\, manipulations seront au programme de cette balade sur les sentiers de la forêt de Lespinasse. Laissez-vous surprendre ! \nCette animation\, traduite en langue des signes\, est accessible aux personnes sourdes ou malentendantes. \nUne animation réalisée par : \nMadeleine Environnement et traduite par Sophie Ménager (Mots Croisés Interprétation) \nTout public dès 6 ans. \nPrévoir des chaussures de marche\, de l’eau et une tenue adaptée à la météo.  \nLes animations proposées dans ce guide sont gratuites et ouvertes à tous. Les enfants doivent être accompagnés d’un adulte. \nLes réservations sont obligatoires. Il est possible de s’inscrire jusqu’à la veille de l’animation. \nDans un souci de bonne organisation\, merci de vous présenter sur le lieu de rendez-vous au minimum 15 minutes avant le début de l’activité. \nEn cas de mauvaise météo notamment\, une animation peut être annulée. En cas de doute\, n’hésitez pas à contacter le service environnement du Département. \nFORÊT DÉPARTEMENTALE DE LESPINASSE\nÀ partir de Roanne\, suivre Saint-Germain-Lespinasse puis les panneaux “forêt de Lespinasse” par la RN7 puis la RD47 et enfin la RD18. Suivre ensuite la direction de Vivans puis les panneaux “forêt de Lespinasse” sur la RD35. À partir de Marcigny et du sud Bourgogne\, suivre la RD982\, puis prendre la direction de Melay et enfin suivre les panneaux ”forêt de Lespinasse”. Tous les départs des animations se font depuis le Grand Couvert. \nPROGRAMME  \n\n\n	Similaire
URL:https://crocoule.org/notre-evenement/foret-surprenante/
LOCATION:Fôret Départementale De Lespinasse
CATEGORIES:06 ans +,Tout public
END:VEVENT
BEGIN:VEVENT
DTSTART;TZID=Europe/Paris:20230726T140000
DTEND;TZID=Europe/Paris:20230726T160000
DTSTAMP:20260423T150407
CREATED:20230418T072227Z
LAST-MODIFIED:20230418T072227Z
UID:10001226-1690380000-1690387200@crocoule.org
SUMMARY:CONSTRUCTION DE CABANES
DESCRIPTION:CONSTRUCTION DE CABANES\nMadeleine Environnement vous propose construction de cabanes. \nPassez un moment agréable en forêt\, en famille\, à imaginer et construire votre cabane de Robinson ! \nEmplacement\, forme éléments à récolter noeuds. Nous vous accompagnerons à chaque étape de votre création. Cette animation éveillera votre âme d’aventurier et votre sens de la coopération. \nUne animation réalisée par : \nMadeleine Environnement \nTout public dès 3 ans \nPrévoir une collation légère\, de l’eau et une tenue adaptée  \n\n\n\n\nLes animations proposées dans ce guide sont gratuites et ouvertes à tous. Les enfants doivent être accompagnés d’un adulte. \nLes réservations sont obligatoires. Il est possible de s’inscrire jusqu’à la veille de l’animation. \nDans un souci de bonne organisation\, merci de vous présenter sur le lieu de rendez-vous au minimum 15 minutes avant le début de l’activité. \nEn cas de mauvaise météo notamment\, une animation peut être annulée. En cas de doute\, n’hésitez pas à contacter le service environnement du Département. \n\n\n\n\nFORÊT DÉPARTEMENTALE DE LESPINASSE\n\n\n\n\nÀ partir de Roanne\, suivre Saint-Germain-Lespinasse puis les panneaux “forêt de Lespinasse” par la RN7 puis la RD47 et enfin la RD18. Suivre ensuite la direction de Vivans puis les panneaux “forêt de Lespinasse” sur la RD35. À partir de Marcigny et du sud Bourgogne\, suivre la RD982\, puis prendre la direction de Melay et enfin suivre les panneaux ”forêt de Lespinasse”. Tous les départs des animations se font depuis le Grand Couvert. \n\n\n\n\nPROGRAMME  \n\n\n\n	Similaire
URL:https://crocoule.org/notre-evenement/construction-de-cabanes/
LOCATION:Fôret Départementale De Lespinasse
CATEGORIES:03 ans +,Tout public
END:VEVENT
BEGIN:VEVENT
DTSTART;TZID=Europe/Paris:20230726T140000
DTEND;TZID=Europe/Paris:20230726T160000
DTSTAMP:20260423T150407
CREATED:20230418T062116Z
LAST-MODIFIED:20230418T062116Z
UID:10001220-1690380000-1690387200@crocoule.org
SUMMARY:LES MERCREDIS À LESPINASSE
DESCRIPTION:LES MERCREDIS À LESPINASSE\nLe département de la Loire vous propose les mercredis à Lespinasse. \nPendant l’été\, les mercredis après-midi\, participez aux jeux de la forêt de Lespinasse ! Un seul objectif : vous amuser ! \nEn solo ou en équipe\, vous pourrez découvrir de nouveaux jeux pour tous\, imaginés par l’équipe d’animation du Département. Adresse\, vitesse ou mémoire… toutes vos capacités seront mises à contribution. \n\n\n\n\nLes réservations sont obligatoires. Il est possible de s’inscrire jusqu’à la veille de l’animation. \nDans un souci de bonne organisation\, merci de vous présenter sur le lieu de rendez-vous au minimum 15 minutes avant le début de l’activité. \nEn cas de mauvaise météo notamment\, une animation peut être annulée. En cas de doute\, n’hésitez pas à contacter le service environnement du Département. \n\n\n\n\nUne animation réalisée par : \nLe département de la Loire \nTOUT PUBLIC DÈS 6 ANS \nPrévoir de l’eau\, une tenue adapté aux activités en plein air. Une petite collation est offerte.  \nFORÊT DÉPARTEMENTALE DE LESPINASSE \nÀ partir de Roanne\, suivre Saint-Germain-Lespinasse puis les panneaux “forêt de Lespinasse” par la RN7 puis la RD47 et enfin la RD18. Suivre ensuite la direction de Vivans puis les panneaux “forêt de Lespinasse” sur la RD35. À partir de Marcigny et du sud Bourgogne\, suivre la RD982\, puis prendre la direction de Melay et enfin suivre les panneaux ”forêt de Lespinasse”.Tous les départs des animations se font depuis le Grand Couvert. \nPROGRAMME  \n\n\n	Similaire
URL:https://crocoule.org/notre-evenement/les-mercredis-a-lespinasse-3/
LOCATION:Fôret Départementale De Lespinasse
CATEGORIES:06 ans +,Tout public
END:VEVENT
BEGIN:VEVENT
DTSTART;TZID=Europe/Paris:20230726T130000
DTEND;TZID=Europe/Paris:20230726T130000
DTSTAMP:20260423T150407
CREATED:20230418T073207Z
LAST-MODIFIED:20230418T073207Z
UID:10001227-1690376400-1690376400@crocoule.org
SUMMARY:DE LA VÉLOIRE À LA FORÊT DE LESPINASSE
DESCRIPTION:DE LA VÉLOIRE À LA FORÊT DE LESPINASSE\nLe département de la Loire vous propose une après midi vélo de la véloire à la forêt de lespinasse. \nRendez-vous à l’esplanade du port de Briennon au départ des boucles R3 et R6 pour une balade à vélo de 15km qui vous mènera jusqu’à la forêt départementale de Lespinasse. \nL’équipe d’animation vous attendra à votre arrivée au Grand Couvert pour vous proposer une halte pédagogique et rafraichissante. La visite démarre lorsque tout le groupe est arrivé. \nSelon votre niveau\, vous pourrez terminer la boucle (R3- 47km/ R6- 43km) ou retourner à Briennon en empruntant la route aller. \nUne animation réalisée par : \nLe département de la Loire \nTout public dès 11 ans. \nPrévoir de l’eau et un vélo adapté. \nLes animations proposées dans ce guide sont gratuites et ouvertes à tous. Les enfants doivent être accompagnés d’un adulte. \nLes réservations sont obligatoires. Il est possible de s’inscrire jusqu’à la veille de l’animation. \nDans un souci de bonne organisation\, merci de vous présenter sur le lieu de rendez-vous au minimum 15 minutes avant le début de l’activité. \nEn cas de mauvaise météo notamment\, une animation peut être annulée. En cas de doute\, n’hésitez pas à contacter le service environnement du Département. \nFORÊT DÉPARTEMENTALE DE LESPINASSE\nÀ partir de Roanne\, suivre Saint-Germain-Lespinasse puis les panneaux “forêt de Lespinasse” par la RN7 puis la RD47 et enfin la RD18. Suivre ensuite la direction de Vivans puis les panneaux “forêt de Lespinasse” sur la RD35. À partir de Marcigny et du sud Bourgogne\, suivre la RD982\, puis prendre la direction de Melay et enfin suivre les panneaux ”forêt de Lespinasse”. Tous les départs des animations se font depuis le Grand Couvert. \nPROGRAMME  \n\n\n	Similaire
URL:https://crocoule.org/notre-evenement/de-la-veloire-a-la-foret-de-lespinasse/
LOCATION:Fôret Départementale De Lespinasse
CATEGORIES:11 ans +,Tout public
END:VEVENT
BEGIN:VEVENT
DTSTART;TZID=Europe/Paris:20230722T100000
DTEND;TZID=Europe/Paris:20230722T160000
DTSTAMP:20260423T150407
CREATED:20230418T065827Z
LAST-MODIFIED:20230418T065827Z
UID:10001225-1690020000-1690041600@crocoule.org
SUMMARY:RANDO QUIZ
DESCRIPTION:RANDO QUIZ \nLa Fédération français de randonnée de la Loire vous propose une randonnée quiz. \nParcourez en famille ou entre amis un circuit facile de 8km\, ombragé et sans dénivelé dans la forêt département de Lespinasse. \nTout au long du parcours\, en équipe\, vous devrez trouver les balises qui contiennent les questions et tenter d’y répondre ! Par exemple : savez)vous faire la différence entre un chêne rouvre un chêne pédoncule ou encore estimer la hauteur d’un arbre ? \nRassurez-vous\, cette randonnée quiz n’est pas une compétition\, mais une balade ponctuée de découvertes ! Vous parcourrez le circuit spécialement balisé\, à votre rythme et selon vos envies. Au retour\, vous pourrez vérifier vos réponses auprès des animateurs. \nUne animation réalisée par : \nLa Fédération français de randonnée de la Loire \nTout public \nPrévoir une collation légère\, de l’eau et une tenue adaptée à la marche. \nLes animations proposées dans ce guide sont gratuites et ouvertes à tous. Les enfants doivent être accompagnés d’un adulte. \nLes réservations sont obligatoires. Il est possible de s’inscrire jusqu’à la veille de l’animation. \nDans un souci de bonne organisation\, merci de vous présenter sur le lieu de rendez-vous au minimum 15 minutes avant le début de l’activité. \nEn cas de mauvaise météo notamment\, une animation peut être annulée. En cas de doute\, n’hésitez pas à contacter le service environnement du Département. \nFORÊT DÉPARTEMENTALE DE LESPINASSE\nÀ partir de Roanne\, suivre Saint-Germain-Lespinasse puis les panneaux “forêt de Lespinasse” par la RN7 puis la RD47 et enfin la RD18. Suivre ensuite la direction de Vivans puis les panneaux “forêt de Lespinasse” sur la RD35. À partir de Marcigny et du sud Bourgogne\, suivre la RD982\, puis prendre la direction de Melay et enfin suivre les panneaux ”forêt de Lespinasse”. Tous les départs des animations se font depuis le Grand Couvert. \nPROGRAMME  \n\n\n\n	Similaire
URL:https://crocoule.org/notre-evenement/rando-quiz/
LOCATION:Fôret Départementale De Lespinasse
CATEGORIES:Tout public
END:VEVENT
BEGIN:VEVENT
DTSTART;TZID=Europe/Paris:20230720T140000
DTEND;TZID=Europe/Paris:20230720T160000
DTSTAMP:20260423T150407
CREATED:20230418T063914Z
LAST-MODIFIED:20230418T063952Z
UID:10001222-1689861600-1689868800@crocoule.org
SUMMARY:BRICOLAGES NATURE
DESCRIPTION:  Bricolages nature\nMadeleine Environnement propose l’atelier bricolages nature. \n\n\n\n\nÀ partir d’éléments naturels glanés dans la forêt\, nous imaginerons des objets et jouets à réaliser tous ensemble.\n\n\n\n\n\n\nCette animation\, traduite en langue des signes\, est accessible aux personnes sourdes ou malentendantes.\n\nUne animation réalisée par : Madeleine Environnement et traduite pat Sophie Ménager (Mots Croisés Interprétation)\n\nTout public dès 6 ans\nPrévoir une collation légère\, de l’eau et une tenue adaptée. \n\n\nLes réservations sont obligatoires. Il est possible de s’inscrire jusqu’à la veille de l’animation. \nDans un souci de bonne organisation\, merci de vous présenter sur le lieu de rendez-vous au minimum 15 minutes avant le début de l’activité. \nEn cas de mauvaise météo notamment\, une animation peut être annulée. En cas de doute\, n’hésitez pas à contacter le service environnement du Département. \nFORÊT DÉPARTEMENTALE DE LESPINASSE \nÀ partir de Roanne\, suivre Saint-Germain-Lespinasse puis les panneaux “forêt de Lespinasse” par la RN7 puis la RD47 et enfin la RD18. Suivre ensuite la direction de Vivans puis les panneaux “forêt de Lespinasse” sur la RD35. À partir de Marcigny et du sud Bourgogne\, suivre la RD982\, puis prendre la direction de Melay et enfin suivre les panneaux ”forêt de Lespinasse”.Tous les départs des animations se font depuis le Grand Couvert. \nPROGRAMME  \n\n\n\n	Similaire
URL:https://crocoule.org/notre-evenement/bricolages-nature/
LOCATION:Fôret Départementale De Lespinasse
CATEGORIES:06 ans +,Tout public
END:VEVENT
BEGIN:VEVENT
DTSTART;TZID=Europe/Paris:20230720T100000
DTEND;TZID=Europe/Paris:20230720T160000
DTSTAMP:20260423T150407
CREATED:20230418T064751Z
LAST-MODIFIED:20230418T064751Z
UID:10001223-1689847200-1689868800@crocoule.org
SUMMARY:DÉCOUVERTE DE LA PÊCHE AU COUP
DESCRIPTION:DÉCOUVERTE DE LA PÊCHE AU COUP\nLa Fédération de pêche de la Loire vous propose une découverte de la pêche au coup. \nSavez-vous que les poissons nagent des l’étang de la forêt de Lespinasse. Avez-vous déjà essayé la pêche au coup ? \nMuni d’une canne à pêche et guidé par un animateur\, tentez de capturer votre premier poisson ! \nCette animation\, traduite en langue des signes\, est accessible aux personnes sourdes ou malentendantes. \nUne animation réalisée par : \nLa Fédération de pêche de la Loire \nTout public dès 4 ans \nPrévoir une collation légère\, de l’eau et une tenue adaptée à la pratique de la pêche. \n\n\n\n\nLes animations proposées dans ce guide sont gratuites et ouvertes à tous. Les enfants doivent être accompagnés d’un adulte. \nLes réservations sont obligatoires. Il est possible de s’inscrire jusqu’à la veille de l’animation. \nDans un souci de bonne organisation\, merci de vous présenter sur le lieu de rendez-vous au minimum 15 minutes avant le début de l’activité. \nEn cas de mauvaise météo notamment\, une animation peut être annulée. En cas de doute\, n’hésitez pas à contacter le service environnement du Département. \n\n\n\n\n\n\n\n\nFORÊT DÉPARTEMENTALE DE LESPINASSE\nÀ partir de Roanne\, suivre Saint-Germain-Lespinasse puis les panneaux “forêt de Lespinasse” par la RN7 puis la RD47 et enfin la RD18. Suivre ensuite la direction de Vivans puis les panneaux “forêt de Lespinasse” sur la RD35. À partir de Marcigny et du sud Bourgogne\, suivre la RD982\, puis prendre la direction de Melay et enfin suivre les panneaux ”forêt de Lespinasse”. Tous les départs des animations se font depuis le Grand Couvert. \nPROGRAMME  \n\n\n\n\n\n\n	Similaire
URL:https://crocoule.org/notre-evenement/decouverte-de-la-peche-au-coup/
LOCATION:Fôret Départementale De Lespinasse
CATEGORIES:04 ans +,Tout public
END:VEVENT
BEGIN:VEVENT
DTSTART;TZID=Europe/Paris:20230719T140000
DTEND;TZID=Europe/Paris:20230719T160000
DTSTAMP:20260423T150408
CREATED:20230418T061913Z
LAST-MODIFIED:20230418T061913Z
UID:10001219-1689775200-1689782400@crocoule.org
SUMMARY:LES MERCREDIS À LESPINASSE
DESCRIPTION:LES MERCREDIS À LESPINASSE\nLe département de la Loire vous propose les mercredis à Lespinasse. \nPendant l’été\, les mercredis après-midi\, participez aux jeux de la forêt de Lespinasse ! Un seul objectif : vous amuser ! \nEn solo ou en équipe\, vous pourrez découvrir de nouveaux jeux pour tous\, imaginés par l’équipe d’animation du Département. Adresse\, vitesse ou mémoire… toutes vos capacités seront mises à contribution. \n\n\n\n\nLes réservations sont obligatoires. Il est possible de s’inscrire jusqu’à la veille de l’animation. \nDans un souci de bonne organisation\, merci de vous présenter sur le lieu de rendez-vous au minimum 15 minutes avant le début de l’activité. \nEn cas de mauvaise météo notamment\, une animation peut être annulée. En cas de doute\, n’hésitez pas à contacter le service environnement du Département. \n\n\n\n\nUne animation réalisée par : \nLe département de la Loire \nTOUT PUBLIC DÈS 6 ANS \nPrévoir de l’eau\, une tenue adapté aux activités en plein air. Une petite collation est offerte.  \nFORÊT DÉPARTEMENTALE DE LESPINASSE \nÀ partir de Roanne\, suivre Saint-Germain-Lespinasse puis les panneaux “forêt de Lespinasse” par la RN7 puis la RD47 et enfin la RD18. Suivre ensuite la direction de Vivans puis les panneaux “forêt de Lespinasse” sur la RD35. À partir de Marcigny et du sud Bourgogne\, suivre la RD982\, puis prendre la direction de Melay et enfin suivre les panneaux ”forêt de Lespinasse”.Tous les départs des animations se font depuis le Grand Couvert. \nPROGRAMME  \n\n\n	Similaire
URL:https://crocoule.org/notre-evenement/les-mercredis-a-lespinasse-2/
LOCATION:Fôret Départementale De Lespinasse
CATEGORIES:06 ans +,Tout public
END:VEVENT
BEGIN:VEVENT
DTSTART;TZID=Europe/Paris:20230719T100000
DTEND;TZID=Europe/Paris:20230719T120000
DTSTAMP:20260423T150408
CREATED:20230418T063012Z
LAST-MODIFIED:20230418T063052Z
UID:10001221-1689760800-1689768000@crocoule.org
SUMMARY:LESPINASSE À VÉLO
DESCRIPTION:LESPINASSE À VÉLO \nLe Département de la Loire vous propose de découvrir Lespinasse à vélo. \nLes mains posées sur votre guidon\, partez à la découverte de la forêt départementale de Lespinasse ! Une façon originale de partager un bon moment et d’en apprendre plus sur cet habitat particulier. \nPendant la balade\, l’animateur répondra à toutes les questions que vous vous posez sur l’environnement qui vous entoure et sa préservation… Alors\, à vos vélos ! \nUne animation réalisée par ; \nLe Département de la Loire \nTout public sachant pédaler sans roulette \nPrévoir une collation légère\, de l’eau\, un vélo et une tenue adaptée \n\n\n\n\nLes animations proposées dans ce guide sont gratuites et ouvertes à tous. Les enfants doivent être accompagnés d’un adulte. \nLes réservations sont obligatoires. Il est possible de s’inscrire jusqu’à la veille de l’animation. \nDans un souci de bonne organisation\, merci de vous présenter sur le lieu de rendez-vous au minimum 15 minutes avant le début de l’activité. \nEn cas de mauvaise météo notamment\, une animation peut être annulée. En cas de doute\, n’hésitez pas à contacter le service environnement du Département. \n\n\n\n\n\n\n\n\nFORÊT DÉPARTEMENTALE DE LESPINASSE\nÀ partir de Roanne\, suivre Saint-Germain-Lespinasse puis les panneaux “forêt de Lespinasse” par la RN7 puis la RD47 et enfin la RD18. Suivre ensuite la direction de Vivans puis les panneaux “forêt de Lespinasse” sur la RD35. À partir de Marcigny et du sud Bourgogne\, suivre la RD982\, puis prendre la direction de Melay et enfin suivre les panneaux ”forêt de Lespinasse”.\nTous les départs des animations se font depuis le Grand Couvert. \nPROGRAMME  \n\n\n\n\n  \n\n\n\n	Similaire
URL:https://crocoule.org/notre-evenement/lespinasse-a-velo/
LOCATION:Fôret Départementale De Lespinasse
CATEGORIES:Tout public
END:VEVENT
BEGIN:VEVENT
DTSTART;TZID=Europe/Paris:20230712T140000
DTEND;TZID=Europe/Paris:20230712T160000
DTSTAMP:20260423T150408
CREATED:20230418T061155Z
LAST-MODIFIED:20230418T061508Z
UID:10001218-1689170400-1689177600@crocoule.org
SUMMARY:LES MERCREDIS À LESPINASSE
DESCRIPTION:LES MERCREDIS À LESPINASSE\nLe département de la Loire vous propose les mercredis à Lespinasse. \nPendant l’été\, les mercredis après-midi\, participez aux jeux de la forêt de Lespinasse ! Un seul objectif : vous amuser ! \nEn solo ou en équipe\, vous pourrez découvrir de nouveaux jeux pour tous\, imaginés par l’équipe d’animation du Département. Adresse\, vitesse ou mémoire… toutes vos capacités seront mises à contribution. \n\n\n\n\nLes réservations sont obligatoires. Il est possible de s’inscrire jusqu’à la veille de l’animation. \nDans un souci de bonne organisation\, merci de vous présenter sur le lieu de rendez-vous au minimum 15 minutes avant le début de l’activité. \nEn cas de mauvaise météo notamment\, une animation peut être annulée. En cas de doute\, n’hésitez pas à contacter le service environnement du Département. \n\n\n\n\nUne animation réalisée par : \nLe département de la Loire \nTOUT PUBLIC DÈS 6 ANS \nPrévoir de l’eau\, une tenue adapté aux activités en plein air. Une petite collation est offerte.  \nFORÊT DÉPARTEMENTALE DE LESPINASSE \nÀ partir de Roanne\, suivre Saint-Germain-Lespinasse puis les panneaux “forêt de Lespinasse” par la RN7 puis la RD47 et enfin la RD18. Suivre ensuite la direction de Vivans puis les panneaux “forêt de Lespinasse” sur la RD35. À partir de Marcigny et du sud Bourgogne\, suivre la RD982\, puis prendre la direction de Melay et enfin suivre les panneaux ”forêt de Lespinasse”.Tous les départs des animations se font depuis le Grand Couvert. \nPROGRAMME  \n\n\n\n\n\n\n	Similaire
URL:https://crocoule.org/notre-evenement/les-mercredis-a-lespinasse/
LOCATION:Fôret Départementale De Lespinasse
CATEGORIES:06 ans +,Activité du week-end,Tout public
END:VEVENT
BEGIN:VEVENT
DTSTART;TZID=Europe/Paris:20221029T180000
DTEND;TZID=Europe/Paris:20221029T200000
DTSTAMP:20260423T150408
CREATED:20220929T090653Z
LAST-MODIFIED:20220929T090653Z
UID:10000241-1667066400-1667073600@crocoule.org
SUMMARY:BALADE NOCTURNE EN FORÊT
DESCRIPTION:A l’affût du moindre bruissement d’ailes\, du plus petit hu- lulement\, suivez la piste des animaux nocturnes en éveillant vos sens : ouvrez grand vos yeux et vos oreilles\, laissez aller votre imagination… partagez vos ressentis\, vos observations entre participants ! \nInscriptions : loire.fr/rdvnature \n\n\n\n\n\n\n	Similaire
URL:https://crocoule.org/notre-evenement/balade-nocturne-en-foret/
LOCATION:Fôret Départementale De Lespinasse
CATEGORIES:Activité du week-end,Activité pendant les vacances,Tout public
END:VEVENT
BEGIN:VEVENT
DTSTART;TZID=Europe/Paris:20221026T140000
DTEND;TZID=Europe/Paris:20221026T160000
DTSTAMP:20260423T150408
CREATED:20220929T071350Z
LAST-MODIFIED:20220929T071350Z
UID:10000210-1666792800-1666800000@crocoule.org
SUMMARY:UN TOUR EN VÉLO
DESCRIPTION:« L’invention de la machine a vapeur a t’elle eu lieu avant ou après la création de l’école des mines de saint-étienne ? Et l’apparition de la lampe électrique est t’elle plus ancienne que la construction du puits couriot ? Tout au long de la découverte du site\, participez à notre jeu de cartes pour reconstituer la grande frise chronologique du monde de la mine. Pour jouer\, pas besoin de connaître couriot sur le bout des doigts ! Faites appel à votre sens de la déduction… Et à votre intuition ! » \nInscriptions : musee-mine.saint-etienne.fr/ \n\n\n\n\n\n\n	Similaire
URL:https://crocoule.org/notre-evenement/un-tour-en-velo/
LOCATION:Fôret Départementale De Lespinasse
CATEGORIES:08 ans +,Activité en semaine,Activité pendant les vacances
END:VEVENT
END:VCALENDAR