BEGIN:VCALENDAR
VERSION:2.0
PRODID:-//Crocoule - ECPv6.15.15//NONSGML v1.0//EN
CALSCALE:GREGORIAN
METHOD:PUBLISH
X-ORIGINAL-URL:https://crocoule.org
X-WR-CALDESC:Évènements pour Crocoule
REFRESH-INTERVAL;VALUE=DURATION:PT1H
X-Robots-Tag:noindex
X-PUBLISHED-TTL:PT1H
BEGIN:VTIMEZONE
TZID:Europe/Paris
BEGIN:DAYLIGHT
TZOFFSETFROM:+0100
TZOFFSETTO:+0200
TZNAME:CEST
DTSTART:20210328T010000
END:DAYLIGHT
BEGIN:STANDARD
TZOFFSETFROM:+0200
TZOFFSETTO:+0100
TZNAME:CET
DTSTART:20211031T010000
END:STANDARD
BEGIN:DAYLIGHT
TZOFFSETFROM:+0100
TZOFFSETTO:+0200
TZNAME:CEST
DTSTART:20220327T010000
END:DAYLIGHT
BEGIN:STANDARD
TZOFFSETFROM:+0200
TZOFFSETTO:+0100
TZNAME:CET
DTSTART:20221030T010000
END:STANDARD
BEGIN:DAYLIGHT
TZOFFSETFROM:+0100
TZOFFSETTO:+0200
TZNAME:CEST
DTSTART:20230326T010000
END:DAYLIGHT
BEGIN:STANDARD
TZOFFSETFROM:+0200
TZOFFSETTO:+0100
TZNAME:CET
DTSTART:20231029T010000
END:STANDARD
END:VTIMEZONE
BEGIN:VEVENT
DTSTART;TZID=Europe/Paris:20221105T100000
DTEND;TZID=Europe/Paris:20221105T123000
DTSTAMP:20260421T111905
CREATED:20220929T111051Z
LAST-MODIFIED:20220929T111051Z
UID:10000278-1667642400-1667651400@crocoule.org
SUMMARY:OBJECTIF MARS
DESCRIPTION:Atelier journée en lien avec l’expo-ateliers astronautes proposée à la soucoupe. Voyage imminent pour mars ! Dans cet atelier dédié à la planète rouge\, vous construisez et faites décoller une fusée qui embarque comme charge utile une maquette de rover. Votre mission sera de réussir à faire atterrir en douceur le rover\, sans aucune casse. Prêt…e…s à relever le défi ? A l’issue de la journée\, mars n’aura plus plus de secrets pour vous ! (le repas n’est pas prévu sur place. Les enfants ne sont pas encadrés pendant la pause.) \nInscriptions : explora.saint-etienne.fr \n\n\n\n\n\n\n	Similaire
URL:https://crocoule.org/notre-evenement/objectif-mars/
LOCATION:Explora – Saint Étienne\, 8 Rue Calixte Plotton\, Saint Étienne\, 42000\, France
CATEGORIES:Activité du week-end,Activité pendant les vacances
END:VEVENT
BEGIN:VEVENT
DTSTART;TZID=Europe/Paris:20221104T100000
DTEND;TZID=Europe/Paris:20221104T120000
DTSTAMP:20260421T111905
CREATED:20220929T090411Z
LAST-MODIFIED:20220929T090411Z
UID:10000240-1667556000-1667563200@crocoule.org
SUMMARY:VOITURE DU FUTUR
DESCRIPTION:Dans cet atelier\, les enfants construisent et contrôlent une petite voiture électrique. A travers la manipulation de panneaux solaires\, ils sont amenés à s’interroger sur les dif- férentes sources d’énergie qui peuvent servir pour produire l’électricité de la voiture. En ajoutant des capteurs à leurs véhicules\, les enfants prennent le contrôle et réfléchissent à la question de l’autonomie des voitures. \n\n\n\n\nInscriptions : voitures-du-futur/explora.saint-etienne.fr/evenement/vo- \n\n\n\n\n	Similaire
URL:https://crocoule.org/notre-evenement/voiture-du-futur-3/
LOCATION:Explora – Saint Étienne\, 8 Rue Calixte Plotton\, Saint Étienne\, 42000\, France
CATEGORIES:Activité en semaine,Activité pendant les vacances
END:VEVENT
BEGIN:VEVENT
DTSTART;TZID=Europe/Paris:20221103T100000
DTEND;TZID=Europe/Paris:20221103T120000
DTSTAMP:20260421T111905
CREATED:20220929T104144Z
LAST-MODIFIED:20220929T104144Z
UID:10000263-1667469600-1667476800@crocoule.org
SUMMARY:ORCHESTRE ÉLECTRONIQUE
DESCRIPTION:Faire de la musique avec du carton\, de l’aluminium et de l’eau\, ça vous dit ? A partir de presque n’importe quoi et d’une dose d’électronique\, venez inventer un instrument de musique original qui rappelle l’océan ! A l’issue de l’atelier\, la conductivité électrique n’aura plus de secrets pour vous… un moment de création musicale à partager entre enfants et adultes. \nInscriptions : explora.saint-etienne.fr/evenement/atelier-or- chestre-electronique/ \n\n\n\n\n\n\n	Similaire
URL:https://crocoule.org/notre-evenement/orchestre-electronique-2/
LOCATION:Explora – Saint Étienne\, 8 Rue Calixte Plotton\, Saint Étienne\, 42000\, France
CATEGORIES:Activité en semaine,Activité pendant les vacances
END:VEVENT
BEGIN:VEVENT
DTSTART;TZID=Europe/Paris:20221102T100000
DTEND;TZID=Europe/Paris:20221102T113000
DTSTAMP:20260421T111905
CREATED:20220929T095557Z
LAST-MODIFIED:20220929T095557Z
UID:10000251-1667383200-1667388600@crocoule.org
SUMMARY:PREMIERS PAS AVEC BLUEBOT
DESCRIPTION:Initiez les plus petits à la robotique grâce à blue bot\, un ro- bot qui se déplace sur le sol ! Les enfants abordent la notion d’algorithme de façon ludique en programmant blue bot à l’aide des touches directionnelles. Vous aurez plusieurs défis à relever\, réussirez-vous à programmer blue bot ? A vous de jouer ! \nInscriptions : explora.saint-etienne.fr/evenement/at- elier-premiers-pas-avec-bluebot/ \n\n\n\n\n\n\n	Similaire
URL:https://crocoule.org/notre-evenement/premiers-pas-avec-bluebot-4/
LOCATION:Explora – Saint Étienne\, 8 Rue Calixte Plotton\, Saint Étienne\, 42000\, France
CATEGORIES:Activité en semaine,Activité pendant les vacances
END:VEVENT
BEGIN:VEVENT
DTSTART;TZID=Europe/Paris:20221030T100000
DTEND;TZID=Europe/Paris:20221030T120000
DTSTAMP:20260421T111905
CREATED:20220928T150312Z
LAST-MODIFIED:20220928T150312Z
UID:10000192-1667124000-1667131200@crocoule.org
SUMMARY:ÇA BOUGE !
DESCRIPTION:Oui\, on bouge\, mais comment ça marche ? Découvrez les secrets du mouvement chez l’homme et chez les animaux et construisez la maquette d’un membre entièrement fonctionnel. \nInscriptions : explora.saint-etienne.fr \n\n\n	Similaire
URL:https://crocoule.org/notre-evenement/ca-bouge-5/
LOCATION:Explora – Saint Étienne\, 8 Rue Calixte Plotton\, Saint Étienne\, 42000\, France
CATEGORIES:Activité du week-end
END:VEVENT
BEGIN:VEVENT
DTSTART;TZID=Europe/Paris:20221029T140000
DTEND;TZID=Europe/Paris:20221029T160000
DTSTAMP:20260421T111905
CREATED:20220929T090210Z
LAST-MODIFIED:20220929T090210Z
UID:10000239-1667052000-1667059200@crocoule.org
SUMMARY:VOITURE DU FUTUR
DESCRIPTION:Dans cet atelier\, les enfants construisent et contrôlent une petite voiture électrique. A travers la manipulation de panneaux solaires\, ils sont amenés à s’interroger sur les dif- férentes sources d’énergie qui peuvent servir pour produire l’électricité de la voiture. En ajoutant des capteurs à leurs véhicules\, les enfants prennent le contrôle et réfléchissent à la question de l’autonomie des voitures. \n\n\n\n\nInscriptions : voitures-du-futur/explora.saint-etienne.fr/evenement/vo- \n\n\n\n\n\n\n	Similaire
URL:https://crocoule.org/notre-evenement/voiture-du-futur-2/
LOCATION:Explora – Saint Étienne\, 8 Rue Calixte Plotton\, Saint Étienne\, 42000\, France
CATEGORIES:Activité du week-end,Activité pendant les vacances
END:VEVENT
BEGIN:VEVENT
DTSTART;TZID=Europe/Paris:20221029T100000
DTEND;TZID=Europe/Paris:20221029T113000
DTSTAMP:20260421T111905
CREATED:20220927T115409Z
LAST-MODIFIED:20220927T115516Z
UID:10000081-1667037600-1667043000@crocoule.org
SUMMARY:PREMIERS PAS AVEC BLUEBOT
DESCRIPTION:Initiez les plus petits à la robotique grâce à blue bot\, un ro- bot qui se déplace sur le sol ! Les enfants abordent la notion d’algorithme de façon ludique en programmant blue bot à l’aide des touches directionnelles. Vous aurez plusieurs défis à relever\, réussirez-vous à programmer blue bot ? A vous de jouer ! \nInscriptions : explora.saint-etienne.fr/evenement/at- elier-premiers-pas-avec-bluebot/ \n\n\n	Similaire
URL:https://crocoule.org/notre-evenement/premiers-pas-avec-bluebot-2/
LOCATION:Explora – Saint Étienne\, 8 Rue Calixte Plotton\, Saint Étienne\, 42000\, France
CATEGORIES:Activité du week-end
END:VEVENT
BEGIN:VEVENT
DTSTART;TZID=Europe/Paris:20221028T140000
DTEND;TZID=Europe/Paris:20221028T160000
DTSTAMP:20260421T111905
CREATED:20220928T145756Z
LAST-MODIFIED:20220928T145809Z
UID:10000190-1666965600-1666972800@crocoule.org
SUMMARY:ÇA BOUGE !
DESCRIPTION:Oui\, on bouge\, mais comment ça marche ? Découvrez les secrets du mouvement chez l’homme et chez les animaux et construisez la maquette d’un membre entièrement fonctionnel. \nInscriptions : explora.saint-etienne.fr \n\n\n	Similaire
URL:https://crocoule.org/notre-evenement/ca-bouge-3/
LOCATION:Explora – Saint Étienne\, 8 Rue Calixte Plotton\, Saint Étienne\, 42000\, France
CATEGORIES:Activité en semaine,Activité pendant les vacances
END:VEVENT
BEGIN:VEVENT
DTSTART;TZID=Europe/Paris:20221025T140000
DTEND;TZID=Europe/Paris:20221025T160000
DTSTAMP:20260421T111905
CREATED:20220928T145605Z
LAST-MODIFIED:20220928T145804Z
UID:10000189-1666706400-1666713600@crocoule.org
SUMMARY:ÇA BOUGE !
DESCRIPTION:Oui\, on bouge\, mais comment ça marche ? Découvrez les secrets du mouvement chez l’homme et chez les animaux et construisez la maquette d’un membre entièrement fonctionnel. \nInscriptions : explora.saint-etienne.fr \n\n\n\n\n\n\n	Similaire
URL:https://crocoule.org/notre-evenement/ca-bouge-2/
LOCATION:Explora – Saint Étienne\, 8 Rue Calixte Plotton\, Saint Étienne\, 42000\, France
CATEGORIES:Activité en semaine,Activité pendant les vacances
END:VEVENT
BEGIN:VEVENT
DTSTART;TZID=Europe/Paris:20221019T100000
DTEND;TZID=Europe/Paris:20221019T113000
DTSTAMP:20260421T111905
CREATED:20220927T115250Z
LAST-MODIFIED:20220927T115250Z
UID:10000080-1666173600-1666179000@crocoule.org
SUMMARY:PREMIERS PAS AVEC BLUEBOT
DESCRIPTION:Initiez les plus petits à la robotique grâce à blue bot\, un ro- bot qui se déplace sur le sol ! Les enfants abordent la notion d’algorithme de façon ludique en programmant blue bot à l’aide des touches directionnelles. Vous aurez plusieurs défis à relever\, réussirez-vous à programmer blue bot ? A vous de jouer ! \nInscriptions : explora.saint-etienne.fr/evenement/at- elier-premiers-pas-avec-bluebot/ \n\n\n\n\n\n	Similaire
URL:https://crocoule.org/notre-evenement/premiers-pas-avec-bluebot/
LOCATION:Explora – Saint Étienne\, 8 Rue Calixte Plotton\, Saint Étienne\, 42000\, France
CATEGORIES:Activité en semaine
END:VEVENT
BEGIN:VEVENT
DTSTART;TZID=Europe/Paris:20221012T100000
DTEND;TZID=Europe/Paris:20221012T140000
DTSTAMP:20260421T111905
CREATED:20220927T104954Z
LAST-MODIFIED:20220927T105306Z
UID:10000066-1665568800-1665583200@crocoule.org
SUMMARY:ÇA BOUGE !
DESCRIPTION:Oui\, on bouge\, mais comment ça marche ? Découvrez les secrets du mouvement chez l’homme et chez les animaux et construisez la maquette d’un membre entièrement fonc- tionnel. \nInscriptions : explora.saint-etienne.fr \n\n\nPremière session à 10h\nDeuxième session à 14h\n\nDurée : 2h \n\n\n\n\n\n	Similaire
URL:https://crocoule.org/notre-evenement/ca-bouge/
LOCATION:Explora – Saint Étienne\, 8 Rue Calixte Plotton\, Saint Étienne\, 42000\, France
CATEGORIES:Activité en semaine
END:VEVENT
BEGIN:VEVENT
DTSTART;TZID=Europe/Paris:20221008T100000
DTEND;TZID=Europe/Paris:20221008T180000
DTSTAMP:20260421T111905
CREATED:20220927T131925Z
LAST-MODIFIED:20220927T131945Z
UID:10000104-1665223200-1665252000@crocoule.org
SUMMARY:ROULEZ !
DESCRIPTION:Dans le cadre de la fête de la science\, la rotonde vous donne rendez-vous pour vous amuser\, fabriquer\, jouer avec les sciences et rouler sous toutes les formes : rouler sur un vélo\, faire rouler un robot\, un skate\, un ballon\, etc. Bref\, avec nous : tout roule ! \nInscriptions : explora.saint-etienne.fr/ \n\n\n\n\n\n	Similaire
URL:https://crocoule.org/notre-evenement/roulez/
LOCATION:Explora – Saint Étienne\, 8 Rue Calixte Plotton\, Saint Étienne\, 42000\, France
CATEGORIES:Activité du week-end,Tout public
END:VEVENT
BEGIN:VEVENT
DTSTART;TZID=Europe/Paris:20221001T140000
DTEND;TZID=Europe/Paris:20221001T160000
DTSTAMP:20260421T111905
CREATED:20220927T123909Z
LAST-MODIFIED:20240416T162038Z
UID:10000092-1664632800-1664640000@crocoule.org
SUMMARY:VOITURE DU FUTUR
DESCRIPTION:Dans cet atelier\, les enfants construisent et contrôlent une petite voiture électrique. A travers la manipulation de panneaux solaires\, ils sont amenés à s’interroger sur les dif- férentes sources d’énergie qui peuvent servir pour produire l’électricité de la voiture. En ajoutant des capteurs à leurs véhicules\, les enfants prennent le contrôle et réfléchissent à la question de l’autonomie des voitures. \nInscriptions : explora.saint-etienne.fr/evenement/vo- itures-du-futur/ \n\n\n\n\n\n	Similaire
URL:https://crocoule.org/notre-evenement/voiture-du-futur/
LOCATION:Explora – Saint Étienne\, 8 Rue Calixte Plotton\, Saint Étienne\, 42000\, France
CATEGORIES:Activité du week-end,Tous les événements
END:VEVENT
BEGIN:VEVENT
DTSTART;TZID=Europe/Paris:20221001T100000
DTEND;TZID=Europe/Paris:20221001T113000
DTSTAMP:20260421T111905
CREATED:20220927T123549Z
LAST-MODIFIED:20220927T123549Z
UID:10000091-1664618400-1664623800@crocoule.org
SUMMARY:PREMIERS PAS AVEC BLUEBOT
DESCRIPTION:Initiez les plus petits à la robotique grâce à blue bot\, un ro- bot qui se déplace sur le sol ! Les enfants abordent la notion d’algorithme de façon ludique en programmant blue bot à l’aide des touches directionnelles. Vous aurez plusieurs défis à relever\, réussirez-vous à programmer blue bot ? A vous de jouer ! \nInscriptions : explora.saint-etienne.fr/evenement/at- elier-premiers-pas-avec-bluebot/ \n\n\n\n\n\n	Similaire
URL:https://crocoule.org/notre-evenement/premiers-pas-avec-bluebot-3/
LOCATION:Explora – Saint Étienne\, 8 Rue Calixte Plotton\, Saint Étienne\, 42000\, France
CATEGORIES:Activité du week-end
END:VEVENT
BEGIN:VEVENT
DTSTART;TZID=Europe/Paris:20220929T100000
DTEND;TZID=Europe/Paris:20220929T120000
DTSTAMP:20260421T111905
CREATED:20220929T122731Z
LAST-MODIFIED:20220929T122731Z
UID:10000307-1664445600-1664452800@crocoule.org
SUMMARY:JEUX VIDÉO
DESCRIPTION:L’atelier numérique vous propose une sélection de jeux vidéo sur le thème de la science et de l’écologie (fête de la science-atelier numérique) \nInscriptions : mediatheques.saint-etienne.fr . \n\n\n\n\n\n	Similaire
URL:https://crocoule.org/notre-evenement/jeux-video-2/
LOCATION:Explora – Saint Étienne\, 8 Rue Calixte Plotton\, Saint Étienne\, 42000\, France
CATEGORIES:Activité en semaine
END:VEVENT
BEGIN:VEVENT
DTSTART;TZID=Europe/Paris:20220927T100000
DTEND;TZID=Europe/Paris:20220927T120000
DTSTAMP:20260421T111905
CREATED:20220927T143908Z
LAST-MODIFIED:20220927T143908Z
UID:10000121-1664272800-1664280000@crocoule.org
SUMMARY:ORCHESTRE ÉLECTRONIQUE
DESCRIPTION:Faire de la musique avec du carton\, de l’aluminium et de l’eau\, ça vous dit ? A partir de presque n’importe quoi et d’une dose d’électronique\, venez inventer un instrument de musique original qui rappelle l’océan ! A l’issue de l’atelier\, la conductivité électrique n’aura plus de secrets pour vous… un moment de création musicale à partager entre enfants et adultes. \nInscriptions : explora.saint-etienne.fr/evenement/atelier-or- chestre-electronique/ \n\n\n\n\n\n\n	Similaire
URL:https://crocoule.org/notre-evenement/orchestre-electronique/
LOCATION:Explora – Saint Étienne\, 8 Rue Calixte Plotton\, Saint Étienne\, 42000\, France
CATEGORIES:Activité du week-end,Activité pendant les vacances
END:VEVENT
END:VCALENDAR