BEGIN:VCALENDAR
VERSION:2.0
PRODID:-//Crocoule - ECPv6.15.15//NONSGML v1.0//EN
CALSCALE:GREGORIAN
METHOD:PUBLISH
X-ORIGINAL-URL:https://crocoule.org
X-WR-CALDESC:Évènements pour Crocoule
REFRESH-INTERVAL;VALUE=DURATION:PT1H
X-Robots-Tag:noindex
X-PUBLISHED-TTL:PT1H
BEGIN:VTIMEZONE
TZID:Europe/Paris
BEGIN:DAYLIGHT
TZOFFSETFROM:+0100
TZOFFSETTO:+0200
TZNAME:CEST
DTSTART:20220327T010000
END:DAYLIGHT
BEGIN:STANDARD
TZOFFSETFROM:+0200
TZOFFSETTO:+0100
TZNAME:CET
DTSTART:20221030T010000
END:STANDARD
BEGIN:DAYLIGHT
TZOFFSETFROM:+0100
TZOFFSETTO:+0200
TZNAME:CEST
DTSTART:20230326T010000
END:DAYLIGHT
BEGIN:STANDARD
TZOFFSETFROM:+0200
TZOFFSETTO:+0100
TZNAME:CET
DTSTART:20231029T010000
END:STANDARD
BEGIN:DAYLIGHT
TZOFFSETFROM:+0100
TZOFFSETTO:+0200
TZNAME:CEST
DTSTART:20240331T010000
END:DAYLIGHT
BEGIN:STANDARD
TZOFFSETFROM:+0200
TZOFFSETTO:+0100
TZNAME:CET
DTSTART:20241027T010000
END:STANDARD
END:VTIMEZONE
BEGIN:VEVENT
DTSTART;TZID=Europe/Paris:20230826T083000
DTEND;TZID=Europe/Paris:20230826T083000
DTSTAMP:20260422T010546
CREATED:20230802T080939Z
LAST-MODIFIED:20230802T080939Z
UID:10002212-1693038600-1693038600@crocoule.org
SUMMARY:A la découverte du chemin pédagogique
DESCRIPTION:A la découverte du chemin pédagogique\nPartez à la découverte du chemin pédagogique pendant les vacances ! \nEn quête de nouvelles connaissances ? Embarquez pour une exploration enrichissante du chemin pédagogique\, un parcours de 6 km qui mettra en lumière les oiseaux et la flore de la région. Accompagnés par l’experte Laurence HALLU-BRAVARD\, cette excursion promet une immersion passionnante dans le monde fascinant de la faune et de la flore. \nDès le départ\, cette expérience vous embarquera dans un voyage captivant\, ponctué de découvertes et d’enseignements. Au fil du parcours de 6 km\, les mots de transitions marqueront le rythme de votre aventure\, vous conduisant d’une étape à l’autre en toute fluidité. De la découverte d’une espèce rare à l’observation d’une plante unique\, chaque pas vous rapprochera davantage de la richesse de la biodiversité locale. \nPréparez-vous pour une immersion totale\, car cette expédition durera de 3 à 4 heures\, vous laissant amplement de temps pour explorer chaque recoin de la nature environnante. Le dénivelé de 165m ajoutera une touche de dynamisme à votre expérience\, créant des moments d’efforts et de contemplation. \nAfin de vivre pleinement cette aventure\, la réservation est obligatoire auprès des Offices de Tourisme Marches du Velay Rochebaron. Alors\, n’attendez plus et réservez votre place dès maintenant pour cette expérience pédagogique unique en son genre. Vous en ressortirez enrichis et inspirés par la beauté de la nature et la passion communicative de Laurence HALLU-BRAVARD. \n\n\n	Similaire
URL:https://crocoule.org/notre-evenement/a-la-decouverte-du-chemin-pedagogique/
LOCATION:Etang – Saint-André-de-Chalencon\, Chazelles\, Saint-André-de-Chalencon\, 43130
END:VEVENT
BEGIN:VEVENT
DTSTART;TZID=Europe/Paris:20230715T160000
DTEND;TZID=Europe/Paris:20230715T160000
DTSTAMP:20260422T010546
CREATED:20230629T102751Z
LAST-MODIFIED:20230724T073651Z
UID:10001776-1689436800-1689436800@crocoule.org
SUMMARY:Balade contée
DESCRIPTION:Balade contée\nLaissez-vous porter par les contes d’Alain AYME. Balade contée de 6 km. Réservation obligatoire dans les bureaux de l’Office de Tourisme Marches du Velay Rochebaron. \nDénivelé 165m. Facile. Déconseillée en poussette.\nAccompagnatrices : Roselyne DUPRAZ et Christine BRAZIER \nInscription  \nC’est quoi une balade contée ? \nTout d’abord\, une balade contée est une forme d’animation narrative où un conteur guide les participants lors d’une promenade tout en racontant une histoire captivante. Les mots de transition sont des éléments linguistiques utilisés pour relier les différentes parties de l’histoire\, assurant ainsi une narration fluide et cohérente. \nLors de cette balade\, le conteur invite les participants à se déplacer à travers un lieu spécifique\, comme un parc\, une forêt ou un quartier historique. Tout au long de la promenade\, le conteur raconte une histoire en utilisant des mots de transition pour faciliter la transition entre les scènes\, les événements et les personnages de l’histoire. \n\n\n	Similaire
URL:https://crocoule.org/notre-evenement/balade-contee/
LOCATION:Etang – Saint-André-de-Chalencon\, Chazelles\, Saint-André-de-Chalencon\, 43130
CATEGORIES:05 ans +
END:VEVENT
END:VCALENDAR