BEGIN:VCALENDAR
VERSION:2.0
PRODID:-//Crocoule - ECPv6.15.15//NONSGML v1.0//EN
CALSCALE:GREGORIAN
METHOD:PUBLISH
X-ORIGINAL-URL:https://crocoule.org
X-WR-CALDESC:Évènements pour Crocoule
REFRESH-INTERVAL;VALUE=DURATION:PT1H
X-Robots-Tag:noindex
X-PUBLISHED-TTL:PT1H
BEGIN:VTIMEZONE
TZID:Europe/Paris
BEGIN:DAYLIGHT
TZOFFSETFROM:+0100
TZOFFSETTO:+0200
TZNAME:CEST
DTSTART:20210328T010000
END:DAYLIGHT
BEGIN:STANDARD
TZOFFSETFROM:+0200
TZOFFSETTO:+0100
TZNAME:CET
DTSTART:20211031T010000
END:STANDARD
BEGIN:DAYLIGHT
TZOFFSETFROM:+0100
TZOFFSETTO:+0200
TZNAME:CEST
DTSTART:20220327T010000
END:DAYLIGHT
BEGIN:STANDARD
TZOFFSETFROM:+0200
TZOFFSETTO:+0100
TZNAME:CET
DTSTART:20221030T010000
END:STANDARD
BEGIN:DAYLIGHT
TZOFFSETFROM:+0100
TZOFFSETTO:+0200
TZNAME:CEST
DTSTART:20230326T010000
END:DAYLIGHT
BEGIN:STANDARD
TZOFFSETFROM:+0200
TZOFFSETTO:+0100
TZNAME:CET
DTSTART:20231029T010000
END:STANDARD
BEGIN:DAYLIGHT
TZOFFSETFROM:+0100
TZOFFSETTO:+0200
TZNAME:CEST
DTSTART:20240331T010000
END:DAYLIGHT
BEGIN:STANDARD
TZOFFSETFROM:+0200
TZOFFSETTO:+0100
TZNAME:CET
DTSTART:20241027T010000
END:STANDARD
END:VTIMEZONE
BEGIN:VEVENT
DTSTART;TZID=Europe/Paris:20230115T150000
DTEND;TZID=Europe/Paris:20230115T160000
DTSTAMP:20260421T192712
CREATED:20221221T152511Z
LAST-MODIFIED:20221221T152511Z
UID:10000685-1673794800-1673798400@crocoule.org
SUMMARY:LES FABLES DÉMÉNAGENT
DESCRIPTION:La compagnie les Vagabonds en spectacle. Une adaptation très actuelle\, libre et humoristique qui permet de redécouvrir ces fabuleuses histoires. Ferdinand et Felix\, deux déménageurs aussi maladroits qu’incompétents trouvent un vieux livre tombé d’un carton : Les Fables de la Fontaine. \n\n\n	Similaire
URL:https://crocoule.org/notre-evenement/les-fables-demenagent/
LOCATION:Espace Culturel Le Monteil – Monistrol-sur-Loire\, 2 Rue Henri Pourrat\, Monistrol-sur-Loire\, 43120
CATEGORIES:05 ans +,Activité du week-end
END:VEVENT
BEGIN:VEVENT
DTSTART;TZID=Europe/Paris:20221220T180000
DTEND;TZID=Europe/Paris:20221220T180000
DTSTAMP:20260421T192712
CREATED:20221125T153025Z
LAST-MODIFIED:20221125T153025Z
UID:10000446-1671559200-1671559200@crocoule.org
SUMMARY:L'APPRENTI SORCIER
DESCRIPTION:Avec Maxime Delforges. Un spectacle féerique et interactif autour de l’univers d’Harry Potter qui enchantera les petits comme les grands ! Entrée gratuite sur réservation à l’office de tourisme. 04 71 66 03 14. \n\n\n	Similaire
URL:https://crocoule.org/notre-evenement/lapprenti-sorcier/
LOCATION:Espace Culturel Le Monteil – Monistrol-sur-Loire\, 2 Rue Henri Pourrat\, Monistrol-sur-Loire\, 43120
END:VEVENT
BEGIN:VEVENT
DTSTART;TZID=Europe/Paris:20221214T160000
DTEND;TZID=Europe/Paris:20221214T165500
DTSTAMP:20260421T192712
CREATED:20221125T133604Z
LAST-MODIFIED:20221125T133604Z
UID:10000401-1671033600-1671036900@crocoule.org
SUMMARY:OURNECK LE TROUBADOUR
DESCRIPTION:Il y a des milliers d’années\, notre planète Terre était habitée par les Nomades\, un peuple imaginaire\, vivant en harmonie parfaite avec la nature. Nous suivrons à travers ce spectacle la vie du petit Ourneck\, enfant nomade\, qui doit quitter les siens pour partir à la découverte du Monde. Au fil du voyage\, la magie des rencontres extraordinaires qui parsèment son chemin\, vont faire d’Ourneck\, un troubadour\, un nomade capable de jongler avec n’importe quel objet. Pour le bonheur de tous. \n04 71 66 03 14 \n\n\n	Similaire
URL:https://crocoule.org/notre-evenement/ourneck-le-troubadour/
LOCATION:Espace Culturel Le Monteil – Monistrol-sur-Loire\, 2 Rue Henri Pourrat\, Monistrol-sur-Loire\, 43120
END:VEVENT
END:VCALENDAR