BEGIN:VCALENDAR
VERSION:2.0
PRODID:-//Crocoule - ECPv6.15.15//NONSGML v1.0//EN
CALSCALE:GREGORIAN
METHOD:PUBLISH
X-ORIGINAL-URL:https://crocoule.org
X-WR-CALDESC:Évènements pour Crocoule
REFRESH-INTERVAL;VALUE=DURATION:PT1H
X-Robots-Tag:noindex
X-PUBLISHED-TTL:PT1H
BEGIN:VTIMEZONE
TZID:Europe/Paris
BEGIN:DAYLIGHT
TZOFFSETFROM:+0100
TZOFFSETTO:+0200
TZNAME:CEST
DTSTART:20240331T010000
END:DAYLIGHT
BEGIN:STANDARD
TZOFFSETFROM:+0200
TZOFFSETTO:+0100
TZNAME:CET
DTSTART:20241027T010000
END:STANDARD
BEGIN:DAYLIGHT
TZOFFSETFROM:+0100
TZOFFSETTO:+0200
TZNAME:CEST
DTSTART:20250330T010000
END:DAYLIGHT
BEGIN:STANDARD
TZOFFSETFROM:+0200
TZOFFSETTO:+0100
TZNAME:CET
DTSTART:20251026T010000
END:STANDARD
BEGIN:DAYLIGHT
TZOFFSETFROM:+0100
TZOFFSETTO:+0200
TZNAME:CEST
DTSTART:20260329T010000
END:DAYLIGHT
BEGIN:STANDARD
TZOFFSETFROM:+0200
TZOFFSETTO:+0100
TZNAME:CET
DTSTART:20261025T010000
END:STANDARD
BEGIN:DAYLIGHT
TZOFFSETFROM:+0100
TZOFFSETTO:+0200
TZNAME:CEST
DTSTART:20270328T010000
END:DAYLIGHT
BEGIN:STANDARD
TZOFFSETFROM:+0200
TZOFFSETTO:+0100
TZNAME:CET
DTSTART:20271031T010000
END:STANDARD
END:VTIMEZONE
BEGIN:VEVENT
DTSTART;TZID=Europe/Paris:20260415T140000
DTEND;TZID=Europe/Paris:20260415T160000
DTSTAMP:20260421T061318
CREATED:20260228T174339Z
LAST-MODIFIED:20260228T174339Z
UID:10012920-1776261600-1776268800@crocoule.org
SUMMARY:Firminy | Atelier jeune public « Théâtre de lumière »
DESCRIPTION:Création d’un petit « théâtre » en trois panneaux articulés avec des découpes de formes diverses et variées et calfeutrés de plastiques transparents colorés pour imiter les « vitraux » de Le Corbusier et faire des jeux de lumière dans le noir. \n\n\n	Similaire
URL:https://crocoule.org/notre-evenement/firminy-atelier-jeune-public-theatre-de-lumiere-2/
LOCATION:Eglise Saint-Pierre\, Rue des Noyers\, firminy\, Rhône-Alpes\, 42700\, France
CATEGORIES:06 ans +,Activité pendant les vacances,Intérieur,Jeune Public,Tous les événements
END:VEVENT
BEGIN:VEVENT
DTSTART;TZID=Europe/Paris:20260408T140000
DTEND;TZID=Europe/Paris:20260408T160000
DTSTAMP:20260421T061318
CREATED:20260228T174339Z
LAST-MODIFIED:20260228T174339Z
UID:10012919-1775656800-1775664000@crocoule.org
SUMMARY:Firminy | Atelier jeune public « Théâtre de lumière »
DESCRIPTION:Création d’un petit « théâtre » en trois panneaux articulés avec des découpes de formes diverses et variées et calfeutrés de plastiques transparents colorés pour imiter les « vitraux » de Le Corbusier et faire des jeux de lumière dans le noir. \n\n\n	Similaire
URL:https://crocoule.org/notre-evenement/firminy-atelier-jeune-public-theatre-de-lumiere/
LOCATION:Eglise Saint-Pierre\, Rue des Noyers\, firminy\, Rhône-Alpes\, 42700\, France
CATEGORIES:06 ans +,Activité pendant les vacances,Intérieur,Jeune Public,Tous les événements
END:VEVENT
BEGIN:VEVENT
DTSTART;TZID=Europe/Paris:20260218T140000
DTEND;TZID=Europe/Paris:20260218T160000
DTSTAMP:20260421T061318
CREATED:20251119T160943Z
LAST-MODIFIED:20251119T160943Z
UID:10012425-1771423200-1771430400@crocoule.org
SUMMARY:Firminy | Atelier jeune public « La fabrique des sons »
DESCRIPTION:Avec des matériaux recyclés\, les enfants construisent leurs propres instruments de musique\, avant de faire un petit « concert » improvisé dans la nef de l’église\, où les parents sont invités ! \n\n\n	Similaire
URL:https://crocoule.org/notre-evenement/firminy-atelier-jeune-public-la-fabrique-des-sons-2/
LOCATION:Eglise Saint-Pierre\, Rue des Noyers\, firminy\, Rhône-Alpes\, 42700\, France
CATEGORIES:06 ans +,Activité pendant les vacances,Intérieur,Jeune Public,Tous les événements
END:VEVENT
BEGIN:VEVENT
DTSTART;TZID=Europe/Paris:20260211T140000
DTEND;TZID=Europe/Paris:20260211T160000
DTSTAMP:20260421T061318
CREATED:20251119T160942Z
LAST-MODIFIED:20251119T160942Z
UID:10012424-1770818400-1770825600@crocoule.org
SUMMARY:Firminy | Atelier jeune public « La fabrique des sons »
DESCRIPTION:Avec des matériaux recyclés\, les enfants construisent leurs propres instruments de musique\, avant de faire un petit « concert » improvisé dans la nef de l’église\, où les parents sont invités ! \n\n\n	Similaire
URL:https://crocoule.org/notre-evenement/firminy-atelier-jeune-public-la-fabrique-des-sons/
LOCATION:Eglise Saint-Pierre\, Rue des Noyers\, firminy\, Rhône-Alpes\, 42700\, France
CATEGORIES:06 ans +,Activité pendant les vacances,Intérieur,Jeune Public,Tous les événements
END:VEVENT
BEGIN:VEVENT
DTSTART;TZID=Europe/Paris:20251229T140000
DTEND;TZID=Europe/Paris:20251229T160000
DTSTAMP:20260421T061318
CREATED:20251119T160941Z
LAST-MODIFIED:20251119T160941Z
UID:10012422-1767016800-1767024000@crocoule.org
SUMMARY:Firminy | Atelier jeune public « Je personnalise : ma jolie guirlande rien qu’à moi »
DESCRIPTION:Marre des guirlandes classiques que l’on voit partout ? Viens créer ta propre guirlande lumineuse\, qui TE ressemble\, pour décorer ta chambre ou un endroit qui te plaît. Et une fois de plus\, grâce à de la récup ! \n\n\n	Similaire
URL:https://crocoule.org/notre-evenement/firminy-atelier-jeune-public-je-personnalise-ma-jolie-guirlande-rien-qua-moi-2/
LOCATION:Eglise Saint-Pierre\, Rue des Noyers\, firminy\, Rhône-Alpes\, 42700\, France
CATEGORIES:06 ans +,Activité pendant les vacances,Intérieur,Jeune Public,Tous les événements
END:VEVENT
BEGIN:VEVENT
DTSTART;TZID=Europe/Paris:20251222T140000
DTEND;TZID=Europe/Paris:20251222T160000
DTSTAMP:20260421T061318
CREATED:20251119T160941Z
LAST-MODIFIED:20251119T160941Z
UID:10012421-1766412000-1766419200@crocoule.org
SUMMARY:Firminy | Atelier jeune public « Je personnalise : ma jolie guirlande rien qu’à moi »
DESCRIPTION:Marre des guirlandes classiques que l’on voit partout ? Viens créer ta propre guirlande lumineuse\, qui TE ressemble\, pour décorer ta chambre ou un endroit qui te plaît. Et une fois de plus\, grâce à de la récup ! \n\n\n	Similaire
URL:https://crocoule.org/notre-evenement/firminy-atelier-jeune-public-je-personnalise-ma-jolie-guirlande-rien-qua-moi/
LOCATION:Eglise Saint-Pierre\, Rue des Noyers\, firminy\, Rhône-Alpes\, 42700\, France
CATEGORIES:06 ans +,Activité pendant les vacances,Intérieur,Jeune Public,Tous les événements
END:VEVENT
END:VCALENDAR