BEGIN:VCALENDAR
VERSION:2.0
PRODID:-//Crocoule - ECPv6.15.15//NONSGML v1.0//EN
CALSCALE:GREGORIAN
METHOD:PUBLISH
X-WR-CALNAME:Crocoule
X-ORIGINAL-URL:https://crocoule.org
X-WR-CALDESC:Évènements pour Crocoule
REFRESH-INTERVAL;VALUE=DURATION:PT1H
X-Robots-Tag:noindex
X-PUBLISHED-TTL:PT1H
BEGIN:VTIMEZONE
TZID:Europe/Paris
BEGIN:DAYLIGHT
TZOFFSETFROM:+0100
TZOFFSETTO:+0200
TZNAME:CEST
DTSTART:20220327T010000
END:DAYLIGHT
BEGIN:STANDARD
TZOFFSETFROM:+0200
TZOFFSETTO:+0100
TZNAME:CET
DTSTART:20221030T010000
END:STANDARD
BEGIN:DAYLIGHT
TZOFFSETFROM:+0100
TZOFFSETTO:+0200
TZNAME:CEST
DTSTART:20230326T010000
END:DAYLIGHT
BEGIN:STANDARD
TZOFFSETFROM:+0200
TZOFFSETTO:+0100
TZNAME:CET
DTSTART:20231029T010000
END:STANDARD
BEGIN:DAYLIGHT
TZOFFSETFROM:+0100
TZOFFSETTO:+0200
TZNAME:CEST
DTSTART:20240331T010000
END:DAYLIGHT
BEGIN:STANDARD
TZOFFSETFROM:+0200
TZOFFSETTO:+0100
TZNAME:CET
DTSTART:20241027T010000
END:STANDARD
END:VTIMEZONE
BEGIN:VEVENT
DTSTART;TZID=Europe/Paris:20230810T143000
DTEND;TZID=Europe/Paris:20230810T160000
DTSTAMP:20260421T092057
CREATED:20230801T074856Z
LAST-MODIFIED:20230801T074856Z
UID:10002152-1691677800-1691683200@crocoule.org
SUMMARY:À la chasse aux trésors à dos de poneys !
DESCRIPTION:À la chasse aux trésors à dos de poneys !\nPendant les vacances\, participez à la chasse aux trésors à dos de poneys organisé par l’écuries des 3 vallées de beauzac ! \nEmbarque sur ton adorable poney et prépare-toi à partir à l’aventure pour une passionnante chasse aux trésors ! En effet\, aux abords du centre équestre de Chazelet ! Assure-toi qu’un adulte tienne la longe pour garantir la sécurité. Après cette excitante expédition\, un goûter savoureux t’attendra. N’oublie pas de réserver ta place auprès des bureaux de l’Office de Tourisme Intercommunal des Marches du Velay – Rochebaron. Car la réservation est obligatoire. \n Écuries des 3 Vallées ! – Beauzac – À la chasse aux trésors à dos de poneys !\nÀ quelques pas du centre de Beauzac dans un cadre verdoyant et une ambiance familiale\, les Écuries des 3 Vallées vous proposent une équitation de loisirs à la portée de tous. \nDe l’initiation au perfectionnement\, du baby-poney à l’adulte\, vous trouverez forcement le cours qui vous correspond. Nous vous proposons des activitésvariées en fonction de vos attentes : cours collectifs en manège\, travail en extérieur en terrain varié\, promenades\, jeux\, etc… \nNotre cavalerie est composée de poneys et de chevaux vivant tous en troupeaux en extérieur. \nNous vous proposons des stages à la demi journée tous les mardis et vendredis en Juillet/Août de 9h à 12h à partir du mardi 11 Juillet. Ces stages sont accessibles du débutant au galop 2\, et de 7 à 13 ans. \n\n\n	Similaire
URL:https://crocoule.org/notre-evenement/a-la-chasse-aux-tresors-a-dos-de-poneys-2/
LOCATION:Écuries des 3 Vallées – Beauzac\, 272 route de CHAZELET\, BEAUZAC\, 43 590
CATEGORIES:08 ans +
END:VEVENT
BEGIN:VEVENT
DTSTART;TZID=Europe/Paris:20230713T143000
DTEND;TZID=Europe/Paris:20230713T160000
DTSTAMP:20260421T092057
CREATED:20230628T135336Z
LAST-MODIFIED:20230628T135336Z
UID:10001760-1689258600-1689264000@crocoule.org
SUMMARY:À la chasse aux trésors à dos de poneys !
DESCRIPTION:À la chasse aux trésors à dos de poneys !\nEmbarque sur ton adorable poney et prépare-toi à partir à l’aventure pour une passionnante chasse aux trésors ! En effet\, aux abords du centre équestre de Chazelet ! Assure-toi qu’un adulte tienne la longe pour garantir la sécurité. Après cette excitante expédition\, un goûter savoureux t’attendra. N’oublie pas de réserver ta place auprès des bureaux de l’Office de Tourisme Intercommunal des Marches du Velay – Rochebaron. Car la réservation est obligatoire. \n Écuries des 3 Vallées ! – Beauzac – À la chasse aux trésors à dos de poneys !\nÀ quelques pas du centre de Beauzac dans un cadre verdoyant et une ambiance familiale\, les Écuries des 3 Vallées vous proposent une équitation de loisirs à la portée de tous. \nDe l’initiation au perfectionnement\, du baby-poney à l’adulte\, vous trouverez forcement le cours qui vous correspond. Nous vous proposons des activitésvariées en fonction de vos attentes : cours collectifs en manège\, travail en extérieur en terrain varié\, promenades\, jeux\, etc… \nNotre cavalerie est composée de poneys et de chevaux vivant tous en troupeaux en extérieur. \nNous vous proposons des stages à la demi journée tous les mardis et vendredis en Juillet/Août de 9h à 12h à partir du mardi 11 Juillet. Ces stages sont accessibles du débutant au galop 2\, et de 7 à 13 ans. \n\n\n	Similaire
URL:https://crocoule.org/notre-evenement/a-la-chasse-aux-tresors-a-dos-de-poneys/
LOCATION:Écuries des 3 Vallées – Beauzac\, 272 route de CHAZELET\, BEAUZAC\, 43 590
END:VEVENT
END:VCALENDAR