BEGIN:VCALENDAR
VERSION:2.0
PRODID:-//Crocoule - ECPv6.15.15//NONSGML v1.0//EN
CALSCALE:GREGORIAN
METHOD:PUBLISH
X-WR-CALNAME:Crocoule
X-ORIGINAL-URL:https://crocoule.org
X-WR-CALDESC:Évènements pour Crocoule
REFRESH-INTERVAL;VALUE=DURATION:PT1H
X-Robots-Tag:noindex
X-PUBLISHED-TTL:PT1H
BEGIN:VTIMEZONE
TZID:Europe/Paris
BEGIN:DAYLIGHT
TZOFFSETFROM:+0100
TZOFFSETTO:+0200
TZNAME:CEST
DTSTART:20220327T010000
END:DAYLIGHT
BEGIN:STANDARD
TZOFFSETFROM:+0200
TZOFFSETTO:+0100
TZNAME:CET
DTSTART:20221030T010000
END:STANDARD
BEGIN:DAYLIGHT
TZOFFSETFROM:+0100
TZOFFSETTO:+0200
TZNAME:CEST
DTSTART:20230326T010000
END:DAYLIGHT
BEGIN:STANDARD
TZOFFSETFROM:+0200
TZOFFSETTO:+0100
TZNAME:CET
DTSTART:20231029T010000
END:STANDARD
BEGIN:DAYLIGHT
TZOFFSETFROM:+0100
TZOFFSETTO:+0200
TZNAME:CEST
DTSTART:20240331T010000
END:DAYLIGHT
BEGIN:STANDARD
TZOFFSETFROM:+0200
TZOFFSETTO:+0100
TZNAME:CET
DTSTART:20241027T010000
END:STANDARD
END:VTIMEZONE
BEGIN:VEVENT
DTSTART;TZID=Europe/Paris:20230830T150000
DTEND;TZID=Europe/Paris:20230830T150000
DTSTAMP:20260420T055013
CREATED:20230728T083539Z
LAST-MODIFIED:20230728T083539Z
UID:10002075-1693407600-1693407600@crocoule.org
SUMMARY:GRIMPE D'ARBRES
DESCRIPTION:2023 – BOUGEZ DANS LE PILAT – GRIMPE D’ARBRES (À PARTIR DE 10 ANS) – DOIZIEUX\nParticipez à l’aventure grimpe d’arbres dans le Pilat\, à partir de 10 ans. \nDécouverte des arbres\, apprentissage écologique et sensations verticales au programme de cette randonnée arboricole respectueuse de l’environnement. Sortie encadrée.\nA partir de 10 ans.\nRéservation obligatoire en ligne. \nMerci de compléter le formulaire de réservation une fois le paiement effectué et ceci avant de fermer votre page internet\, ces données sont indispensables au bon déroulement de l’activité.\nPrésence d’une personne majeure indispensable pour accompagner les mineurs.\nUne tenue adaptée aux activités de pleine nature est exigée.\n\nC’est quoi la grimpe d’arbre ? \nLa grimpe d’arbre\, une activité passionnante. Les adeptes de cette discipline se lancent à l’assaut des arbres avec agilité et détermination. Tout commence par l’ascension\, en s’agrippant fermement aux branches. De branche en branche\, le grimpeur progresse avec habileté. Ensuite\, vient le moment de choisir la voie à suivre. Les décisions sont prises sur le vif\, dans l’instant présent. Les arbres deviennent des terrains de jeu\, des défis à relever. Une fois en hauteur\, la vue est spectaculaire. On se sent libre\, comme suspendu dans les airs. La descente est tout aussi exaltante. On se laisse glisser le long du tronc\, en s’appuyant sur les branches solides. La grimpe d’arbre\, c’est une expérience unique\, un mélange de sport\, d’aventure et de communion avec la nature. \nParc Naturel Régional du Pilat \nLe Pilat de chez nous\, c’est 700 kilomètres carrés de montagne et de forêts pour un dépaysement total\, à seulement 10 minutes du centre-ville de Saint-Étienne. Le plus haut sommet de ce Parc naturel régional ne culmine qu’à 1 400 mètres d’altitude. Rien de bien vertigineux donc\, vous n’avez pas d’excuse pour sécher la séance de sport. À vélo\, en baskets\, en petites foulées\, venez vous balader entre les vieilles pierres du château médiéval de Rochetaillée. Au Gouffre d’Enfer\, l’un des nombreux barrages du coin\, vous pratiquerez LA balade des Stéphanois. N’ayez crainte\, elle n’a rien de démoniaque\, c’est au contraire le paradis en matière de sortie du dimanche ! \n\n\n\n	Similaire
URL:https://crocoule.org/notre-evenement/grimpe-darbres-3/
LOCATION:DOIZIEUX
CATEGORIES:10 ans +
END:VEVENT
BEGIN:VEVENT
DTSTART;TZID=Europe/Paris:20230811T150000
DTEND;TZID=Europe/Paris:20230811T150000
DTSTAMP:20260420T055013
CREATED:20230728T082957Z
LAST-MODIFIED:20230728T082957Z
UID:10002074-1691766000-1691766000@crocoule.org
SUMMARY:GRIMPE D'ARBRES
DESCRIPTION:2023 – BOUGEZ DANS LE PILAT – GRIMPE D’ARBRES (À PARTIR DE 10 ANS) – DOIZIEUX\nParticipez à l’aventure grimpe d’arbres dans le Pilat\, à partir de 10 ans. \nDécouverte des arbres\, apprentissage écologique et sensations verticales au programme de cette randonnée arboricole respectueuse de l’environnement. Sortie encadrée.\nA partir de 10 ans.\nRéservation obligatoire en ligne. \nMerci de compléter le formulaire de réservation une fois le paiement effectué et ceci avant de fermer votre page internet\, ces données sont indispensables au bon déroulement de l’activité.\nPrésence d’une personne majeure indispensable pour accompagner les mineurs.\nUne tenue adaptée aux activités de pleine nature est exigée.\n\nC’est quoi la grimpe d’arbre ? \nLa grimpe d’arbre\, une activité passionnante. Les adeptes de cette discipline se lancent à l’assaut des arbres avec agilité et détermination. Tout commence par l’ascension\, en s’agrippant fermement aux branches. De branche en branche\, le grimpeur progresse avec habileté. Ensuite\, vient le moment de choisir la voie à suivre. Les décisions sont prises sur le vif\, dans l’instant présent. Les arbres deviennent des terrains de jeu\, des défis à relever. Une fois en hauteur\, la vue est spectaculaire. On se sent libre\, comme suspendu dans les airs. La descente est tout aussi exaltante. On se laisse glisser le long du tronc\, en s’appuyant sur les branches solides. La grimpe d’arbre\, c’est une expérience unique\, un mélange de sport\, d’aventure et de communion avec la nature. \n\n\n\n	Similaire
URL:https://crocoule.org/notre-evenement/grimpe-darbres-2/
LOCATION:DOIZIEUX
CATEGORIES:10 ans +
END:VEVENT
BEGIN:VEVENT
DTSTART;TZID=Europe/Paris:20230725T150000
DTEND;TZID=Europe/Paris:20230725T150000
DTSTAMP:20260420T055013
CREATED:20230621T132721Z
LAST-MODIFIED:20230621T132721Z
UID:10001604-1690297200-1690297200@crocoule.org
SUMMARY:GRIMPE D'ARBRES
DESCRIPTION:2023 – BOUGEZ DANS LE PILAT – GRIMPE D’ARBRES (À PARTIR DE 10 ANS) – DOIZIEUX\nParticipez à l’aventure grimpe d’arbres dans le Pilat\, à partir de 10 ans. \nDécouverte des arbres\, apprentissage écologique et sensations verticales au programme de cette randonnée arboricole respectueuse de l’environnement. Sortie encadrée.\nA partir de 10 ans.\nRéservation obligatoire en ligne. \nMerci de compléter le formulaire de réservation une fois le paiement effectué et ceci avant de fermer votre page internet\, ces données sont indispensables au bon déroulement de l’activité.\nPrésence d’une personne majeure indispensable pour accompagner les mineurs.\nUne tenue adaptée aux activités de pleine nature est exigée.\n\nC’est quoi la grimpe d’arbre ? \nLa grimpe d’arbre\, une activité passionnante. Les adeptes de cette discipline se lancent à l’assaut des arbres avec agilité et détermination. Tout commence par l’ascension\, en s’agrippant fermement aux branches. De branche en branche\, le grimpeur progresse avec habileté. Ensuite\, vient le moment de choisir la voie à suivre. Les décisions sont prises sur le vif\, dans l’instant présent. Les arbres deviennent des terrains de jeu\, des défis à relever. Une fois en hauteur\, la vue est spectaculaire. On se sent libre\, comme suspendu dans les airs. La descente est tout aussi exaltante. On se laisse glisser le long du tronc\, en s’appuyant sur les branches solides. La grimpe d’arbre\, c’est une expérience unique\, un mélange de sport\, d’aventure et de communion avec la nature. \n\n\n\n	Similaire
URL:https://crocoule.org/notre-evenement/grimpe-darbres/
LOCATION:DOIZIEUX
CATEGORIES:10 ans +
END:VEVENT
END:VCALENDAR