BEGIN:VCALENDAR
VERSION:2.0
PRODID:-//Crocoule - ECPv6.15.15//NONSGML v1.0//EN
CALSCALE:GREGORIAN
METHOD:PUBLISH
X-WR-CALNAME:Crocoule
X-ORIGINAL-URL:https://crocoule.org
X-WR-CALDESC:Évènements pour Crocoule
REFRESH-INTERVAL;VALUE=DURATION:PT1H
X-Robots-Tag:noindex
X-PUBLISHED-TTL:PT1H
BEGIN:VTIMEZONE
TZID:Europe/Paris
BEGIN:DAYLIGHT
TZOFFSETFROM:+0100
TZOFFSETTO:+0200
TZNAME:CEST
DTSTART:20220327T010000
END:DAYLIGHT
BEGIN:STANDARD
TZOFFSETFROM:+0200
TZOFFSETTO:+0100
TZNAME:CET
DTSTART:20221030T010000
END:STANDARD
BEGIN:DAYLIGHT
TZOFFSETFROM:+0100
TZOFFSETTO:+0200
TZNAME:CEST
DTSTART:20230326T010000
END:DAYLIGHT
BEGIN:STANDARD
TZOFFSETFROM:+0200
TZOFFSETTO:+0100
TZNAME:CET
DTSTART:20231029T010000
END:STANDARD
BEGIN:DAYLIGHT
TZOFFSETFROM:+0100
TZOFFSETTO:+0200
TZNAME:CEST
DTSTART:20240331T010000
END:DAYLIGHT
BEGIN:STANDARD
TZOFFSETFROM:+0200
TZOFFSETTO:+0100
TZNAME:CET
DTSTART:20241027T010000
END:STANDARD
END:VTIMEZONE
BEGIN:VEVENT
DTSTART;TZID=Europe/Paris:20230729T100000
DTEND;TZID=Europe/Paris:20230729T100000
DTSTAMP:20260421T061900
CREATED:20230724T112918Z
LAST-MODIFIED:20230724T112918Z
UID:10001852-1690624800-1690624800@crocoule.org
SUMMARY:// CRIÉE PUBLIQUE //
DESCRIPTION:// CRIÉE PUBLIQUE // OYEZ ! OYEZ ! BONNES GENS DE CRAPONNE !\nÀ l’heure des réseaux sociaux\, découvrez comment Thomas\, crieur de rue remet cette pratique au coeur des marchés ! Tendez l’oreille et ouvrez l’oeil ! \nAvec Thomas Tettamanzi de la Cie la Malle en carton. \nCie la Malle en carton – Description\nBasée en Auvergne\, La Malle en CartoOn est une compagnie professionnelle de théâtre jeune public fondée en 2013 par Thomas Tettamanzi. \nElle est le fruit d’une passion\, celle de l’univers doucement suranné des forains\, bonimenteurs\, bateleurs et autres aboyeurs publics.\nÉmerveillé depuis longtemps par leur gouaille\, leur verve et leur verbe fleuri\, Thomas Tettamanzi nourrit le projet de redonner vie de façon originale à quelques uns de ces personnages : un saltimbanque survolté\, un dompteur mégalo et mythomane\, un crieur public ou un chanteur de rue\, … \nLes créations de La Malle en CartoOn sont marquées par l’interaction avec le public\, la générosité et une énergie débordante. \nRéférences\nDernières créations : \nUn P’tit Air dans la Tête : Crieur Public et Chanteur de Rue\nLes Cornichons : Bal-Concert-Fantaisiste Familial\nLes Aventures de Yanourb le Fouch : Théâtre Jeune Public Interactif \n\n\n	Similaire
URL:https://crocoule.org/notre-evenement/criee-publique/
LOCATION:Craponne-sur-Arzon
END:VEVENT
END:VCALENDAR