BEGIN:VCALENDAR
VERSION:2.0
PRODID:-//Crocoule - ECPv6.15.15//NONSGML v1.0//EN
CALSCALE:GREGORIAN
METHOD:PUBLISH
X-ORIGINAL-URL:https://crocoule.org
X-WR-CALDESC:Évènements pour Crocoule
REFRESH-INTERVAL;VALUE=DURATION:PT1H
X-Robots-Tag:noindex
X-PUBLISHED-TTL:PT1H
BEGIN:VTIMEZONE
TZID:Europe/Paris
BEGIN:DAYLIGHT
TZOFFSETFROM:+0100
TZOFFSETTO:+0200
TZNAME:CEST
DTSTART:20220327T010000
END:DAYLIGHT
BEGIN:STANDARD
TZOFFSETFROM:+0200
TZOFFSETTO:+0100
TZNAME:CET
DTSTART:20221030T010000
END:STANDARD
BEGIN:DAYLIGHT
TZOFFSETFROM:+0100
TZOFFSETTO:+0200
TZNAME:CEST
DTSTART:20230326T010000
END:DAYLIGHT
BEGIN:STANDARD
TZOFFSETFROM:+0200
TZOFFSETTO:+0100
TZNAME:CET
DTSTART:20231029T010000
END:STANDARD
BEGIN:DAYLIGHT
TZOFFSETFROM:+0100
TZOFFSETTO:+0200
TZNAME:CEST
DTSTART:20240331T010000
END:DAYLIGHT
BEGIN:STANDARD
TZOFFSETFROM:+0200
TZOFFSETTO:+0100
TZNAME:CET
DTSTART:20241027T010000
END:STANDARD
BEGIN:DAYLIGHT
TZOFFSETFROM:+0100
TZOFFSETTO:+0200
TZNAME:CEST
DTSTART:20250330T010000
END:DAYLIGHT
BEGIN:STANDARD
TZOFFSETFROM:+0200
TZOFFSETTO:+0100
TZNAME:CET
DTSTART:20251026T010000
END:STANDARD
END:VTIMEZONE
BEGIN:VEVENT
DTSTART;VALUE=DATE:20240812
DTEND;VALUE=DATE:20240817
DTSTAMP:20260421T152718
CREATED:20240612T192503Z
LAST-MODIFIED:20240612T192503Z
UID:10008005-1723449600-1723827600@crocoule.org
SUMMARY:Stages d'escalade
DESCRIPTION:Stages d’escalade \nStages d’escalade – plusieurs dates durant l’été : clique juste ici pour en savoir plus !\n\nAu programme: \n– accès au bloc\n– initiations à l’escalade de voies \n– parcours aventure\n\n\n\n\nSi ton regard se pose sur ces mots c’est que toi aussi tu fais partie de la Haute Congrégation des Super Parents (HCSP : rien que ça !  ????) investis en quête d’idées de sorties familiales dans la Loire et la Haute-Loire pour son/ses bambin(s) ! \nTu ne me crois pas ? Si si\, promis Bienvenue et toutes mes Félicitations ! Tu es sur la bonne page … Et je vais te le prouver ! Tu es prêt ? Allez\, viens je t’emmène au fil des pages du Crocoule ! \nTout d’abord\, Le Crocoule Magazine c’est quoi ? Le Crocoule\, papier ou web\, c’est LE magazine qui porte en lui la douceur et la bienveillance dont tu as besoin en tant que parent et qui facilite tes recherches d’activités loisirs\, culturelles\, nature pour tous les budgets et tous les goûts ! Et ça c’est une promesse ? Tu veux en savoir +\, suis moi par ici ! \nEt ce n’est pas tout … Si tu as soif d’aventure Le Crocoule Express est fait pour toi !\n  \n\n\n\n\n	Similaire
URL:https://crocoule.org/notre-evenement/stages-descalade/2024-08-12/
LOCATION:Climb up\, 9 Esplanade Bénévent\, Accès par 19\, allée Jean Lauer\, Saint Etienne
CATEGORIES:Activité pendant les vacances,Intérieur,Tous les événements,Tout public
END:VEVENT
BEGIN:VEVENT
DTSTART;VALUE=DATE:20240805
DTEND;VALUE=DATE:20240810
DTSTAMP:20260421T152718
CREATED:20240612T192503Z
LAST-MODIFIED:20240612T192503Z
UID:10008004-1722844800-1723222800@crocoule.org
SUMMARY:Stages d'escalade
DESCRIPTION:Stages d’escalade \nStages d’escalade – plusieurs dates durant l’été : clique juste ici pour en savoir plus !\n\nAu programme: \n– accès au bloc\n– initiations à l’escalade de voies \n– parcours aventure\n\n\n\n\nSi ton regard se pose sur ces mots c’est que toi aussi tu fais partie de la Haute Congrégation des Super Parents (HCSP : rien que ça !  ????) investis en quête d’idées de sorties familiales dans la Loire et la Haute-Loire pour son/ses bambin(s) ! \nTu ne me crois pas ? Si si\, promis Bienvenue et toutes mes Félicitations ! Tu es sur la bonne page … Et je vais te le prouver ! Tu es prêt ? Allez\, viens je t’emmène au fil des pages du Crocoule ! \nTout d’abord\, Le Crocoule Magazine c’est quoi ? Le Crocoule\, papier ou web\, c’est LE magazine qui porte en lui la douceur et la bienveillance dont tu as besoin en tant que parent et qui facilite tes recherches d’activités loisirs\, culturelles\, nature pour tous les budgets et tous les goûts ! Et ça c’est une promesse ? Tu veux en savoir +\, suis moi par ici ! \nEt ce n’est pas tout … Si tu as soif d’aventure Le Crocoule Express est fait pour toi !\n  \n\n\n\n\n	Similaire
URL:https://crocoule.org/notre-evenement/stages-descalade/2024-08-05/
LOCATION:Climb up\, 9 Esplanade Bénévent\, Accès par 19\, allée Jean Lauer\, Saint Etienne
CATEGORIES:Activité pendant les vacances,Intérieur,Tous les événements,Tout public
END:VEVENT
BEGIN:VEVENT
DTSTART;VALUE=DATE:20240729
DTEND;VALUE=DATE:20240803
DTSTAMP:20260421T152718
CREATED:20240612T192503Z
LAST-MODIFIED:20240612T192503Z
UID:10008003-1722240000-1722618000@crocoule.org
SUMMARY:Stages d'escalade
DESCRIPTION:Stages d’escalade \nStages d’escalade – plusieurs dates durant l’été : clique juste ici pour en savoir plus !\n\nAu programme: \n– accès au bloc\n– initiations à l’escalade de voies \n– parcours aventure\n\n\n\n\nSi ton regard se pose sur ces mots c’est que toi aussi tu fais partie de la Haute Congrégation des Super Parents (HCSP : rien que ça !  ????) investis en quête d’idées de sorties familiales dans la Loire et la Haute-Loire pour son/ses bambin(s) ! \nTu ne me crois pas ? Si si\, promis Bienvenue et toutes mes Félicitations ! Tu es sur la bonne page … Et je vais te le prouver ! Tu es prêt ? Allez\, viens je t’emmène au fil des pages du Crocoule ! \nTout d’abord\, Le Crocoule Magazine c’est quoi ? Le Crocoule\, papier ou web\, c’est LE magazine qui porte en lui la douceur et la bienveillance dont tu as besoin en tant que parent et qui facilite tes recherches d’activités loisirs\, culturelles\, nature pour tous les budgets et tous les goûts ! Et ça c’est une promesse ? Tu veux en savoir +\, suis moi par ici ! \nEt ce n’est pas tout … Si tu as soif d’aventure Le Crocoule Express est fait pour toi !\n  \n\n\n\n\n	Similaire
URL:https://crocoule.org/notre-evenement/stages-descalade/2024-07-29/
LOCATION:Climb up\, 9 Esplanade Bénévent\, Accès par 19\, allée Jean Lauer\, Saint Etienne
CATEGORIES:Activité pendant les vacances,Intérieur,Tous les événements,Tout public
END:VEVENT
BEGIN:VEVENT
DTSTART;VALUE=DATE:20240722
DTEND;VALUE=DATE:20240727
DTSTAMP:20260421T152718
CREATED:20240612T192503Z
LAST-MODIFIED:20240612T192503Z
UID:10008002-1721635200-1722013200@crocoule.org
SUMMARY:Stages d'escalade
DESCRIPTION:Stages d’escalade \nStages d’escalade – plusieurs dates durant l’été : clique juste ici pour en savoir plus !\n\nAu programme: \n– accès au bloc\n– initiations à l’escalade de voies \n– parcours aventure\n\n\n\n\nSi ton regard se pose sur ces mots c’est que toi aussi tu fais partie de la Haute Congrégation des Super Parents (HCSP : rien que ça !  ????) investis en quête d’idées de sorties familiales dans la Loire et la Haute-Loire pour son/ses bambin(s) ! \nTu ne me crois pas ? Si si\, promis Bienvenue et toutes mes Félicitations ! Tu es sur la bonne page … Et je vais te le prouver ! Tu es prêt ? Allez\, viens je t’emmène au fil des pages du Crocoule ! \nTout d’abord\, Le Crocoule Magazine c’est quoi ? Le Crocoule\, papier ou web\, c’est LE magazine qui porte en lui la douceur et la bienveillance dont tu as besoin en tant que parent et qui facilite tes recherches d’activités loisirs\, culturelles\, nature pour tous les budgets et tous les goûts ! Et ça c’est une promesse ? Tu veux en savoir +\, suis moi par ici ! \nEt ce n’est pas tout … Si tu as soif d’aventure Le Crocoule Express est fait pour toi !\n  \n\n\n\n\n	Similaire
URL:https://crocoule.org/notre-evenement/stages-descalade/2024-07-22/
LOCATION:Climb up\, 9 Esplanade Bénévent\, Accès par 19\, allée Jean Lauer\, Saint Etienne
CATEGORIES:Activité pendant les vacances,Intérieur,Tous les événements,Tout public
END:VEVENT
BEGIN:VEVENT
DTSTART;VALUE=DATE:20240715
DTEND;VALUE=DATE:20240720
DTSTAMP:20260421T152718
CREATED:20240612T192503Z
LAST-MODIFIED:20240612T192503Z
UID:10008001-1721030400-1721408400@crocoule.org
SUMMARY:Stages d'escalade
DESCRIPTION:Stages d’escalade \nStages d’escalade – plusieurs dates durant l’été : clique juste ici pour en savoir plus !\n\nAu programme: \n– accès au bloc\n– initiations à l’escalade de voies \n– parcours aventure\n\n\n\n\nSi ton regard se pose sur ces mots c’est que toi aussi tu fais partie de la Haute Congrégation des Super Parents (HCSP : rien que ça !  ????) investis en quête d’idées de sorties familiales dans la Loire et la Haute-Loire pour son/ses bambin(s) ! \nTu ne me crois pas ? Si si\, promis Bienvenue et toutes mes Félicitations ! Tu es sur la bonne page … Et je vais te le prouver ! Tu es prêt ? Allez\, viens je t’emmène au fil des pages du Crocoule ! \nTout d’abord\, Le Crocoule Magazine c’est quoi ? Le Crocoule\, papier ou web\, c’est LE magazine qui porte en lui la douceur et la bienveillance dont tu as besoin en tant que parent et qui facilite tes recherches d’activités loisirs\, culturelles\, nature pour tous les budgets et tous les goûts ! Et ça c’est une promesse ? Tu veux en savoir +\, suis moi par ici ! \nEt ce n’est pas tout … Si tu as soif d’aventure Le Crocoule Express est fait pour toi !\n  \n\n\n\n\n	Similaire
URL:https://crocoule.org/notre-evenement/stages-descalade/2024-07-15/
LOCATION:Climb up\, 9 Esplanade Bénévent\, Accès par 19\, allée Jean Lauer\, Saint Etienne
CATEGORIES:Activité pendant les vacances,Intérieur,Tous les événements,Tout public
END:VEVENT
BEGIN:VEVENT
DTSTART;VALUE=DATE:20240708
DTEND;VALUE=DATE:20240713
DTSTAMP:20260421T152718
CREATED:20240612T192503Z
LAST-MODIFIED:20240612T192503Z
UID:10008000-1720396800-1720828799@crocoule.org
SUMMARY:Stages d'escalade
DESCRIPTION:Stages d’escalade \nStages d’escalade – plusieurs dates durant l’été : clique juste ici pour en savoir plus !\n\nAu programme: \n– accès au bloc\n– initiations à l’escalade de voies \n– parcours aventure\n\n\n\n\nSi ton regard se pose sur ces mots c’est que toi aussi tu fais partie de la Haute Congrégation des Super Parents (HCSP : rien que ça !  ????) investis en quête d’idées de sorties familiales dans la Loire et la Haute-Loire pour son/ses bambin(s) ! \nTu ne me crois pas ? Si si\, promis Bienvenue et toutes mes Félicitations ! Tu es sur la bonne page … Et je vais te le prouver ! Tu es prêt ? Allez\, viens je t’emmène au fil des pages du Crocoule ! \nTout d’abord\, Le Crocoule Magazine c’est quoi ? Le Crocoule\, papier ou web\, c’est LE magazine qui porte en lui la douceur et la bienveillance dont tu as besoin en tant que parent et qui facilite tes recherches d’activités loisirs\, culturelles\, nature pour tous les budgets et tous les goûts ! Et ça c’est une promesse ? Tu veux en savoir +\, suis moi par ici ! \nEt ce n’est pas tout … Si tu as soif d’aventure Le Crocoule Express est fait pour toi !\n  \n\n\n\n\n	Similaire
URL:https://crocoule.org/notre-evenement/stages-descalade/2024-07-08/
LOCATION:Climb up\, 9 Esplanade Bénévent\, Accès par 19\, allée Jean Lauer\, Saint Etienne
CATEGORIES:Activité pendant les vacances,Intérieur,Tous les événements,Tout public
END:VEVENT
BEGIN:VEVENT
DTSTART;VALUE=DATE:20240616
DTEND;VALUE=DATE:20240617
DTSTAMP:20260421T152718
CREATED:20240612T192153Z
LAST-MODIFIED:20240612T192153Z
UID:10007998-1718496000-1718582399@crocoule.org
SUMMARY:Portes ouvertes chez Climb'up
DESCRIPTION:Portes ouvertes chez Climb’up\n\nLe dimanche 16 juin\, nous organisons une journée portes ouvertes dans notre salle d’escalade Climb Up.\nNous invitons ainsi petits et grands à venir (re)découvrir la salle d’escalade gratuitement !\n\nAu programme: \n– accès au bloc\n– initiations à l’escalade de voies \n– parcours aventure\n\nLa journée s’annonce super chouette et bien animée!\n\nTout public – Gratuit !\nSi ton regard se pose sur ces mots c’est que toi aussi tu fais partie de la Haute Congrégation des Super Parents (HCSP : rien que ça !  ????) investis en quête d’idées de sorties familiales dans la Loire et la Haute-Loire pour son/ses bambin(s) ! \nTu ne me crois pas ? Si si\, promis Bienvenue et toutes mes Félicitations ! Tu es sur la bonne page … Et je vais te le prouver ! Tu es prêt ? Allez\, viens je t’emmène au fil des pages du Crocoule ! \nTout d’abord\, Le Crocoule Magazine c’est quoi ? Le Crocoule\, papier ou web\, c’est LE magazine qui porte en lui la douceur et la bienveillance dont tu as besoin en tant que parent et qui facilite tes recherches d’activités loisirs\, culturelles\, nature pour tous les budgets et tous les goûts ! Et ça c’est une promesse ? Tu veux en savoir +\, suis moi par ici ! \nEt ce n’est pas tout … Si tu as soif d’aventure Le Crocoule Express est fait pour toi !\n  \n\n\n\n\n	Similaire
URL:https://crocoule.org/notre-evenement/portes-ouvertes-chez-climbup/
LOCATION:Climb up\, 9 Esplanade Bénévent\, Accès par 19\, allée Jean Lauer\, Saint Etienne
CATEGORIES:Activité du week-end,Gratuit,Intérieur,Tous les événements,Tout public
END:VEVENT
BEGIN:VEVENT
DTSTART;TZID=Europe/Paris:20231226T080000
DTEND;TZID=Europe/Paris:20240105T170000
DTSTAMP:20260421T152718
CREATED:20231125T151705Z
LAST-MODIFIED:20231213T101852Z
UID:10002727-1703577600-1704474000@crocoule.org
SUMMARY:Atelier Escalade
DESCRIPTION:Des ateliers d’escalade tout compris encadrés par des moniteurs et adaptés à l’âge des enfants. De quoi (re)découvrir l’escalade de façon ludique. Tous niveaux. Le prêt du matériel est compris. \nClimb up Saint Etienne\nVOIES : PRENEZ DE LA HAUTEUR\, VOUS POURREZ GRIMPER SUR 160 VOIES JUSQU’À 17\,5 MÈTRES DE HAUT SÉCURISÉ PAR UNE CORDE \nBLOCS ACCESSIBLE SANS INITIATION\, GRIMPEZ À 4 M DE HAUT\, PROTÉGÉ PAR D’ÉPAIS TAPIS DE RÉCEPTION PLUS DE 100 BLOCS DE TOUT NIVEAU \nCONFORT UN ESPACE ACCUEIL ET RESTAURATION CONVIVIAL UN SAUNA POUR SE RESSOURCER \nClimb Up Saint – Etienne les tarifs \n9 Esplanade Bénévent\,\nAccès par 19\, allée Jean Lauer\n42000 SAINT-ETIENNE\nTél: 04 28 77 01 44 \n\n\n	Similaire
URL:https://crocoule.org/notre-evenement/atelier-escalade/
LOCATION:Climb up\, 9 Esplanade Bénévent\, Accès par 19\, allée Jean Lauer\, Saint Etienne
CATEGORIES:04 ans +,Intérieur
ATTACH;FMTTYPE=image/png:https://crocoule.org/wp-content/uploads/2023/04/climb-up.png
END:VEVENT
END:VCALENDAR