BEGIN:VCALENDAR
VERSION:2.0
PRODID:-//Crocoule - ECPv6.15.15//NONSGML v1.0//EN
CALSCALE:GREGORIAN
METHOD:PUBLISH
X-ORIGINAL-URL:https://crocoule.org
X-WR-CALDESC:Évènements pour Crocoule
REFRESH-INTERVAL;VALUE=DURATION:PT1H
X-Robots-Tag:noindex
X-PUBLISHED-TTL:PT1H
BEGIN:VTIMEZONE
TZID:Europe/Paris
BEGIN:DAYLIGHT
TZOFFSETFROM:+0100
TZOFFSETTO:+0200
TZNAME:CEST
DTSTART:20210328T010000
END:DAYLIGHT
BEGIN:STANDARD
TZOFFSETFROM:+0200
TZOFFSETTO:+0100
TZNAME:CET
DTSTART:20211031T010000
END:STANDARD
BEGIN:DAYLIGHT
TZOFFSETFROM:+0100
TZOFFSETTO:+0200
TZNAME:CEST
DTSTART:20220327T010000
END:DAYLIGHT
BEGIN:STANDARD
TZOFFSETFROM:+0200
TZOFFSETTO:+0100
TZNAME:CET
DTSTART:20221030T010000
END:STANDARD
BEGIN:DAYLIGHT
TZOFFSETFROM:+0100
TZOFFSETTO:+0200
TZNAME:CEST
DTSTART:20230326T010000
END:DAYLIGHT
BEGIN:STANDARD
TZOFFSETFROM:+0200
TZOFFSETTO:+0100
TZNAME:CET
DTSTART:20231029T010000
END:STANDARD
END:VTIMEZONE
BEGIN:VEVENT
DTSTART;TZID=Europe/Paris:20221116T143000
DTEND;TZID=Europe/Paris:20221116T153000
DTSTAMP:20260421T043010
CREATED:20220929T121630Z
LAST-MODIFIED:20220929T121630Z
UID:10000305-1668609000-1668612600@crocoule.org
SUMMARY:ATELIER JEUX OPTIQUES
DESCRIPTION:Atelier de manipulation d’inventions sur l’image animée et le pré-cinéma : folioscopes\, toupie fantoche\, phénakisticope et petites caméras jouets. Présentation de projecteurs et pellicule de cinéma \nInscriptions : isabelle.carlat@saint-etienne.fr \n\n\n\n\n\n\n	Similaire
URL:https://crocoule.org/notre-evenement/atelier-jeux-optiques/
LOCATION:Cinémathèque – Tarentaize\, 20 Rue Jo Gouttebarge\, Saint Étienne\, 42000\, France
CATEGORIES:06 ans +,Activité en semaine
ORGANIZER;CN="Isabelle Carlat":MAILTO:isabelle.carlat@saint-etienne.fr
END:VEVENT
BEGIN:VEVENT
DTSTART;TZID=Europe/Paris:20221102T143000
DTEND;TZID=Europe/Paris:20221102T143000
DTSTAMP:20260421T043010
CREATED:20220929T102213Z
LAST-MODIFIED:20220929T102213Z
UID:10000258-1667399400-1667399400@crocoule.org
SUMMARY:FILMS QUI FONT PEUR
DESCRIPTION:Projection de courts-métrages\nInscriptions : isabelle.carlat@saint-etienne.fr \n\n\n\n\n\n	Similaire
URL:https://crocoule.org/notre-evenement/films-qui-font-peur/
LOCATION:Cinémathèque – Tarentaize\, 20 Rue Jo Gouttebarge\, Saint Étienne\, 42000\, France
CATEGORIES:07 ans +,Activité en semaine,Activité pendant les vacances
ORGANIZER;CN="Isabelle Carlat":MAILTO:isabelle.carlat@saint-etienne.fr
END:VEVENT
BEGIN:VEVENT
DTSTART;TZID=Europe/Paris:20221027T100000
DTEND;TZID=Europe/Paris:20221027T100000
DTSTAMP:20260421T043010
CREATED:20220929T082615Z
LAST-MODIFIED:20220929T082615Z
UID:10000227-1666864800-1666864800@crocoule.org
SUMMARY:ATELIER CINÉMA ET NUMÉRIQUE
DESCRIPTION:Inscriptions : isabelle.carlat@saint-etienne.fr \n\n\n\n\n\n\n	Similaire
URL:https://crocoule.org/notre-evenement/atelier-cinema-et-numerique-3/
LOCATION:Cinémathèque – Tarentaize\, 20 Rue Jo Gouttebarge\, Saint Étienne\, 42000\, France
CATEGORIES:08 ans +,Activité en semaine,Activité pendant les vacances
ORGANIZER;CN="Isabelle Carlat":MAILTO:isabelle.carlat@saint-etienne.fr
END:VEVENT
BEGIN:VEVENT
DTSTART;TZID=Europe/Paris:20221026T143000
DTEND;TZID=Europe/Paris:20221026T143000
DTSTAMP:20260421T043010
CREATED:20220929T080445Z
LAST-MODIFIED:20220929T080445Z
UID:10000218-1666794600-1666794600@crocoule.org
SUMMARY:LE VOLEUR DE BAGDAD
DESCRIPTION:Inscriptions : isabelle.carlat@saint-etienne.fr \n\n\n\n\n\n\n	Similaire
URL:https://crocoule.org/notre-evenement/le-voleur-de-bagdad/
LOCATION:Cinémathèque – Tarentaize\, 20 Rue Jo Gouttebarge\, Saint Étienne\, 42000\, France
CATEGORIES:08 ans +,Activité en semaine,Activité pendant les vacances
ORGANIZER;CN="Isabelle Carlat":MAILTO:isabelle.carlat@saint-etienne.fr
END:VEVENT
BEGIN:VEVENT
DTSTART;TZID=Europe/Paris:20221026T100000
DTEND;TZID=Europe/Paris:20221026T100000
DTSTAMP:20260421T043010
CREATED:20220929T080334Z
LAST-MODIFIED:20220929T080334Z
UID:10000217-1666778400-1666778400@crocoule.org
SUMMARY:ATELIER CINÉMA ET NUMÉRIQUE
DESCRIPTION:Atelier pratique et ludique sur les liens entre cinéma et jeu vidéo/ atelier 2: le montage : montage d’extraits de films en ligne\, transformation du film de Chaplin « les temps modernes » en jeu vidéo manuel \nInscriptions : isabelle.carlat@saint-etienne.fr \n\n\n\n\n\n\n	Similaire
URL:https://crocoule.org/notre-evenement/atelier-cinema-et-numerique-2/
LOCATION:Cinémathèque – Tarentaize\, 20 Rue Jo Gouttebarge\, Saint Étienne\, 42000\, France
CATEGORIES:08 ans +,Activité en semaine,Activité pendant les vacances
ORGANIZER;CN="Isabelle Carlat":MAILTO:isabelle.carlat@saint-etienne.fr
END:VEVENT
BEGIN:VEVENT
DTSTART;TZID=Europe/Paris:20221025T100000
DTEND;TZID=Europe/Paris:20221025T100000
DTSTAMP:20260421T043010
CREATED:20220929T065536Z
LAST-MODIFIED:20220929T065536Z
UID:10000202-1666692000-1666692000@crocoule.org
SUMMARY:ATELIER CINÉMA ET NUMÉRIQUE
DESCRIPTION:Atelier pratique et ludique sur les liens entre cinéma et jeu vidéo/ atelier 1 : l’image : space invaders et peinture sur pellicule 35mm. Inscriptions : isabelle.carlat@saint-etienne.fr . \n\n\n\n\n\n\n	Similaire
URL:https://crocoule.org/notre-evenement/atelier-cinema-et-numerique/
LOCATION:Cinémathèque – Tarentaize\, 20 Rue Jo Gouttebarge\, Saint Étienne\, 42000\, France
CATEGORIES:08 ans +,Activité en semaine,Activité pendant les vacances
ORGANIZER;CN="Isabelle Carlat":MAILTO:isabelle.carlat@saint-etienne.fr
END:VEVENT
BEGIN:VEVENT
DTSTART;TZID=Europe/Paris:20221012T143000
DTEND;TZID=Europe/Paris:20221012T161400
DTSTAMP:20260421T043010
CREATED:20220927T112823Z
LAST-MODIFIED:20220927T112823Z
UID:10000073-1665585000-1665591240@crocoule.org
SUMMARY:L'ARGENT DE POCHE DE FRANÇOIS TRUFFAUT
DESCRIPTION:Film inscriptions : isabelle.carlat@saint-etienne.fr \n\n\n\n\n\n\n\n\n	Similaire
URL:https://crocoule.org/notre-evenement/largent-de-poche-de-francois-truffaut/
LOCATION:Cinémathèque – Tarentaize\, 20 Rue Jo Gouttebarge\, Saint Étienne\, 42000\, France
CATEGORIES:07 ans +,Activité en semaine
ORGANIZER;CN="Isabelle Carlat":MAILTO:isabelle.carlat@saint-etienne.fr
END:VEVENT
END:VCALENDAR