BEGIN:VCALENDAR
VERSION:2.0
PRODID:-//Crocoule - ECPv6.15.15//NONSGML v1.0//EN
CALSCALE:GREGORIAN
METHOD:PUBLISH
X-WR-CALNAME:Crocoule
X-ORIGINAL-URL:https://crocoule.org
X-WR-CALDESC:Évènements pour Crocoule
REFRESH-INTERVAL;VALUE=DURATION:PT1H
X-Robots-Tag:noindex
X-PUBLISHED-TTL:PT1H
BEGIN:VTIMEZONE
TZID:Europe/Paris
BEGIN:DAYLIGHT
TZOFFSETFROM:+0100
TZOFFSETTO:+0200
TZNAME:CEST
DTSTART:20220327T010000
END:DAYLIGHT
BEGIN:STANDARD
TZOFFSETFROM:+0200
TZOFFSETTO:+0100
TZNAME:CET
DTSTART:20221030T010000
END:STANDARD
BEGIN:DAYLIGHT
TZOFFSETFROM:+0100
TZOFFSETTO:+0200
TZNAME:CEST
DTSTART:20230326T010000
END:DAYLIGHT
BEGIN:STANDARD
TZOFFSETFROM:+0200
TZOFFSETTO:+0100
TZNAME:CET
DTSTART:20231029T010000
END:STANDARD
BEGIN:DAYLIGHT
TZOFFSETFROM:+0100
TZOFFSETTO:+0200
TZNAME:CEST
DTSTART:20240331T010000
END:DAYLIGHT
BEGIN:STANDARD
TZOFFSETFROM:+0200
TZOFFSETTO:+0100
TZNAME:CET
DTSTART:20241027T010000
END:STANDARD
END:VTIMEZONE
BEGIN:VEVENT
DTSTART;VALUE=DATE:20230726
DTEND;VALUE=DATE:20230802
DTSTAMP:20260421T100403
CREATED:20230724T083431Z
LAST-MODIFIED:20230724T083431Z
UID:10001837-1690329600-1690934399@crocoule.org
SUMMARY:Festival des dessins animés
DESCRIPTION:Festival des dessins animés\nProjections\, animations et ateliers autour du film d’animation. \nPortrait :\nCiné Tence est un cinéma associatif géré par une vingtaine de bénévoles impliqués dans la projection de films pour tous les publics. Parfois accompagnés d’un débat\, d’animations ou d’ateliers. Le cinéma est classé art et essai depuis 2008 et a obtenu le label jeune public en 2013. Des temps forts sont proposés tout au long de l’année et notamment Le festival du fauteuil rouge (cinéma et handicap). \nLes dessins animés \nLes dessins animés sont une forme d’animation appréciée par de nombreuses personnes\, petits et grands. Ils ont évolué au fil des années\, devenant de plus en plus sophistiqués et diversifiés. D’abord\, il y a les classiques\, tels que « Tom et Jerry » qui ont captivé les spectateurs depuis des générations. Ensuite\, les années 90 ont apporté une nouvelle vague d’innovations avec des séries comme « Les Simpsons » et « Bobby’s World ». \nDe nos jours\, les dessins animés ont fait un bond en avant grâce aux avancées technologiques. Avec des graphismes époustouflants et des effets spéciaux saisissants\, des films comme « Toy Story » et « Frozen » ont séduit le public du monde entier. En outre\, la popularité des plateformes de streaming a ouvert de nouvelles possibilités pour les créateurs\, donnant lieu à une pléthore de séries animées uniques. Telles que « Rick et Morty » et « BoJack Horseman ». \nPar ailleurs\, il ne faut pas oublier l’influence des dessins animés japonais\, ou « anime »\, qui ont gagné en popularité à l’échelle internationale. Des séries emblématiques telles que « Naruto » et « One Piece » ont conquis un large public et ont laissé une empreinte durable sur la culture populaire. \nEnfin\, les dessins animés ne sont pas réservés uniquement aux enfants. De nombreux créateurs ont pris le parti de créer des dessins animés destinés aux adultes\, explorant des thèmes plus matures et des sujets complexes. Ainsi\, des séries comme « BoJack Horseman » et « Big Mouth » abordent des problématiques de la vie adulte avec humour et sensibilité. \n\n\n	Similaire
URL:https://crocoule.org/notre-evenement/festival-des-dessins-animes/
LOCATION:Cine Tence\, 8 rue Ste Agrève\, Tence\, 43190
CATEGORIES:04 ans +
END:VEVENT
END:VCALENDAR