BEGIN:VCALENDAR
VERSION:2.0
PRODID:-//Crocoule - ECPv6.15.15//NONSGML v1.0//EN
CALSCALE:GREGORIAN
METHOD:PUBLISH
X-ORIGINAL-URL:https://crocoule.org
X-WR-CALDESC:Évènements pour Crocoule
REFRESH-INTERVAL;VALUE=DURATION:PT1H
X-Robots-Tag:noindex
X-PUBLISHED-TTL:PT1H
BEGIN:VTIMEZONE
TZID:Europe/Paris
BEGIN:DAYLIGHT
TZOFFSETFROM:+0100
TZOFFSETTO:+0200
TZNAME:CEST
DTSTART:20220327T010000
END:DAYLIGHT
BEGIN:STANDARD
TZOFFSETFROM:+0200
TZOFFSETTO:+0100
TZNAME:CET
DTSTART:20221030T010000
END:STANDARD
BEGIN:DAYLIGHT
TZOFFSETFROM:+0100
TZOFFSETTO:+0200
TZNAME:CEST
DTSTART:20230326T010000
END:DAYLIGHT
BEGIN:STANDARD
TZOFFSETFROM:+0200
TZOFFSETTO:+0100
TZNAME:CET
DTSTART:20231029T010000
END:STANDARD
BEGIN:DAYLIGHT
TZOFFSETFROM:+0100
TZOFFSETTO:+0200
TZNAME:CEST
DTSTART:20240331T010000
END:DAYLIGHT
BEGIN:STANDARD
TZOFFSETFROM:+0200
TZOFFSETTO:+0100
TZNAME:CET
DTSTART:20241027T010000
END:STANDARD
BEGIN:DAYLIGHT
TZOFFSETFROM:+0100
TZOFFSETTO:+0200
TZNAME:CEST
DTSTART:20250330T010000
END:DAYLIGHT
BEGIN:STANDARD
TZOFFSETFROM:+0200
TZOFFSETTO:+0100
TZNAME:CET
DTSTART:20251026T010000
END:STANDARD
END:VTIMEZONE
BEGIN:VEVENT
DTSTART;TZID=Europe/Paris:20240807T100000
DTEND;TZID=Europe/Paris:20240807T120000
DTSTAMP:20260421T082059
CREATED:20240609T193211Z
LAST-MODIFIED:20240609T193211Z
UID:10007510-1723024800-1723032000@crocoule.org
SUMMARY:OBSERVATIONS AQUATIQUES
DESCRIPTION:OBSERVATIONS AQUATIQUES\nPar Rémy Désécures\, animateur nature RDV à l’Étang du Breuil\, La Chaise-Dieu Inscription obligatoire / durée 1h15 L’eau de l’étang du Breuil fourmille de petites bêtes aussi variées que fascinantes. Venez explorer cet étrange monde aquatique ! * Prévoir eau\, vêtements et chaussures adaptés / 1 adulte encadre 3 enfants max. et est responsable de leur sécurité. \nSi ton regard se pose sur ces mots c’est que toi aussi tu fais partie de la Haute Congrégation des Super Parents (HCSP : rien que ça !  ????) investis en quête d’idées de sorties familiales dans la Loire et la Haute-Loire pour son/ses bambin(s) ! \nTu ne me crois pas ? Si si\, promis Bienvenue et toutes mes Félicitations ! Tu es sur la bonne page … Et je vais te le prouver ! Tu es prêt ? Allez\, viens je t’emmène au fil des pages du Crocoule ! \nTout d’abord\, Le Crocoule Magazine c’est quoi ? Le Crocoule\, papier ou web\, c’est LE magazine qui porte en lui la douceur et la bienveillance dont tu as besoin en tant que parent et qui facilite tes recherches d’activités loisirs\, culturelles\, nature pour tous les budgets et tous les goûts ! Et ça c’est une promesse ? Tu veux en savoir +\, suis moi par ici ! \nEt ce n’est pas tout … Si tu as soif d’aventure Le Crocoule Express est fait pour toi !\n  \n  \n  \n\n\n	Similaire
URL:https://crocoule.org/notre-evenement/observations-aquatiques-2/2024-08-07/
LOCATION:Ciné Parc – La Chaise-Dieu\, Auditorium Georges cziffra\, La Chaise-Dieu\, 43160
CATEGORIES:05 ans +,Activité pendant les vacances,Exterieur,Tous les événements,Tout public
END:VEVENT
BEGIN:VEVENT
DTSTART;TZID=Europe/Paris:20240801T200000
DTEND;TZID=Europe/Paris:20240801T213000
DTSTAMP:20260421T082059
CREATED:20240609T193801Z
LAST-MODIFIED:20240609T193801Z
UID:10007511-1722542400-1722547800@crocoule.org
SUMMARY:VEILLÉE CONTÉE
DESCRIPTION:VEILLÉE CONTÉE\nInscription obligatoire / durée 1h20 La nuit tombe sur l’étang\, chaque soir\, le prince grenouille s’interroge : d’où viennent donc tous ces animaux qui vivent ici ? Comment naissent les têtards ? D’où tombent les chauvessouris ? Un grand mystère que seul le vieil arbre à l’envers lui permettra d’élucider. * Prévoir coussin ou plaid\, habits chauds\, lampe de poche. \n  \nSi ton regard se pose sur ces mots c’est que toi aussi tu fais partie de la Haute Congrégation des Super Parents (HCSP : rien que ça !  ????) investis en quête d’idées de sorties familiales dans la Loire et la Haute-Loire pour son/ses bambin(s) ! \nTu ne me crois pas ? Si si\, promis Bienvenue et toutes mes Félicitations ! Tu es sur la bonne page … Et je vais te le prouver ! Tu es prêt ? Allez\, viens je t’emmène au fil des pages du Crocoule ! \nTout d’abord\, Le Crocoule Magazine c’est quoi ? Le Crocoule\, papier ou web\, c’est LE magazine qui porte en lui la douceur et la bienveillance dont tu as besoin en tant que parent et qui facilite tes recherches d’activités loisirs\, culturelles\, nature pour tous les budgets et tous les goûts ! Et ça c’est une promesse ? Tu veux en savoir +\, suis moi par ici ! \nEt ce n’est pas tout … Si tu as soif d’aventure Le Crocoule Express est fait pour toi !\n  \n  \n  \n\n\n	Similaire
URL:https://crocoule.org/notre-evenement/veillee-contee/
LOCATION:Ciné Parc – La Chaise-Dieu\, Auditorium Georges cziffra\, La Chaise-Dieu\, 43160
CATEGORIES:06 ans +,Activité pendant les vacances,Intérieur,Tous les événements
END:VEVENT
BEGIN:VEVENT
DTSTART;TZID=Europe/Paris:20240724T100000
DTEND;TZID=Europe/Paris:20240724T120000
DTSTAMP:20260421T082059
CREATED:20240609T193211Z
LAST-MODIFIED:20240609T193211Z
UID:10007509-1721815200-1721822400@crocoule.org
SUMMARY:OBSERVATIONS AQUATIQUES
DESCRIPTION:OBSERVATIONS AQUATIQUES\nPar Rémy Désécures\, animateur nature RDV à l’Étang du Breuil\, La Chaise-Dieu Inscription obligatoire / durée 1h15 L’eau de l’étang du Breuil fourmille de petites bêtes aussi variées que fascinantes. Venez explorer cet étrange monde aquatique ! * Prévoir eau\, vêtements et chaussures adaptés / 1 adulte encadre 3 enfants max. et est responsable de leur sécurité. \nSi ton regard se pose sur ces mots c’est que toi aussi tu fais partie de la Haute Congrégation des Super Parents (HCSP : rien que ça !  ????) investis en quête d’idées de sorties familiales dans la Loire et la Haute-Loire pour son/ses bambin(s) ! \nTu ne me crois pas ? Si si\, promis Bienvenue et toutes mes Félicitations ! Tu es sur la bonne page … Et je vais te le prouver ! Tu es prêt ? Allez\, viens je t’emmène au fil des pages du Crocoule ! \nTout d’abord\, Le Crocoule Magazine c’est quoi ? Le Crocoule\, papier ou web\, c’est LE magazine qui porte en lui la douceur et la bienveillance dont tu as besoin en tant que parent et qui facilite tes recherches d’activités loisirs\, culturelles\, nature pour tous les budgets et tous les goûts ! Et ça c’est une promesse ? Tu veux en savoir +\, suis moi par ici ! \nEt ce n’est pas tout … Si tu as soif d’aventure Le Crocoule Express est fait pour toi !\n  \n  \n  \n\n\n	Similaire
URL:https://crocoule.org/notre-evenement/observations-aquatiques-2/2024-07-24/
LOCATION:Ciné Parc – La Chaise-Dieu\, Auditorium Georges cziffra\, La Chaise-Dieu\, 43160
CATEGORIES:05 ans +,Activité pendant les vacances,Exterieur,Tous les événements,Tout public
END:VEVENT
BEGIN:VEVENT
DTSTART;TZID=Europe/Paris:20230217T150000
DTEND;TZID=Europe/Paris:20230217T162300
DTSTAMP:20260421T082059
CREATED:20221222T102559Z
LAST-MODIFIED:20230127T145407Z
UID:10000755-1676646000-1676650980@crocoule.org
SUMMARY:CINÉ-GOÛTER
DESCRIPTION:LE PHARAON\, LA PRINCESSE ET LE SAUVAGE\nCINÉ-GOÛTER – LA CHASE-DIEU – HAUTE-LOIRE \nRéalisé par Michel Ocelot – France – 2022\nTrois contes\, trois époques\, trois univers : une épopée de l’Egypte antique\, une légende médiévale de l’Auvergne\, une fantaisie du XVIIIe siècle dans des costumes ottomans et des palais turcs. Dans son nouveau film\, Michel Ocelot nous emporte avec lui dans des rêves peuplés de dieux splendides\, de tyrans révoltants\, de justiciers réjouissants\, d’amoureux astucieux\, de princes et de princesses n’en faisant qu’à leur tête\, dans une explosion de couleurs. \nSéance suivie d’un goûter proposé par « Au Moine Gourmand »\, pâtisserie de La Chaise-Dieu\, partenaire sucré du ciné-goûter. \n\nType : JEUNE PUBLIC\nDate : VENDREDI 17 FÉVRIER\, 15H\nHoraires : 15H\nLieu : AUDITORIUM CZIFFRA\nDurée : 1H23\nTarif : TARIF PLEIN : 5\,50 € / TARIF RÉDUIT : 3\,50 €\nPublic : DÈS 7 ANS\nPartenaires : ORGANISATEUR : CINÉ PARC\n\nRéservations auprès de Ciné Parc au 04 73 95 58 00 ou cinemome@parc-livradois-forez.org\n\nDepuis 2003\, Ciné Parc a mis en place un rendez-vous cinéma pour les enfants (et les plus grands !) à chaque petites vacances scolaires : le ciné-goûter. Lors de ces projections “pas comme les autres”\, Ciné Parc a à cœur de faire découvrir aux jeunes spectateurs des films originaux\, qui se démarquent de ceux habituellement montrés en salles lors des vacances\, des films choisis soigneusement pour leurs qualités esthétiques et narratives… Des films dont on parle peu mais qui recèlent des trésors d’inventivité et d’originalité et qu’il serait dommage de rater ! A la fin de la projection\, les spectateurs peuvent partager leurs impressions autour d’un goûter. Et de temps en temps\, il y a même des petits plus (animation\, atelier\, etc.). En résumé\, les ciné-goûters sont des moments à ne pas manquer ! \n  \n  \n\n\n	Similaire
URL:https://crocoule.org/notre-evenement/cine-gouter/
LOCATION:Ciné Parc – La Chaise-Dieu\, Auditorium Georges cziffra\, La Chaise-Dieu\, 43160
CATEGORIES:07 ans +
END:VEVENT
BEGIN:VEVENT
DTSTART;TZID=Europe/Paris:20230217T103000
DTEND;TZID=Europe/Paris:20230217T103000
DTSTAMP:20260421T082059
CREATED:20221222T102733Z
LAST-MODIFIED:20221222T102733Z
UID:10000756-1676629800-1676629800@crocoule.org
SUMMARY:LE CINÉMA DES P'TITS LOUPS
DESCRIPTION:Projection de Loups tendre et loufoques\, un programme de 5 courts métrages\, 2022.\ninscriptions : cinemome@parc-livradois-forez.org \n\n\n	Similaire
URL:https://crocoule.org/notre-evenement/le-cinema-des-ptits-loups/
LOCATION:Ciné Parc – La Chaise-Dieu\, Auditorium Georges cziffra\, La Chaise-Dieu\, 43160
CATEGORIES:03 ans +
END:VEVENT
END:VCALENDAR