BEGIN:VCALENDAR
VERSION:2.0
PRODID:-//Crocoule - ECPv6.15.15//NONSGML v1.0//EN
CALSCALE:GREGORIAN
METHOD:PUBLISH
X-ORIGINAL-URL:https://crocoule.org
X-WR-CALDESC:Évènements pour Crocoule
REFRESH-INTERVAL;VALUE=DURATION:PT1H
X-Robots-Tag:noindex
X-PUBLISHED-TTL:PT1H
BEGIN:VTIMEZONE
TZID:Europe/Paris
BEGIN:DAYLIGHT
TZOFFSETFROM:+0100
TZOFFSETTO:+0200
TZNAME:CEST
DTSTART:20220327T010000
END:DAYLIGHT
BEGIN:STANDARD
TZOFFSETFROM:+0200
TZOFFSETTO:+0100
TZNAME:CET
DTSTART:20221030T010000
END:STANDARD
BEGIN:DAYLIGHT
TZOFFSETFROM:+0100
TZOFFSETTO:+0200
TZNAME:CEST
DTSTART:20230326T010000
END:DAYLIGHT
BEGIN:STANDARD
TZOFFSETFROM:+0200
TZOFFSETTO:+0100
TZNAME:CET
DTSTART:20231029T010000
END:STANDARD
BEGIN:DAYLIGHT
TZOFFSETFROM:+0100
TZOFFSETTO:+0200
TZNAME:CEST
DTSTART:20240331T010000
END:DAYLIGHT
BEGIN:STANDARD
TZOFFSETFROM:+0200
TZOFFSETTO:+0100
TZNAME:CET
DTSTART:20241027T010000
END:STANDARD
END:VTIMEZONE
BEGIN:VEVENT
DTSTART;TZID=Europe/Paris:20231029T140000
DTEND;TZID=Europe/Paris:20231029T170000
DTSTAMP:20260419T180131
CREATED:20231018T080256Z
LAST-MODIFIED:20231018T080256Z
UID:10002640-1698588000-1698598800@crocoule.org
SUMMARY:Halloween au château de Rochebaron
DESCRIPTION:Cette année encore\, Halloween à Rochebaron revient ! Bourreau.. Chasse aux araignée.. Enigmes.. Tour hantée.. Jeux pour enfants.. Et un spectacle de rapaces en vol libre à 15h15 ! De 14h à 18h\, plongez dans l’ambiance Halloweenesque du château !N’hésitez pas à vous costumer pour plus d’amusement ! \nRochebaron\, un château imprenable\n  \nSitué dans le Forez\, le château culmine sur son piton rocheux à 653 mètres d’altitude. \nSes premières constructions datent du XIIe siècle. \nPour parvenir au cœur du château\, il fallait franchir 3 enceintes successives\, complétées par des tours\, dont la plus haute\, la tour ronde (XV ème siècle) fait 25 mètres. \nLes événements comme l’apparition des armes à feu\, entrainèrent des extensions et des aménagements des systèmes de défense. \nLes seigneurs aménagèrent leur logis pour y créer des conditions de vie moins austères et à partir du XVII ème siècle quittèrent progressivement le site pour des résidences plus confortables. Le dernier propriétaire mourut au début du XIX ème siècle. \nRochebaron a appartenu successivement à 6 familles: Les Rochebaron (940-1434)\, de Chalencon (1434-1618)\, Isserpent (1618-1650)\, de la Rochefoucauld (1650-1766)\, de Giry (1766-1775) et de Fisicat (1775-1793). \nA partir du XVII e siècle le château est progressivement abandonné pour ne plus avoir de propriétaire dès le début du XIX è siècle. http://www.rochebaron.org/histoire/ \n\n\n\n	Similaire
URL:https://crocoule.org/notre-evenement/halloween-au-chateau-de-rochebaron/
LOCATION:Château de Rochebaron – Bas-en-Basset.\, Bas-en-Basset\, 43210
CATEGORIES:Activité pendant les vacances
END:VEVENT
BEGIN:VEVENT
DTSTART;TZID=Europe/Paris:20230719T100000
DTEND;TZID=Europe/Paris:20230719T100000
DTSTAMP:20260419T180131
CREATED:20230627T134443Z
LAST-MODIFIED:20230627T134443Z
UID:10001739-1689760800-1689760800@crocoule.org
SUMMARY:Balade en compagnie d'oiseaux de proie
DESCRIPTION:Balade en compagnie d’oiseaux de proie\nBalade avec des oiseaux en compagnie d’oiseaux de proie au Château et volerie de Rochebaron de Bas-en-Basset. \nAmoureux de nature\, découvrez les alentours du château en compagnie de rapaces et leur fauconnier. \nUne promenade originale : les oiseaux vous suivent et vous frôlent\, en toute liberté ! Et vous pouvez ainsi interagir avec Nicolas et Orion\, les fauconniers\, de façon privilégiée. \nUne expérience à vivre à plusieurs. Chacun pourra rappeler les oiseaux au poing et ainsi partager la passion de leur fauconnier. \n« Un matin avec les fauconniers\n\n\nA la découverte d’une passion chez les fauconniers.\nLe matin au cours d’une balade en forêt\,nous avons pu avec l’aide de 2 fauconniers\, découvrir les rapaces qui cohabitent à Rochebaron. Les porter sur un gant et découvrir ce qu’ ils ont réellement à été un moment qui a passionné les petits comme les grands. A faire absolument »  Avis Tripadvisor juillet 2018 \n\n\nTarifs 2023 pour 1h30 de promenade (2 km environ) commentée et accompagnée par un fauconnier certifié. \nPrestation uniquement sur réservation et pour des groupes de 10 à 30 personnes. \n– Adulte: 12 € \n– Enfant (6 à 16 ans):  8 € \nSi vous souhaitez faire une ballade privatisée (groupe de moins de 10 personne)\, veuillez nous contacter à contact.rochebaron@gmail.com \nRéservation obligatoire. \n\n\n	Similaire
URL:https://crocoule.org/notre-evenement/balade-en-compagnie-doiseaux-de-proie-2/
LOCATION:Château de Rochebaron – Bas-en-Basset.\, Bas-en-Basset\, 43210
END:VEVENT
BEGIN:VEVENT
DTSTART;TZID=Europe/Paris:20230714T210000
DTEND;TZID=Europe/Paris:20230714T210000
DTSTAMP:20260419T180131
CREATED:20230629T101701Z
LAST-MODIFIED:20230629T101701Z
UID:10001773-1689368400-1689368400@crocoule.org
SUMMARY:Soirée contes sous les étoiles
DESCRIPTION:Soirée contes sous les étoiles\nLe château et la volerie de Rochebaron propose une soirée contes sous les étoiles. \n\n\nOsez une soirée conte sous les étoiles\, au cœur du château de Rochebaron dans le cadre du festival Contes en Marches du collectif konsl’diz. Pour cloturer la soirée\, vous profiterez d’une vue imprenable sur le feu d’artifice tiré à Bas en Basset. \nChâteau et volerie de Rochebaron – Bas-en-Basset\nLe château ruiné de Rochebaron coiffe le sommet d’un éperon rocheux situé dans la commune de Bas-en-Basset. \nVivez une immersion au cœur des vestiges d’un authentique château- fort de Haute-Loire. À  1 heure de Lyon et 45 minutes de Saint-Etienne. Un lieu de préservation du patrimoine et d’espèces naturelles\, hors du temps\, se livre à vous. \nEn effet\, parmi les premiers châteaux de la Loire\, il est un témoin  précieux de l’architecture défensive du Moyen- Age :  mâchicoulis\, remparts\, meurtrières et 3 tours dont la plus haute (26 mètres) se visite. \nDe plus\, 2 musées ainsi qu’un parcours de 12 panneaux explicatifs dans le château\, vous guideront sur les pas des seigneurs de Rochebaron qui l’ont occupé du XIIe au XVIe siècle ! \nEnfin\, découvrez aussi la volerie du château qui accueille aigles\, hiboux\, chouettes\, faucons\, milan\, buses. Et qui offre la possibilité d’assister à leurs démonstrations interactives en vols libres d’avril à fin octobre. \n\n\n\n\n	Similaire
URL:https://crocoule.org/notre-evenement/soiree-contes-sous-les-etoiles/
LOCATION:Château de Rochebaron – Bas-en-Basset.\, Bas-en-Basset\, 43210
CATEGORIES:07 ans +
END:VEVENT
BEGIN:VEVENT
DTSTART;TZID=Europe/Paris:20230712T100000
DTEND;TZID=Europe/Paris:20230712T100000
DTSTAMP:20260419T180131
CREATED:20230627T134303Z
LAST-MODIFIED:20230627T134303Z
UID:10001738-1689156000-1689156000@crocoule.org
SUMMARY:Balade en compagnie d'oiseaux de proie
DESCRIPTION:Balade en compagnie d’oiseaux de proie\nBalade avec des oiseaux en compagnie d’oiseaux de proie au Château et volerie de Rochebaron de Bas-en-Basset. \nAmoureux de nature\, découvrez les alentours du château en compagnie de rapaces et leur fauconnier. \nUne promenade originale : les oiseaux vous suivent et vous frôlent\, en toute liberté ! Et vous pouvez ainsi interagir avec Nicolas et Orion\, les fauconniers\, de façon privilégiée. \nUne expérience à vivre à plusieurs. Chacun pourra rappeler les oiseaux au poing et ainsi partager la passion de leur fauconnier. \n« Un matin avec les fauconniers\n\n\nA la découverte d’une passion chez les fauconniers.\nLe matin au cours d’une balade en forêt\,nous avons pu avec l’aide de 2 fauconniers\, découvrir les rapaces qui cohabitent à Rochebaron. Les porter sur un gant et découvrir ce qu’ ils ont réellement à été un moment qui a passionné les petits comme les grands. A faire absolument »  Avis Tripadvisor juillet 2018 \n\n\nTarifs 2023 pour 1h30 de promenade (2 km environ) commentée et accompagnée par un fauconnier certifié. \nPrestation uniquement sur réservation et pour des groupes de 10 à 30 personnes. \n– Adulte: 12 € \n– Enfant (6 à 16 ans):  8 € \nSi vous souhaitez faire une ballade privatisée (groupe de moins de 10 personne)\, veuillez nous contacter à contact.rochebaron@gmail.com \nRéservation obligatoire. \n\n\n	Similaire
URL:https://crocoule.org/notre-evenement/balade-en-compagnie-doiseaux-de-proie/
LOCATION:Château de Rochebaron – Bas-en-Basset.\, Bas-en-Basset\, 43210
END:VEVENT
BEGIN:VEVENT
DTSTART;TZID=Europe/Paris:20230409T100000
DTEND;TZID=Europe/Paris:20230409T100000
DTSTAMP:20260419T180131
CREATED:20230327T120319Z
LAST-MODIFIED:20230327T120319Z
UID:10001153-1681034400-1681034400@crocoule.org
SUMMARY:BALADE AVEC OISEAUX DE PROIE
DESCRIPTION:BALADE AVEC OISEAUX DE PROIE \nBalade avec des oiseaux de proie au Château et volerie de Rochebaron de Bas-en-Basset. \nAmoureux de nature\, découvrez les alentours du château en compagnie de rapaces et leur fauconnier. \nUne promenade originale : les oiseaux vous suivent et vous frôlent\, en toute liberté ! Et vous pouvez ainsi interagir avec Nicolas et Orion\, les fauconniers\, de façon privilégiée. \nUne expérience à vivre à plusieurs. Chacun pourra rappeler les oiseaux au poing et ainsi partager la passion de leur fauconnier. \n« Un matin avec les fauconniers\n\n\nA la découverte d’une passion chez les fauconniers.\nLe matin au cours d’une balade en forêt\,nous avons pu avec l’aide de 2 fauconniers\, découvrir les rapaces qui cohabitent à Rochebaron. Les porter sur un gant et découvrir ce qu’ ils ont réellement à été un moment qui a passionné les petits comme les grands. A faire absolument »  Avis Tripadvisor juillet 2018 \n\n\nTarifs 2023 pour 1h30 de promenade (2 km environ) commentée et accompagnée par un fauconnier certifié. \nPrestation uniquement sur réservation et pour des groupes de 10 à 30 personnes. \n– Adulte: 12 € \n– Enfant (6 à 16 ans):  8 € \nSi vous souhaitez faire une ballade privatisée (groupe de moins de 10 personne)\, veuillez nous contacter à contact.rochebaron@gmail.com \nRéservation obligatoire. \n\n\n	Similaire
URL:https://crocoule.org/notre-evenement/balade-avec-oiseaux-de-proie/
LOCATION:Château de Rochebaron – Bas-en-Basset.\, Bas-en-Basset\, 43210
CATEGORIES:06 ans +,Activité du week-end
END:VEVENT
END:VCALENDAR