BEGIN:VCALENDAR
VERSION:2.0
PRODID:-//Crocoule - ECPv6.15.15//NONSGML v1.0//EN
CALSCALE:GREGORIAN
METHOD:PUBLISH
X-WR-CALNAME:Crocoule
X-ORIGINAL-URL:https://crocoule.org
X-WR-CALDESC:Évènements pour Crocoule
REFRESH-INTERVAL;VALUE=DURATION:PT1H
X-Robots-Tag:noindex
X-PUBLISHED-TTL:PT1H
BEGIN:VTIMEZONE
TZID:Europe/Paris
BEGIN:DAYLIGHT
TZOFFSETFROM:+0100
TZOFFSETTO:+0200
TZNAME:CEST
DTSTART:20210328T010000
END:DAYLIGHT
BEGIN:STANDARD
TZOFFSETFROM:+0200
TZOFFSETTO:+0100
TZNAME:CET
DTSTART:20211031T010000
END:STANDARD
BEGIN:DAYLIGHT
TZOFFSETFROM:+0100
TZOFFSETTO:+0200
TZNAME:CEST
DTSTART:20220327T010000
END:DAYLIGHT
BEGIN:STANDARD
TZOFFSETFROM:+0200
TZOFFSETTO:+0100
TZNAME:CET
DTSTART:20221030T010000
END:STANDARD
BEGIN:DAYLIGHT
TZOFFSETFROM:+0100
TZOFFSETTO:+0200
TZNAME:CEST
DTSTART:20230326T010000
END:DAYLIGHT
BEGIN:STANDARD
TZOFFSETFROM:+0200
TZOFFSETTO:+0100
TZNAME:CET
DTSTART:20231029T010000
END:STANDARD
BEGIN:DAYLIGHT
TZOFFSETFROM:+0100
TZOFFSETTO:+0200
TZNAME:CEST
DTSTART:20240331T010000
END:DAYLIGHT
BEGIN:STANDARD
TZOFFSETFROM:+0200
TZOFFSETTO:+0100
TZNAME:CET
DTSTART:20241027T010000
END:STANDARD
END:VTIMEZONE
BEGIN:VEVENT
DTSTART;TZID=Europe/Paris:20230713T150000
DTEND;TZID=Europe/Paris:20230713T163000
DTSTAMP:20260421T125232
CREATED:20230515T073642Z
LAST-MODIFIED:20230515T073642Z
UID:10001314-1689260400-1689265800@crocoule.org
SUMMARY:Apprenti calligraphe
DESCRIPTION:Apprenti calligraphe – Atelier enfant\nLe château de la bâtie d’Urfé propose l’atelier enfant\, apprenti calligraphe dès 7 ans. \nLes enfants vont apprendre à écrire comme au Moyen-Age ! Qui écrit\, comment\, sur quoi et avec quoi ? \nContact : \nChâteau de la Bâtie d’Urfé 1061 Route de la Bâtie d’Urfé 42130 Saint-Étienne-le-Molard \n\nTéléphone : 04 77 97 54 68\n\nLA BÂTIE D’URFÉ – PRÉSENTATION \nBienvenue au château de la Bätie d’Urfé\, un site historique incontournable de la région Rhône-Alpes en France. En effet\, construit au XVIe siècle. Le château a été le lieu de résidence de la famille de la Bätie d’Urfé pendant plusieurs siècles. \nDe plus; Le château de la Bätie d’Urfé est un exemple parfait de l’architecture de la Renaissance française. Les visiteurs peuvent admirer les magnifiques jardins à la française qui entourent le château\, ainsi que les nombreuses salles richement décorées à l’intérieur. \nLe château propose également des visites guidées passionnantes qui plongent les visiteurs dans l’histoire fascinante du château et de ses résidents. Vous pourrez explorer les différents étages du château\, y compris les salles d’apparat\, la chapelle\, et la bibliothèque. \nLe château de la Bätie d’Urfé est également connu pour son festival d’été\, qui propose une variété de spectacles de musique\, de théâtre et de danse dans un cadre pittoresque et romantique. \nNous vous invitons à venir découvrir le charme unique du château de la Bätie d’Urfé et à vous imprégner de son histoire riche et passionnante. \n\n\n	Similaire
URL:https://crocoule.org/notre-evenement/apprenti-calligraphe/
LOCATION:Château de la Bâtie D’Urfé – Saint-Étienne-Le-Molard
CATEGORIES:07 ans +,Activité en semaine
END:VEVENT
BEGIN:VEVENT
DTSTART;TZID=Europe/Paris:20230603T160000
DTEND;TZID=Europe/Paris:20230603T160000
DTSTAMP:20260421T125232
CREATED:20230512T080935Z
LAST-MODIFIED:20230512T080935Z
UID:10001266-1685808000-1685808000@crocoule.org
SUMMARY:"Eau ! Eau ! Eau !"
DESCRIPTION:« Eau ! Eau ! Eau ! » par la Cie Scolopendre – Spectacle jeune public\nLe château de la bâtie d’Urfé propose le spectacle jeune public « Eau ! Eau ! Eau ! » par la Cie Scolopendre. \nLola aime l’eau. Mais la mer est loin. Alors elle lave\, rince\, essore son éponge et rêve de rivières qui l’emportent. Suivant le fil de l’eau et de ses transformations\, elle bouscule son quotidien de lavandière et plonge dans d’étranges mondes aquatiques. \nContact \nChâteau de la Bâtie d’Urfé \n1061 route de la Bâtie d’UrféChâteau de la Bâtie d’Urfé \nSaint-Étienne-le-Molard \n0477975468 \nLA BÂTIE D’URFÉ – PRÉSENTATION \nBienvenue au château de la Bätie d’Urfé\, un site historique incontournable de la région Rhône-Alpes en France. En effet\, construit au XVIe siècle. Le château a été le lieu de résidence de la famille de la Bätie d’Urfé pendant plusieurs siècles. \nDe plus\, le château de la Bätie d’Urfé est un exemple parfait de l’architecture de la Renaissance française. Les visiteurs peuvent admirer les magnifiques jardins à la française qui entourent le château\, ainsi que les nombreuses salles richement décorées à l’intérieur. \nEnsuite\, le château propose également des visites guidées passionnantes qui plongent les visiteurs dans l’histoire fascinante du château et de ses résidents. Vous pourrez explorer les différents étages du château\, y compris les salles d’apparat\, la chapelle\, et la bibliothèque. \nLe château de la Bätie d’Urfé est également connu pour son festival d’été\, qui propose une variété de spectacles de musique\, de théâtre et de danse dans un cadre pittoresque et romantique. \nEnfin\, nous vous invitons à venir découvrir le charme unique du château de la Bätie d’Urfé et à vous imprégner de son histoire riche et passionnante. \n\n\n	Similaire
URL:https://crocoule.org/notre-evenement/eau-eau-eau/
LOCATION:Château de la Bâtie D’Urfé – Saint-Étienne-Le-Molard
CATEGORIES:03 ans +,Activité du week-end
END:VEVENT
BEGIN:VEVENT
DTSTART;TZID=Europe/Paris:20230603T140000
DTEND;TZID=Europe/Paris:20230603T140000
DTSTAMP:20260421T125232
CREATED:20230512T075112Z
LAST-MODIFIED:20230512T075112Z
UID:10001264-1685800800-1685800800@crocoule.org
SUMMARY:APPRENTI BOTANISTE
DESCRIPTION:APPRENTI BOTANISTE – ATELIER ENFANT\nLe château de la bâtie d’Urfé propose l’atelier enfant\, apprenti botaniste dès 6 ans. \nViens jouer au botaniste en herbe en fabriquant un herbier. Tu découvriras les plantes cultivées dans les jardins de la Renaissance et créeras ta propre collection. \n  \nContact : \nChâteau de la Bâtie d’Urfé 1061 Route de la Bâtie d’Urfé 42130 Saint-Étienne-le-Molard \n\nTéléphone : 04 77 97 54 68\n\nLA BÂTIE D’URFÉ – PRÉSENTATION \nBienvenue au château de la Bätie d’Urfé\, un site historique incontournable de la région Rhône-Alpes en France. En effet\, construit au XVIe siècle. Le château a été le lieu de résidence de la famille de la Bätie d’Urfé pendant plusieurs siècles. \nDe plus; Le château de la Bätie d’Urfé est un exemple parfait de l’architecture de la Renaissance française. Les visiteurs peuvent admirer les magnifiques jardins à la française qui entourent le château\, ainsi que les nombreuses salles richement décorées à l’intérieur. \nLe château propose également des visites guidées passionnantes qui plongent les visiteurs dans l’histoire fascinante du château et de ses résidents. Vous pourrez explorer les différents étages du château\, y compris les salles d’apparat\, la chapelle\, et la bibliothèque. \nLe château de la Bätie d’Urfé est également connu pour son festival d’été\, qui propose une variété de spectacles de musique\, de théâtre et de danse dans un cadre pittoresque et romantique. \nNous vous invitons à venir découvrir le charme unique du château de la Bätie d’Urfé et à vous imprégner de son histoire riche et passionnante. \n\n\n\n\n	Similaire
URL:https://crocoule.org/notre-evenement/apprenti-botaniste/
LOCATION:Château de la Bâtie D’Urfé – Saint-Étienne-Le-Molard
CATEGORIES:06 ans +,Activité du week-end
END:VEVENT
BEGIN:VEVENT
DTSTART;TZID=Europe/Paris:20230420T150000
DTEND;TZID=Europe/Paris:20230420T150000
DTSTAMP:20260421T125232
CREATED:20230301T152827Z
LAST-MODIFIED:20230301T152827Z
UID:10001105-1682002800-1682002800@crocoule.org
SUMMARY:ATELIER PEINTURE SUR VITRAIL
DESCRIPTION:ATELIER PEINTURE SUR VITRAIL  \nComment fabrique-t-on un vitrail ? Savez-vous quelles techniques sont utilisées ? Et quelles couleurs sont choisies par les maîtres artisans ? Quand vous le saurez\, ce sera à votre tour d‘imaginer un décor de vitrail (matériel sécurisé fourni) \nLA BÂTIE D’URFÉ – PRÉSENTATION  – ATELIER PEINTURE SUR VITRAIL \nBienvenue au château de la Bätie d’Urfé\, un site historique incontournable de la région Rhône-Alpes en France. En effet\, construit au XVIe siècle. De plus\, le château a été le lieu de résidence de la famille de la Bätie d’Urfé pendant plusieurs siècles. \nTout d’abord\, le château de la Bätie d’Urfé est un exemple parfait de l’architecture de la Renaissance française. Les visiteurs peuvent admirer les magnifiques jardins à la française qui entourent le château. Ainsi que les nombreuses salles richement décorées à l’intérieur. \nDe plus\, le château propose également des visites guidées passionnantes qui plongent les visiteurs dans l’histoire fascinante du château et de ses résidents. Vous pourrez explorer les différents étages du château\, y compris les salles d’apparat\, la chapelle\, et la bibliothèque. \nLe château de la Bätie d’Urfé est également connu pour son festival d’été\, qui propose une variété de spectacles. Notamment\, des spectacles de musique\, de théâtre et de danse dans un cadre pittoresque et romantique. \nNous vous invitons à venir découvrir le charme unique du château de la Bätie d’Urfé. Et à vous imprégner de son histoire riche et passionnante. \n\n\n	Similaire
URL:https://crocoule.org/notre-evenement/atelier-peinture-sur-vitrail/
LOCATION:Château de la Bâtie D’Urfé – Saint-Étienne-Le-Molard
CATEGORIES:07 ans +
END:VEVENT
BEGIN:VEVENT
DTSTART;TZID=Europe/Paris:20230413T150000
DTEND;TZID=Europe/Paris:20230413T150000
DTSTAMP:20260421T125232
CREATED:20230316T153750Z
LAST-MODIFIED:20230316T153750Z
UID:10001115-1681398000-1681398000@crocoule.org
SUMMARY:LA RECHERCHE DU NOUVEAU MONDE
DESCRIPTION:LA RECHERCHE DU NOUVEAU MONDE\nLa recherche du nouveau monde est une activités à pratiquer en famille dès 7 ans. \nSur les traces de Christophe Colomb\, Magellan et d’autres grands navigateurs\, partez explorer le monde du 16ème siècle. A travers les oeuvres d’art du château\, découvrez comment leurs trouvailles vont se diffuser en France et en Europe. \nPuis\, incarnez en famille un équipage sur un jeu de plateau et naviguez à la recherche de nouvelles terres\, d’épices et autres produits précieux et inconnus au 16e siècle. \nTéléphone : 04 77 97 54 68 \nRéservation obligatoire. \nLA BÂTIE D’URFÉ – PRÉSENTATION \nBienvenue au château de la Bätie d’Urfé\, un site historique incontournable de la région Rhône-Alpes en France. En effet\, construit au XVIe siècle. Le château a été le lieu de résidence de la famille de la Bätie d’Urfé pendant plusieurs siècles. \nDe plus; Le château de la Bätie d’Urfé est un exemple parfait de l’architecture de la Renaissance française. Les visiteurs peuvent admirer les magnifiques jardins à la française qui entourent le château\, ainsi que les nombreuses salles richement décorées à l’intérieur. \nLe château propose également des visites guidées passionnantes qui plongent les visiteurs dans l’histoire fascinante du château et de ses résidents. Vous pourrez explorer les différents étages du château\, y compris les salles d’apparat\, la chapelle\, et la bibliothèque. \nLe château de la Bätie d’Urfé est également connu pour son festival d’été\, qui propose une variété de spectacles de musique\, de théâtre et de danse dans un cadre pittoresque et romantique. \nNous vous invitons à venir découvrir le charme unique du château de la Bätie d’Urfé et à vous imprégner de son histoire riche et passionnante. \n  \n  \n\n\n	Similaire
URL:https://crocoule.org/notre-evenement/la-recherche-du-nouveau-monde/
LOCATION:Château de la Bâtie D’Urfé – Saint-Étienne-Le-Molard
CATEGORIES:07 ans +
END:VEVENT
BEGIN:VEVENT
DTSTART;TZID=Europe/Paris:20230318T160000
DTEND;TZID=Europe/Paris:20230318T163000
DTSTAMP:20260421T125232
CREATED:20230224T150255Z
LAST-MODIFIED:20230224T150255Z
UID:10000987-1679155200-1679157000@crocoule.org
SUMMARY:UN BEAU MATIN
DESCRIPTION:UN BEAU MATIN \nUn beau matin est spectacle jeune public proposé par la compagnie bazar au terminus. \nUne voix\, une harpe\, une famille d’accordéons\, et voilà petits et grands embarqués en douceur dans de drôles d’histoires racontées\, jouées\, chantées. \nUn univers malicieux et poétique. Mais également\, de jeux de doigts\, de chansons\, de comptines. Tant de petites graines semées pour qu’un beau matin… \nDans ce spectacle solo\, dont la trame est librement inspirée de l’œuvre de Leo Lionni. On nous raconte une belle histoire de souris poètes\, on traverse une forêt d’animaux musiciens. En effet\, on se surprend à rêver de voyage. Les tout-petits sont invités ici à s’émerveiller\, à partir à la rencontre de l’imaginaire. À la fin du spectacle\, une seule envie\, que résonne encore et longtemps au creux de leurs oreilles\, quelques notes\, quelques mots… \nLA BÂTIE D’URFÉ – PRÉSENTATION \nBienvenue au château de la Bätie d’Urfé\, un site historique incontournable de la région Rhône-Alpes en France. En effet\, construit au XVIe siècle. Le château a été le lieu de résidence de la famille de la Bätie d’Urfé pendant plusieurs siècles. \nDe plus; Le château de la Bätie d’Urfé est un exemple parfait de l’architecture de la Renaissance française. Les visiteurs peuvent admirer les magnifiques jardins à la française qui entourent le château\, ainsi que les nombreuses salles richement décorées à l’intérieur. \nLe château propose également des visites guidées passionnantes qui plongent les visiteurs dans l’histoire fascinante du château et de ses résidents. Vous pourrez explorer les différents étages du château\, y compris les salles d’apparat\, la chapelle\, et la bibliothèque. \nLe château de la Bätie d’Urfé est également connu pour son festival d’été\, qui propose une variété de spectacles de musique\, de théâtre et de danse dans un cadre pittoresque et romantique. \nNous vous invitons à venir découvrir le charme unique du château de la Bätie d’Urfé et à vous imprégner de son histoire riche et passionnante. \n  \n  \n\n\n	Similaire
URL:https://crocoule.org/notre-evenement/un-beau-matin/
LOCATION:Château de la Bâtie D’Urfé – Saint-Étienne-Le-Molard
CATEGORIES:06 ans +,Activité du week-end
END:VEVENT
BEGIN:VEVENT
DTSTART;TZID=Europe/Paris:20221204T103000
DTEND;TZID=Europe/Paris:20221204T120000
DTSTAMP:20260421T125232
CREATED:20221128T104816Z
LAST-MODIFIED:20221128T104816Z
UID:10000489-1670149800-1670155200@crocoule.org
SUMMARY:ARCHITECTURE
DESCRIPTION:Venez redécouvrir l’architecture du château de la Bâtie d’Urfé. Lors de cette visite inédite\, vous comprendrez que le château est un exemple représentatif qui retrace l’architecture médiévale jusqu’à la Renaissance : batiedurfe.fr \n\n\n	Similaire
URL:https://crocoule.org/notre-evenement/architecture/
LOCATION:Château de la Bâtie D’Urfé – Saint-Étienne-Le-Molard
CATEGORIES:10 ans +,Activité du week-end
END:VEVENT
BEGIN:VEVENT
DTSTART;TZID=Europe/Paris:20221103T150000
DTEND;TZID=Europe/Paris:20221103T161500
DTSTAMP:20260421T125232
CREATED:20220929T104546Z
LAST-MODIFIED:20220929T104546Z
UID:10000265-1667487600-1667492100@crocoule.org
SUMMARY:ATELIER - JOUE AVEC ARCIMBOLDO
DESCRIPTION:En t’inspirant des portraits fantaisistes d’arcimboldo\, réalise ton propre portrait en collage à l’aide des représentations de fruits et légumes des jardins de la renaissance. \nInscriptions : batiedurfe.fr \n\n\n\n\n\n\n	Similaire
URL:https://crocoule.org/notre-evenement/atelier-joue-avec-arcimboldo/
LOCATION:Château de la Bâtie D’Urfé – Saint-Étienne-Le-Molard
CATEGORIES:05 ans +,Activité en semaine,Activité pendant les vacances
END:VEVENT
BEGIN:VEVENT
DTSTART;TZID=Europe/Paris:20221027T150000
DTEND;TZID=Europe/Paris:20221027T161500
DTSTAMP:20260421T125232
CREATED:20220929T082230Z
LAST-MODIFIED:20220929T082230Z
UID:10000225-1666882800-1666887300@crocoule.org
SUMMARY:PETITE ENQUÊTE AU CHÂTEAU
DESCRIPTION:Horreur\, un tableau a disparu ! Glisse-toi dans la peau d’un détective et viens nous aider à résoudre l’enquête. \nInscriptions : batiedurfe.fr \n\n\n	Similaire
URL:https://crocoule.org/notre-evenement/petite-enquete-au-chateau-2/
LOCATION:Château de la Bâtie D’Urfé – Saint-Étienne-Le-Molard
CATEGORIES:06 ans +,Activité en semaine,Activité pendant les vacances
END:VEVENT
BEGIN:VEVENT
DTSTART;TZID=Europe/Paris:20221027T150000
DTEND;TZID=Europe/Paris:20221027T161500
DTSTAMP:20260421T125232
CREATED:20220929T082005Z
LAST-MODIFIED:20220929T082005Z
UID:10000224-1666882800-1666887300@crocoule.org
SUMMARY:PETITE ENQUÊTE AU CHÂTEAU
DESCRIPTION:Horreur\, un tableau a disparu ! Glisse-toi dans la peau d’un détective et viens nous aider à résoudre l’enquête. \nInscriptions : batiedurfe.fr \n\n\n\n\n\n\n	Similaire
URL:https://crocoule.org/notre-evenement/petite-enquete-au-chateau/
LOCATION:Château de la Bâtie D’Urfé – Saint-Étienne-Le-Molard
CATEGORIES:06 ans +,Activité en semaine,Activité pendant les vacances
END:VEVENT
END:VCALENDAR