BEGIN:VCALENDAR
VERSION:2.0
PRODID:-//Crocoule - ECPv6.15.15//NONSGML v1.0//EN
CALSCALE:GREGORIAN
METHOD:PUBLISH
X-WR-CALNAME:Crocoule
X-ORIGINAL-URL:https://crocoule.org
X-WR-CALDESC:Évènements pour Crocoule
REFRESH-INTERVAL;VALUE=DURATION:PT1H
X-Robots-Tag:noindex
X-PUBLISHED-TTL:PT1H
BEGIN:VTIMEZONE
TZID:Europe/Paris
BEGIN:DAYLIGHT
TZOFFSETFROM:+0100
TZOFFSETTO:+0200
TZNAME:CEST
DTSTART:20210328T010000
END:DAYLIGHT
BEGIN:STANDARD
TZOFFSETFROM:+0200
TZOFFSETTO:+0100
TZNAME:CET
DTSTART:20211031T010000
END:STANDARD
BEGIN:DAYLIGHT
TZOFFSETFROM:+0100
TZOFFSETTO:+0200
TZNAME:CEST
DTSTART:20220327T010000
END:DAYLIGHT
BEGIN:STANDARD
TZOFFSETFROM:+0200
TZOFFSETTO:+0100
TZNAME:CET
DTSTART:20221030T010000
END:STANDARD
BEGIN:DAYLIGHT
TZOFFSETFROM:+0100
TZOFFSETTO:+0200
TZNAME:CEST
DTSTART:20230326T010000
END:DAYLIGHT
BEGIN:STANDARD
TZOFFSETFROM:+0200
TZOFFSETTO:+0100
TZNAME:CET
DTSTART:20231029T010000
END:STANDARD
END:VTIMEZONE
BEGIN:VEVENT
DTSTART;TZID=Europe/Paris:20221214T140000
DTEND;TZID=Europe/Paris:20221214T140000
DTSTAMP:20260421T174458
CREATED:20221128T092953Z
LAST-MODIFIED:20221128T092953Z
UID:10000468-1671026400-1671026400@crocoule.org
SUMMARY:DESSINE TON MANGA À BEAULIEU
DESCRIPTION:La médiathèque de Beaulieu vous propose d’apprendre à dessiner comme vos mangakas préférés\nInscriptions : mediatheques.saint-etienne.fr \n\n\n	Similaire
URL:https://crocoule.org/notre-evenement/dessine-ton-manga-a-beaulieu-2/
LOCATION:Centre Social Sisley – Saint Étienne\, 19 Rue Alfred Sisley\, Saint-Étienne\, 42100
CATEGORIES:07 ans +,Activité en semaine
END:VEVENT
END:VCALENDAR