BEGIN:VCALENDAR
VERSION:2.0
PRODID:-//Crocoule - ECPv6.15.20//NONSGML v1.0//EN
CALSCALE:GREGORIAN
METHOD:PUBLISH
X-WR-CALNAME:Crocoule
X-ORIGINAL-URL:https://crocoule.org
X-WR-CALDESC:Évènements pour Crocoule
REFRESH-INTERVAL;VALUE=DURATION:PT1H
X-Robots-Tag:noindex
X-PUBLISHED-TTL:PT1H
BEGIN:VTIMEZONE
TZID:Europe/Paris
BEGIN:DAYLIGHT
TZOFFSETFROM:+0100
TZOFFSETTO:+0200
TZNAME:CEST
DTSTART:20210328T010000
END:DAYLIGHT
BEGIN:STANDARD
TZOFFSETFROM:+0200
TZOFFSETTO:+0100
TZNAME:CET
DTSTART:20211031T010000
END:STANDARD
BEGIN:DAYLIGHT
TZOFFSETFROM:+0100
TZOFFSETTO:+0200
TZNAME:CEST
DTSTART:20220327T010000
END:DAYLIGHT
BEGIN:STANDARD
TZOFFSETFROM:+0200
TZOFFSETTO:+0100
TZNAME:CET
DTSTART:20221030T010000
END:STANDARD
BEGIN:DAYLIGHT
TZOFFSETFROM:+0100
TZOFFSETTO:+0200
TZNAME:CEST
DTSTART:20230326T010000
END:DAYLIGHT
BEGIN:STANDARD
TZOFFSETFROM:+0200
TZOFFSETTO:+0100
TZNAME:CET
DTSTART:20231029T010000
END:STANDARD
END:VTIMEZONE
BEGIN:VEVENT
DTSTART;TZID=Europe/Paris:20221022T103000
DTEND;TZID=Europe/Paris:20221022T120000
DTSTAMP:20260424T144120
CREATED:20220927T145730Z
LAST-MODIFIED:20220927T145730Z
UID:10000130-1666434600-1666440000@crocoule.org
SUMMARY:ATELIERS RÉFLEXOLOGIE PLANTAIRE PARENT-ENFANT
DESCRIPTION:Atelier « parent-enfant » découverte dela reflexologie plan- taire\, 1h30 de bien-être partagé avec une réflexologue passionnée pour démarrer les vacances du bon pied!!! Doc- uments et baume fournis\, prévoir une petite serviettede bain par personne. Le tarif de 25 euros comprend 1 adulte+1 enfant\, supplément de 5 euros par enfant sup. \nL’atelier a lieu dès 2 inscriptions. \nRéservations et renseignements auprès de Maud Peschang au 06-43-70-54-68 \nInscriptions : maudpeschang@gmail.com \n\n\n\n\n\n\n	Similaire
URL:https://crocoule.org/notre-evenement/ateliers-reflexologie-plantaire-parent-enfant/
LOCATION:Boutique Rimu – Feurs
CATEGORIES:04 ans +,Activité du week-end,Activité pendant les vacances
END:VEVENT
END:VCALENDAR