BEGIN:VCALENDAR
VERSION:2.0
PRODID:-//Crocoule - ECPv6.15.15//NONSGML v1.0//EN
CALSCALE:GREGORIAN
METHOD:PUBLISH
X-ORIGINAL-URL:https://crocoule.org
X-WR-CALDESC:Évènements pour Crocoule
REFRESH-INTERVAL;VALUE=DURATION:PT1H
X-Robots-Tag:noindex
X-PUBLISHED-TTL:PT1H
BEGIN:VTIMEZONE
TZID:Europe/Paris
BEGIN:DAYLIGHT
TZOFFSETFROM:+0100
TZOFFSETTO:+0200
TZNAME:CEST
DTSTART:20220327T010000
END:DAYLIGHT
BEGIN:STANDARD
TZOFFSETFROM:+0200
TZOFFSETTO:+0100
TZNAME:CET
DTSTART:20221030T010000
END:STANDARD
BEGIN:DAYLIGHT
TZOFFSETFROM:+0100
TZOFFSETTO:+0200
TZNAME:CEST
DTSTART:20230326T010000
END:DAYLIGHT
BEGIN:STANDARD
TZOFFSETFROM:+0200
TZOFFSETTO:+0100
TZNAME:CET
DTSTART:20231029T010000
END:STANDARD
BEGIN:DAYLIGHT
TZOFFSETFROM:+0100
TZOFFSETTO:+0200
TZNAME:CEST
DTSTART:20240331T010000
END:DAYLIGHT
BEGIN:STANDARD
TZOFFSETFROM:+0200
TZOFFSETTO:+0100
TZNAME:CET
DTSTART:20241027T010000
END:STANDARD
END:VTIMEZONE
BEGIN:VEVENT
DTSTART;TZID=Europe/Paris:20230719T143000
DTEND;TZID=Europe/Paris:20230719T160000
DTSTAMP:20260422T175256
CREATED:20230515T071458Z
LAST-MODIFIED:20230515T071458Z
UID:10001308-1689777000-1689782400@crocoule.org
SUMMARY:RECHERCHE VACHES DÉSESPÉRÉMENT
DESCRIPTION:RECHERCHE VACHES DÉSESPÉRÉMENT – ANIMATION FAMILLE\nRecherche vaches désespérément est une vraie aventure à vivre en famille : plusieurs jeux et énigmes vous permettront de découvrir la fabrication de la fourme de Montbrison et la vie d’autrefois dans les Monts du Forez. \nMalheur ! La famille Duchaume a perdu ses vaches… Sans vaches\, Pierrette ne peut plus faire de fourme… Venez lui apporter votre aide ! Jouez en famille pour tenter de retrouver le troupeau de Pierrette. \nEn tant qu’experts de la région\, vous devez explorer les collines et les prairies à la recherche des vaches égarées. \nEn chemin\, vous devrez résoudre des énigmes et des défis pour collecter des indices et avancer dans votre quête. Avec votre intelligence et votre perspicacité\, vous pourrez retrouver les vaches perdues de Pierrette et permettre à sa famille de reprendre la production de la délicieuse fourme d’Ambert. \nAlors\, enfilez vos bottes et partez à l’aventure pour aider Pierrette à retrouver ses vaches et sauver la production de fromage de la région ! » \nInscrivez-vous en famille.\nDurée : 1h30 environ – Inscription obligatoire\nSous réserve de bonnes conditions météorologiques. \nContact : \nTéléphone : 04 77 96 08 69 \nMail : contact@loireforez.com \nTarif : \nTarif unique : 5 €. \nGratuit pour les moins de 6 ans. \nLieu – Sauvain\nTout d’abord\, Sauvain est une commune française située dans le département de la Loire\, en région Auvergne-Rhône-Alpes. Le village de Sauvain est situé dans le parc naturel régional Livradois-Forez\, entouré de collines verdoyantes et de forêts denses. \nLe village est caractérisé par ses maisons traditionnelles en pierre et en bois\, ainsi que par son église romane du 12ème siècle\, qui est classée monument historique. Le patrimoine naturel de Sauvain est également remarquable\, avec une grande variété de flore et de faune\, ainsi que des rivières et des cascades pittoresques. \nSauvain est un lieu de prédilection pour les amateurs de randonnée et de VTT\, avec de nombreux sentiers balisés et circuits dans les environs. Le village dispose également d’un lac de pêche\, d’un terrain de camping\, d’une salle de spectacle et d’un petit marché hebdomadaire. \nSauvain est un endroit calme et paisible\, idéal pour une escapade en pleine nature et pour découvrir les traditions et la culture locale de la région Auvergne-Rhône-Alpes. \n  \n\n\n	Similaire
URL:https://crocoule.org/notre-evenement/recherche-vaches-desesperement-6/
LOCATION:Bourg – Sauvain\, Sauvain\, 42990
CATEGORIES:En famille
END:VEVENT
BEGIN:VEVENT
DTSTART;TZID=Europe/Paris:20230503T143000
DTEND;TZID=Europe/Paris:20230503T160000
DTSTAMP:20260422T175256
CREATED:20230222T103730Z
LAST-MODIFIED:20230222T103730Z
UID:10000941-1683124200-1683129600@crocoule.org
SUMMARY:RECHERCHE VACHES DÉSESPÉRÉMENT
DESCRIPTION:RECHERCHE VACHES DÉSESPÉRÉMENT – ANIMATION FAMILLE\nRecherche vaches désespérément est une vraie aventure à vivre en famille : plusieurs jeux et énigmes vous permettront de découvrir la fabrication de la fourme de Montbrison et la vie d’autrefois dans les Monts du Forez. \nMalheur ! La famille Duchaume a perdu ses vaches… Sans vaches\, Pierrette ne peut plus faire de fourme… Venez lui apporter votre aide ! Jouez en famille pour tenter de retrouver le troupeau de Pierrette. \nEn tant qu’experts de la région\, vous devez explorer les collines et les prairies à la recherche des vaches égarées. \nEn chemin\, vous devrez résoudre des énigmes et des défis pour collecter des indices et avancer dans votre quête. Avec votre intelligence et votre perspicacité\, vous pourrez retrouver les vaches perdues de Pierrette et permettre à sa famille de reprendre la production de la délicieuse fourme d’Ambert. \nAlors\, enfilez vos bottes et partez à l’aventure pour aider Pierrette à retrouver ses vaches et sauver la production de fromage de la région ! » \nInscrivez-vous en famille.\nDurée : 1h30 environ – Inscription obligatoire\nSous réserve de bonnes conditions météorologiques. \nContact : \nTéléphone : 04 77 96 08 69 \nMail : contact@loireforez.com \nTarif : \nTarif unique : 5 €. \nGratuit pour les moins de 6 ans. \nLieu – Sauvain\nTout d’abord\, Sauvain est une commune française située dans le département de la Loire\, en région Auvergne-Rhône-Alpes. Le village de Sauvain est situé dans le parc naturel régional Livradois-Forez\, entouré de collines verdoyantes et de forêts denses. \nLe village est caractérisé par ses maisons traditionnelles en pierre et en bois\, ainsi que par son église romane du 12ème siècle\, qui est classée monument historique. Le patrimoine naturel de Sauvain est également remarquable\, avec une grande variété de flore et de faune\, ainsi que des rivières et des cascades pittoresques. \nSauvain est un lieu de prédilection pour les amateurs de randonnée et de VTT\, avec de nombreux sentiers balisés et circuits dans les environs. Le village dispose également d’un lac de pêche\, d’un terrain de camping\, d’une salle de spectacle et d’un petit marché hebdomadaire. \nSauvain est un endroit calme et paisible\, idéal pour une escapade en pleine nature et pour découvrir les traditions et la culture locale de la région Auvergne-Rhône-Alpes. \n  \n\n\n	Similaire
URL:https://crocoule.org/notre-evenement/recherche-vaches-desesperement-2/
LOCATION:Bourg – Sauvain\, Sauvain\, 42990
CATEGORIES:04 ans +,Activité en semaine
END:VEVENT
BEGIN:VEVENT
DTSTART;TZID=Europe/Paris:20230426T143000
DTEND;TZID=Europe/Paris:20230426T160000
DTSTAMP:20260422T175256
CREATED:20230222T104651Z
LAST-MODIFIED:20230222T104651Z
UID:10000944-1682519400-1682524800@crocoule.org
SUMMARY:RECHERCHE VACHES DÉSESPÉRÉMENT
DESCRIPTION:RECHERCHE VACHES DÉSESPÉRÉMENT – ANIMATION FAMILLE\nRecherche vaches désespérément est une vraie aventure à vivre en famille : plusieurs jeux et énigmes vous permettront de découvrir la fabrication de la fourme de Montbrison et la vie d’autrefois dans les Monts du Forez. \nMalheur ! La famille Duchaume a perdu ses vaches… Sans vaches\, Pierrette ne peut plus faire de fourme… Venez lui apporter votre aide ! Jouez en famille pour tenter de retrouver le troupeau de Pierrette. \nEn tant qu’experts de la région\, vous devez explorer les collines et les prairies à la recherche des vaches égarées. \nEn chemin\, vous devrez résoudre des énigmes et des défis pour collecter des indices et avancer dans votre quête. Avec votre intelligence et votre perspicacité\, vous pourrez retrouver les vaches perdues de Pierrette et permettre à sa famille de reprendre la production de la délicieuse fourme d’Ambert. \nAlors\, enfilez vos bottes et partez à l’aventure pour aider Pierrette à retrouver ses vaches et sauver la production de fromage de la région ! » \nInscrivez-vous en famille.\nDurée : 1h30 environ – Inscription obligatoire\nSous réserve de bonnes conditions météorologiques. \nContact : \nTéléphone : 04 77 96 08 69 \nMail : contact@loireforez.com \nTarif : \nTarif unique : 5 €. \nGratuit pour les moins de 6 ans. \nLieu – Sauvain\nTout d’abord\, Sauvain est une commune française située dans le département de la Loire\, en région Auvergne-Rhône-Alpes. Le village de Sauvain est situé dans le parc naturel régional Livradois-Forez\, entouré de collines verdoyantes et de forêts denses. \nLe village est caractérisé par ses maisons traditionnelles en pierre et en bois\, ainsi que par son église romane du 12ème siècle\, qui est classée monument historique. Le patrimoine naturel de Sauvain est également remarquable\, avec une grande variété de flore et de faune\, ainsi que des rivières et des cascades pittoresques. \nSauvain est un lieu de prédilection pour les amateurs de randonnée et de VTT\, avec de nombreux sentiers balisés et circuits dans les environs. Le village dispose également d’un lac de pêche\, d’un terrain de camping\, d’une salle de spectacle et d’un petit marché hebdomadaire. \nSauvain est un endroit calme et paisible\, idéal pour une escapade en pleine nature et pour découvrir les traditions et la culture locale de la région Auvergne-Rhône-Alpes. \n\n\n	Similaire
URL:https://crocoule.org/notre-evenement/recherche-vaches-desesperement-5/
LOCATION:Bourg – Sauvain\, Sauvain\, 42990
CATEGORIES:04 ans +,Activité en semaine
END:VEVENT
BEGIN:VEVENT
DTSTART;TZID=Europe/Paris:20230419T143000
DTEND;TZID=Europe/Paris:20230419T160000
DTSTAMP:20260422T175256
CREATED:20230222T104318Z
LAST-MODIFIED:20230222T104318Z
UID:10000943-1681914600-1681920000@crocoule.org
SUMMARY:RECHERCHE VACHES DÉSESPÉRÉMENT
DESCRIPTION:RECHERCHE VACHES DÉSESPÉRÉMENT – ANIMATION FAMILLE\nRecherche vaches désespérément est une vraie aventure à vivre en famille : plusieurs jeux et énigmes vous permettront de découvrir la fabrication de la fourme de Montbrison et la vie d’autrefois dans les Monts du Forez. \nMalheur ! La famille Duchaume a perdu ses vaches… Sans vaches\, Pierrette ne peut plus faire de fourme… Venez lui apporter votre aide ! Jouez en famille pour tenter de retrouver le troupeau de Pierrette. \nEn tant qu’experts de la région\, vous devez explorer les collines et les prairies à la recherche des vaches égarées. \nEn chemin\, vous devrez résoudre des énigmes et des défis pour collecter des indices et avancer dans votre quête. Avec votre intelligence et votre perspicacité\, vous pourrez retrouver les vaches perdues de Pierrette et permettre à sa famille de reprendre la production de la délicieuse fourme d’Ambert. \nAlors\, enfilez vos bottes et partez à l’aventure pour aider Pierrette à retrouver ses vaches et sauver la production de fromage de la région ! » \nInscrivez-vous en famille.\nDurée : 1h30 environ – Inscription obligatoire\nSous réserve de bonnes conditions météorologiques. \nContact : \nTéléphone : 04 77 96 08 69 \nMail : contact@loireforez.com \nTarif : \nTarif unique : 5 €. \nGratuit pour les moins de 6 ans. \nLieu – Sauvain\nTout d’abord\, Sauvain est une commune française située dans le département de la Loire\, en région Auvergne-Rhône-Alpes. Le village de Sauvain est situé dans le parc naturel régional Livradois-Forez\, entouré de collines verdoyantes et de forêts denses. \nLe village est caractérisé par ses maisons traditionnelles en pierre et en bois\, ainsi que par son église romane du 12ème siècle\, qui est classée monument historique. Le patrimoine naturel de Sauvain est également remarquable\, avec une grande variété de flore et de faune\, ainsi que des rivières et des cascades pittoresques. \nSauvain est un lieu de prédilection pour les amateurs de randonnée et de VTT\, avec de nombreux sentiers balisés et circuits dans les environs. Le village dispose également d’un lac de pêche\, d’un terrain de camping\, d’une salle de spectacle et d’un petit marché hebdomadaire. \nSauvain est un endroit calme et paisible\, idéal pour une escapade en pleine nature et pour découvrir les traditions et la culture locale de la région Auvergne-Rhône-Alpes. \n\n\n	Similaire
URL:https://crocoule.org/notre-evenement/recherche-vaches-desesperement-4/
LOCATION:Bourg – Sauvain\, Sauvain\, 42990
CATEGORIES:04 ans +,Activité en semaine
END:VEVENT
BEGIN:VEVENT
DTSTART;TZID=Europe/Paris:20230412T143000
DTEND;TZID=Europe/Paris:20230412T160000
DTSTAMP:20260422T175256
CREATED:20230222T104032Z
LAST-MODIFIED:20230222T104032Z
UID:10000942-1681309800-1681315200@crocoule.org
SUMMARY:RECHERCHE VACHES DÉSESPÉRÉMENT
DESCRIPTION:RECHERCHE VACHES DÉSESPÉRÉMENT – ANIMATION FAMILLE\nRecherche vaches désespérément est une vraie aventure à vivre en famille : plusieurs jeux et énigmes vous permettront de découvrir la fabrication de la fourme de Montbrison et la vie d’autrefois dans les Monts du Forez. \nMalheur ! La famille Duchaume a perdu ses vaches… Sans vaches\, Pierrette ne peut plus faire de fourme… Venez lui apporter votre aide ! Jouez en famille pour tenter de retrouver le troupeau de Pierrette. \nEn tant qu’experts de la région\, vous devez explorer les collines et les prairies à la recherche des vaches égarées. \nEn chemin\, vous devrez résoudre des énigmes et des défis pour collecter des indices et avancer dans votre quête. Avec votre intelligence et votre perspicacité\, vous pourrez retrouver les vaches perdues de Pierrette et permettre à sa famille de reprendre la production de la délicieuse fourme d’Ambert. \nAlors\, enfilez vos bottes et partez à l’aventure pour aider Pierrette à retrouver ses vaches et sauver la production de fromage de la région ! » \nInscrivez-vous en famille.\nDurée : 1h30 environ – Inscription obligatoire\nSous réserve de bonnes conditions météorologiques. \nContact : \nTéléphone : 04 77 96 08 69 \nMail : contact@loireforez.com \nTarif : \nTarif unique : 5 €. \nGratuit pour les moins de 6 ans. \nLieu – Sauvain\nTout d’abord\, Sauvain est une commune française située dans le département de la Loire\, en région Auvergne-Rhône-Alpes. Le village de Sauvain est situé dans le parc naturel régional Livradois-Forez\, entouré de collines verdoyantes et de forêts denses. \nLe village est caractérisé par ses maisons traditionnelles en pierre et en bois\, ainsi que par son église romane du 12ème siècle\, qui est classée monument historique. Le patrimoine naturel de Sauvain est également remarquable\, avec une grande variété de flore et de faune\, ainsi que des rivières et des cascades pittoresques. \nSauvain est un lieu de prédilection pour les amateurs de randonnée et de VTT\, avec de nombreux sentiers balisés et circuits dans les environs. Le village dispose également d’un lac de pêche\, d’un terrain de camping\, d’une salle de spectacle et d’un petit marché hebdomadaire. \nSauvain est un endroit calme et paisible\, idéal pour une escapade en pleine nature et pour découvrir les traditions et la culture locale de la région Auvergne-Rhône-Alpes. \n  \n\n\n	Similaire
URL:https://crocoule.org/notre-evenement/recherche-vaches-desesperement-3/
LOCATION:Bourg – Sauvain\, Sauvain\, 42990
CATEGORIES:04 ans +,Activité en semaine
END:VEVENT
BEGIN:VEVENT
DTSTART;TZID=Europe/Paris:20230302T150000
DTEND;TZID=Europe/Paris:20230302T163000
DTSTAMP:20260422T175256
CREATED:20230222T103155Z
LAST-MODIFIED:20230222T103155Z
UID:10000940-1677769200-1677774600@crocoule.org
SUMMARY:RECHERCHE VACHES DÉSESPÉRÉMENT
DESCRIPTION:RECHERCHE VACHES DÉSESPÉRÉMENT – ANIMATION FAMILLE\nRecherche vaches désespérément est une vraie aventure à vivre en famille : plusieurs jeux et énigmes vous permettront de découvrir la fabrication de la fourme de Montbrison et la vie d’autrefois dans les Monts du Forez. \nMalheur ! La famille Duchaume a perdu ses vaches… Sans vaches\, Pierrette ne peut plus faire de fourme… Venez lui apporter votre aide ! Jouez en famille pour tenter de retrouver le troupeau de Pierrette. \nEn tant qu’experts de la région\, vous devez explorer les collines et les prairies à la recherche des vaches égarées. \nEn chemin\, vous devrez résoudre des énigmes et des défis pour collecter des indices et avancer dans votre quête. Avec votre intelligence et votre perspicacité\, vous pourrez retrouver les vaches perdues de Pierrette et permettre à sa famille de reprendre la production de la délicieuse fourme d’Ambert. \nAlors\, enfilez vos bottes et partez à l’aventure pour aider Pierrette à retrouver ses vaches et sauver la production de fromage de la région ! » \nInscrivez-vous en famille.\nDurée : 1h30 environ – Inscription obligatoire\nSous réserve de bonnes conditions météorologiques. \nContact : \nTéléphone : 04 77 96 08 69 \nMail : contact@loireforez.com \nTarif : \nTarif unique : 5 €. \nGratuit pour les moins de 6 ans. \nLieu – Sauvain\nTout d’abord\, Sauvain est une commune française située dans le département de la Loire\, en région Auvergne-Rhône-Alpes. Le village de Sauvain est situé dans le parc naturel régional Livradois-Forez\, entouré de collines verdoyantes et de forêts denses. \nLe village est caractérisé par ses maisons traditionnelles en pierre et en bois\, ainsi que par son église romane du 12ème siècle\, qui est classée monument historique. Le patrimoine naturel de Sauvain est également remarquable\, avec une grande variété de flore et de faune\, ainsi que des rivières et des cascades pittoresques. \nSauvain est un lieu de prédilection pour les amateurs de randonnée et de VTT\, avec de nombreux sentiers balisés et circuits dans les environs. Le village dispose également d’un lac de pêche\, d’un terrain de camping\, d’une salle de spectacle et d’un petit marché hebdomadaire. \nSauvain est un endroit calme et paisible\, idéal pour une escapade en pleine nature et pour découvrir les traditions et la culture locale de la région Auvergne-Rhône-Alpes. \n  \n  \n\n\n	Similaire
URL:https://crocoule.org/notre-evenement/recherche-vaches-desesperement/
LOCATION:Bourg – Sauvain\, Sauvain\, 42990
CATEGORIES:04 ans +,Activité en semaine
END:VEVENT
END:VCALENDAR