BEGIN:VCALENDAR
VERSION:2.0
PRODID:-//Crocoule - ECPv6.15.15//NONSGML v1.0//EN
CALSCALE:GREGORIAN
METHOD:PUBLISH
X-WR-CALNAME:Crocoule
X-ORIGINAL-URL:https://crocoule.org
X-WR-CALDESC:Évènements pour Crocoule
REFRESH-INTERVAL;VALUE=DURATION:PT1H
X-Robots-Tag:noindex
X-PUBLISHED-TTL:PT1H
BEGIN:VTIMEZONE
TZID:Europe/Paris
BEGIN:DAYLIGHT
TZOFFSETFROM:+0100
TZOFFSETTO:+0200
TZNAME:CEST
DTSTART:20220327T010000
END:DAYLIGHT
BEGIN:STANDARD
TZOFFSETFROM:+0200
TZOFFSETTO:+0100
TZNAME:CET
DTSTART:20221030T010000
END:STANDARD
BEGIN:DAYLIGHT
TZOFFSETFROM:+0100
TZOFFSETTO:+0200
TZNAME:CEST
DTSTART:20230326T010000
END:DAYLIGHT
BEGIN:STANDARD
TZOFFSETFROM:+0200
TZOFFSETTO:+0100
TZNAME:CET
DTSTART:20231029T010000
END:STANDARD
BEGIN:DAYLIGHT
TZOFFSETFROM:+0100
TZOFFSETTO:+0200
TZNAME:CEST
DTSTART:20240331T010000
END:DAYLIGHT
BEGIN:STANDARD
TZOFFSETFROM:+0200
TZOFFSETTO:+0100
TZNAME:CET
DTSTART:20241027T010000
END:STANDARD
END:VTIMEZONE
BEGIN:VEVENT
DTSTART;TZID=Europe/Paris:20230811T100000
DTEND;TZID=Europe/Paris:20230811T100000
DTSTAMP:20260421T130545
CREATED:20230726T144455Z
LAST-MODIFIED:20230726T144455Z
UID:10002011-1691748000-1691748000@crocoule.org
SUMMARY:INITIATION ORPAILLAGE
DESCRIPTION:// INITIATION ORPAILLAGE // APPRENTIS CHERCHEURS D’OR\nPendant les vacances\, participez à l’initiation orpaillage de Biesle. \nLes pieds dans l’eau\, vous recherchez des minéraux semi-précieux cachés dans la rivière\, à la manière des chercheurs d’or. Attention\, ne prévoyez pas immédiatement la fonte de lingot ! \n• Vendredi 11 août à 10h et 11h30 : Ateliers à Blesle.\n> 2 ateliers / rdv pont du quai de la Voireuze / 7 € par participant\n> partenariat – réservation : Office de Tourisme de Brioude 04 71 74 97 49 \nC’est quoi l’orpaillage ? \nL’orpaillage est une activité captivante qui consiste à rechercher et extraire de l’or à partir de cours d’eau ou de rivières. Cette pratique\, qui remonte à l’époque de la ruée vers l’or\, a perduré au fil des siècles. Elle continue d’ailleurs d’attirer les passionnés d’aventure et de trésors enfouis. \nTout d’abord\, il est important de souligner que l’orpaillage nécessite une connaissance approfondie de l’or. Mais également de son comportement et de ses caractéristiques. En effet\, la recherche de ce précieux métal nécessite un équipement adéquat et des compétences spécifiques. \nPour commencer\, les chercheurs d’or utilisent des techniques de prospection pour localiser les zones potentiellement riches en or. Ces techniques comprennent l’étude des caractéristiques géologiques du terrain. L’observation des dépôts de sédiments et l’utilisation d’outils. Tels que des détecteurs de métaux et des panneaux d’orpaillage. \nUne fois que l’orpailleur a identifié un endroit prometteur\, il procède à l’extraction de l’or à l’aide d’outils tels que la batée\, une sorte de grande casserole en forme de cône. Avec habileté\, l’orpailleur plonge la batée dans l’eau\, récupère du sable\, des graviers et des particules aurifères\, puis les agite délicatement. Les particules d’or\, étant plus lourdes que les autres matériaux\, se déposent au fond de la batée\, permettant ainsi à l’orpailleur de les collecter. \nEnsuite\, grâce à un processus appelé « lavage »\, l’orpailleur sépare l’or des autres matériaux. Il utilise généralement de l’eau pour éliminer les résidus plus légers. Tout en conservant les précieuses pépites d’or. Ce processus est répété plusieurs fois jusqu’à ce que l’orpailleur ait extrait autant d’or que possible. \nEnfin\, une fois que l’or a été extrait et collecté\, il est souvent nécessaire de le purifier et de le raffiner. Cette étape permet d’obtenir de l’or de haute qualité\, prêt à être utilisé dans diverses applications\, telles que la bijouterie ou l’industrie électronique. \n\n\n	Similaire
URL:https://crocoule.org/notre-evenement/initiation-orpaillage-2/
LOCATION:Blesle
CATEGORIES:07 ans +
END:VEVENT
END:VCALENDAR