BEGIN:VCALENDAR
VERSION:2.0
PRODID:-//Crocoule - ECPv6.15.20//NONSGML v1.0//EN
CALSCALE:GREGORIAN
METHOD:PUBLISH
X-ORIGINAL-URL:https://crocoule.org
X-WR-CALDESC:Évènements pour Crocoule
REFRESH-INTERVAL;VALUE=DURATION:PT1H
X-Robots-Tag:noindex
X-PUBLISHED-TTL:PT1H
BEGIN:VTIMEZONE
TZID:Europe/Paris
BEGIN:DAYLIGHT
TZOFFSETFROM:+0100
TZOFFSETTO:+0200
TZNAME:CEST
DTSTART:20230326T010000
END:DAYLIGHT
BEGIN:STANDARD
TZOFFSETFROM:+0200
TZOFFSETTO:+0100
TZNAME:CET
DTSTART:20231029T010000
END:STANDARD
BEGIN:DAYLIGHT
TZOFFSETFROM:+0100
TZOFFSETTO:+0200
TZNAME:CEST
DTSTART:20240331T010000
END:DAYLIGHT
BEGIN:STANDARD
TZOFFSETFROM:+0200
TZOFFSETTO:+0100
TZNAME:CET
DTSTART:20241027T010000
END:STANDARD
BEGIN:DAYLIGHT
TZOFFSETFROM:+0100
TZOFFSETTO:+0200
TZNAME:CEST
DTSTART:20250330T010000
END:DAYLIGHT
BEGIN:STANDARD
TZOFFSETFROM:+0200
TZOFFSETTO:+0100
TZNAME:CET
DTSTART:20251026T010000
END:STANDARD
END:VTIMEZONE
BEGIN:VEVENT
DTSTART;TZID=Europe/Paris:20241024T140000
DTEND;TZID=Europe/Paris:20241024T160000
DTSTAMP:20260424T004812
CREATED:20240916T052639Z
LAST-MODIFIED:20240923T204550Z
UID:10009183-1729778400-1729785600@crocoule.org
SUMMARY:Création autour de l’Automne
DESCRIPTION:Création autour de l’Automne\nActivité de modelage argile pour les enfants de 5 à 12 ans. Chaque participant réalise une coupelle remplie de fruits d’automne. Après cuisson et émaillage les pièces seront récupérées 3 semaines plus tard. \nDès 5 ans – 18 euros.\nSi ton regard se pose sur ces mots c’est que toi aussi tu fais partie de la Haute Congrégation des Super Parents (HCSP : rien que ça !  ????) investis en quête d’idées de sorties familiales dans la Loire et la Haute-Loire pour son/ses bambin(s) ! \nTu ne me crois pas ? Si si\, promis Bienvenue et toutes mes Félicitations ! Tu es sur la bonne page … Et je vais te le prouver ! Tu es prêt ? Allez\, viens je t’emmène au fil des pages du Crocoule ! \nTout d’abord\, Le Crocoule Magazine c’est quoi ? Le Crocoule\, papier ou web\, c’est LE magazine qui porte en lui la douceur et la bienveillance dont tu as besoin en tant que parent et qui facilite tes recherches d’activités loisirs\, culturelles\, nature pour tous les budgets et tous les goûts ! Et ça c’est une promesse ? Tu veux en savoir +\, suis moi par ici ! \nEt ce n’est pas tout … Si tu as soif d’aventure Le Crocoule Express est fait pour toi !\n  \n\n\n	Similaire
URL:https://crocoule.org/notre-evenement/creation-autour-de-lautomne/2024-10-24/
LOCATION:Atelier de Myriam Boncompain\, 200 chemin des Balayes\, Raucoules\, 43290
CATEGORIES:05 ans +,Activité pendant les vacances,En famille,Intérieur,Tous les événements
END:VEVENT
BEGIN:VEVENT
DTSTART;TZID=Europe/Paris:20241022T140000
DTEND;TZID=Europe/Paris:20241022T160000
DTSTAMP:20260424T004812
CREATED:20240916T052639Z
LAST-MODIFIED:20240923T204550Z
UID:10009182-1729605600-1729612800@crocoule.org
SUMMARY:Création autour de l’Automne
DESCRIPTION:Création autour de l’Automne\nActivité de modelage argile pour les enfants de 5 à 12 ans. Chaque participant réalise une coupelle remplie de fruits d’automne. Après cuisson et émaillage les pièces seront récupérées 3 semaines plus tard. \nDès 5 ans – 18 euros.\nSi ton regard se pose sur ces mots c’est que toi aussi tu fais partie de la Haute Congrégation des Super Parents (HCSP : rien que ça !  ????) investis en quête d’idées de sorties familiales dans la Loire et la Haute-Loire pour son/ses bambin(s) ! \nTu ne me crois pas ? Si si\, promis Bienvenue et toutes mes Félicitations ! Tu es sur la bonne page … Et je vais te le prouver ! Tu es prêt ? Allez\, viens je t’emmène au fil des pages du Crocoule ! \nTout d’abord\, Le Crocoule Magazine c’est quoi ? Le Crocoule\, papier ou web\, c’est LE magazine qui porte en lui la douceur et la bienveillance dont tu as besoin en tant que parent et qui facilite tes recherches d’activités loisirs\, culturelles\, nature pour tous les budgets et tous les goûts ! Et ça c’est une promesse ? Tu veux en savoir +\, suis moi par ici ! \nEt ce n’est pas tout … Si tu as soif d’aventure Le Crocoule Express est fait pour toi !\n  \n\n\n	Similaire
URL:https://crocoule.org/notre-evenement/creation-autour-de-lautomne/2024-10-22/
LOCATION:Atelier de Myriam Boncompain\, 200 chemin des Balayes\, Raucoules\, 43290
CATEGORIES:05 ans +,Activité pendant les vacances,En famille,Intérieur,Tous les événements
END:VEVENT
END:VCALENDAR