BEGIN:VCALENDAR
VERSION:2.0
PRODID:-//Crocoule - ECPv6.15.15//NONSGML v1.0//EN
CALSCALE:GREGORIAN
METHOD:PUBLISH
X-WR-CALNAME:Crocoule
X-ORIGINAL-URL:https://crocoule.org
X-WR-CALDESC:Évènements pour Crocoule
REFRESH-INTERVAL;VALUE=DURATION:PT1H
X-Robots-Tag:noindex
X-PUBLISHED-TTL:PT1H
BEGIN:VTIMEZONE
TZID:Europe/Paris
BEGIN:DAYLIGHT
TZOFFSETFROM:+0100
TZOFFSETTO:+0200
TZNAME:CEST
DTSTART:20210328T010000
END:DAYLIGHT
BEGIN:STANDARD
TZOFFSETFROM:+0200
TZOFFSETTO:+0100
TZNAME:CET
DTSTART:20211031T010000
END:STANDARD
BEGIN:DAYLIGHT
TZOFFSETFROM:+0100
TZOFFSETTO:+0200
TZNAME:CEST
DTSTART:20220327T010000
END:DAYLIGHT
BEGIN:STANDARD
TZOFFSETFROM:+0200
TZOFFSETTO:+0100
TZNAME:CET
DTSTART:20221030T010000
END:STANDARD
BEGIN:DAYLIGHT
TZOFFSETFROM:+0100
TZOFFSETTO:+0200
TZNAME:CEST
DTSTART:20230326T010000
END:DAYLIGHT
BEGIN:STANDARD
TZOFFSETFROM:+0200
TZOFFSETTO:+0100
TZNAME:CET
DTSTART:20231029T010000
END:STANDARD
END:VTIMEZONE
BEGIN:VEVENT
DTSTART;TZID=Europe/Paris:20221028T093000
DTEND;TZID=Europe/Paris:20221028T170000
DTSTAMP:20260422T144914
CREATED:20221018T134720Z
LAST-MODIFIED:20221018T134720Z
UID:10000359-1666949400-1666976400@crocoule.org
SUMMARY:Fusain
DESCRIPTION:Adulte & + 8 ans\nlâcher prise\, contraste ombre et lumière\nVendredi 28 octobre\nDe 9h30 à 17h  – repas partagé –\nA partir de 50 euros la journée* \n\n\n	Similaire
URL:https://crocoule.org/notre-evenement/fusain/
LOCATION:Association l’art Oseur\, 41 rue du relais de poste\, Saint Barthélemy-Lestra\, 42110
CATEGORIES:10 ans +,Activité pendant les vacances
END:VEVENT
BEGIN:VEVENT
DTSTART;TZID=Europe/Paris:20221027T093000
DTEND;TZID=Europe/Paris:20221027T170000
DTSTAMP:20260422T144914
CREATED:20221018T134607Z
LAST-MODIFIED:20221018T134607Z
UID:10000358-1666863000-1666890000@crocoule.org
SUMMARY:Silhouettes expressives
DESCRIPTION:Adulte & +10 ans\nModelage terre + cuisson\nJeudi 27 octobre\nDe 9h30 à 17h  – repas partagé –\nA partir de 60 euros la journée* \n\n\n	Similaire
URL:https://crocoule.org/notre-evenement/silhouettes-expressives/
LOCATION:Association l’art Oseur\, 41 rue du relais de poste\, Saint Barthélemy-Lestra\, 42110
CATEGORIES:10 ans +,Activité pendant les vacances
END:VEVENT
BEGIN:VEVENT
DTSTART;TZID=Europe/Paris:20221026T133000
DTEND;TZID=Europe/Paris:20221026T160000
DTSTAMP:20260422T144914
CREATED:20221018T134440Z
LAST-MODIFIED:20221018T134440Z
UID:10000357-1666791000-1666800000@crocoule.org
SUMMARY:Terre !
DESCRIPTION:Famille /Enfants+ 5 ans\nModelage terre + cuisson\nMercredi 26 octobre\nDe 13h30 à 16h\nA partir de 30 euros la demi-journée \n\n\n	Similaire
URL:https://crocoule.org/notre-evenement/terre/
LOCATION:Association l’art Oseur\, 41 rue du relais de poste\, Saint Barthélemy-Lestra\, 42110
CATEGORIES:05 ans +,Activité pendant les vacances
ATTACH;FMTTYPE=image/jpeg:https://crocoule.org/wp-content/uploads/2022/10/terre.jpeg
END:VEVENT
BEGIN:VEVENT
DTSTART;TZID=Europe/Paris:20221026T100000
DTEND;TZID=Europe/Paris:20221026T120000
DTSTAMP:20260422T144914
CREATED:20221018T134231Z
LAST-MODIFIED:20221018T134231Z
UID:10000356-1666778400-1666785600@crocoule.org
SUMMARY:Illu photo
DESCRIPTION:Famille /Enfants+ 5 ans\nGraphisme collage composition magazines\nMercredi 26 octobre\nDe 10h à 12h\nA partir de 20 euros la demi-journée* \n\n\n	Similaire
URL:https://crocoule.org/notre-evenement/illu-photo-2/
LOCATION:Association l’art Oseur\, 41 rue du relais de poste\, Saint Barthélemy-Lestra\, 42110
CATEGORIES:05 ans +
ATTACH;FMTTYPE=image/jpeg:https://crocoule.org/wp-content/uploads/2022/10/juliebis.jpeg
END:VEVENT
BEGIN:VEVENT
DTSTART;TZID=Europe/Paris:20221025T093000
DTEND;TZID=Europe/Paris:20221025T170000
DTSTAMP:20260422T144914
CREATED:20221018T134022Z
LAST-MODIFIED:20221018T134022Z
UID:10000355-1666690200-1666717200@crocoule.org
SUMMARY:Gravure
DESCRIPTION:Graphisme stylisation gravure sur lino et impression…\nMardi 25 octobre\nDe 9h30 à 17h  – repas partagé –\nA partir de 60 euros la journée* \nA Feurs \n\n\n	Similaire
URL:https://crocoule.org/notre-evenement/gravure/
LOCATION:Association l’art Oseur\, 41 rue du relais de poste\, Saint Barthélemy-Lestra\, 42110
CATEGORIES:10 ans +,Activité pendant les vacances
END:VEVENT
BEGIN:VEVENT
DTSTART;TZID=Europe/Paris:20221024T093000
DTEND;TZID=Europe/Paris:20221024T170000
DTSTAMP:20260422T144914
CREATED:20221018T133450Z
LAST-MODIFIED:20221018T133652Z
UID:10000354-1666603800-1666630800@crocoule.org
SUMMARY:Illu-photo
DESCRIPTION:Graphisme collage composition magazines avec Julie l’illustratrice \n– repas partagé –\nA partir de 50 euros la journée* \n\n\n	Similaire
URL:https://crocoule.org/notre-evenement/illu-photo/
LOCATION:Association l’art Oseur\, 41 rue du relais de poste\, Saint Barthélemy-Lestra\, 42110
CATEGORIES:Activité pendant les vacances
ATTACH;FMTTYPE=image/jpeg:https://crocoule.org/wp-content/uploads/2022/10/julie.jpeg
END:VEVENT
END:VCALENDAR