BEGIN:VCALENDAR
VERSION:2.0
PRODID:-//Crocoule - ECPv6.15.15//NONSGML v1.0//EN
CALSCALE:GREGORIAN
METHOD:PUBLISH
X-ORIGINAL-URL:https://crocoule.org
X-WR-CALDESC:Évènements pour Crocoule
REFRESH-INTERVAL;VALUE=DURATION:PT1H
X-Robots-Tag:noindex
X-PUBLISHED-TTL:PT1H
BEGIN:VTIMEZONE
TZID:Europe/Paris
BEGIN:DAYLIGHT
TZOFFSETFROM:+0100
TZOFFSETTO:+0200
TZNAME:CEST
DTSTART:20220327T010000
END:DAYLIGHT
BEGIN:STANDARD
TZOFFSETFROM:+0200
TZOFFSETTO:+0100
TZNAME:CET
DTSTART:20221030T010000
END:STANDARD
BEGIN:DAYLIGHT
TZOFFSETFROM:+0100
TZOFFSETTO:+0200
TZNAME:CEST
DTSTART:20230326T010000
END:DAYLIGHT
BEGIN:STANDARD
TZOFFSETFROM:+0200
TZOFFSETTO:+0100
TZNAME:CET
DTSTART:20231029T010000
END:STANDARD
BEGIN:DAYLIGHT
TZOFFSETFROM:+0100
TZOFFSETTO:+0200
TZNAME:CEST
DTSTART:20240331T010000
END:DAYLIGHT
BEGIN:STANDARD
TZOFFSETFROM:+0200
TZOFFSETTO:+0100
TZNAME:CET
DTSTART:20241027T010000
END:STANDARD
END:VTIMEZONE
BEGIN:VEVENT
DTSTART;TZID=Europe/Paris:20230713T133000
DTEND;TZID=Europe/Paris:20230713T160000
DTSTAMP:20260421T130420
CREATED:20230602T142521Z
LAST-MODIFIED:20230602T142521Z
UID:10001543-1689255000-1689264000@crocoule.org
SUMMARY:Illumaton !
DESCRIPTION:Illumaton !\n\nL’association Art Oseur de Saint Barthélemy-Lestra propose le stage d’été Illumaton ! \nIllustration stylisation aquarelle sous vide ! \nContrastes ombre et lumière – volume \n\n\n\nINSCRIPTIONS-RENSEIGNEMENTS : art.oseur@free.fr ou 04 77 28 56 01 Possibilité d’organiser des stages «famille» / «amis» sur demande. \nEntre 25€ et 30€. \nINTERVENANTE – JULIE ARGOUSE\nDiplômée des Beaux-Arts de Saint Etienne : D.N.S.E.P. Enseignante en Expression Plastique en écoles supérieures Atelier L’ART OSEUR sculpture peinture illustration Saint Bartélemy-Lestra.  \nAssociation L’Art Oseur – Saint Barthélemy-Lestra \nL’association Art Oseur de Saint Barthélemy-Lestra est un organisme qui se consacre à la promotion et à la valorisation de l’art et de la culture dans la commune. Cette association dynamique met en place diverses activités et événements artistiques pour enrichir la vie culturelle locale. \nL’association Art Oseur organise régulièrement des expositions d’art\, mettant en avant les talents locaux et régionaux. Ces expositions offrent une plateforme aux artistes pour présenter leurs œuvres et partager leur vision artistique avec le public. Cela permet également aux habitants de Saint Barthélemy-Lestra et des environs de découvrir et d’apprécier différentes formes d’expression artistique. \nEn plus des expositions\, Art Oseur propose des ateliers artistiques et des cours pour les enfants et les adultes. Ces activités créatives permettent aux participants de développer leurs compétences artistiques\, d’explorer leur créativité et d’exprimer librement leur imagination. Les ateliers peuvent couvrir diverses disciplines artistiques telles que la peinture\, la sculpture\, la photographie\, les arts textiles\, et bien plus encore. \n\n\n\n\n\n	Similaire
URL:https://crocoule.org/notre-evenement/illumaton/
LOCATION:Association L’Art Oseur – Saint Barthélemy-Lestra\, 41 rue de relais de poste\, Saint Barthélemy-Lestra\, 42110
CATEGORIES:07 ans +
END:VEVENT
BEGIN:VEVENT
DTSTART;TZID=Europe/Paris:20230713T093000
DTEND;TZID=Europe/Paris:20230713T120000
DTSTAMP:20260421T130420
CREATED:20230602T142658Z
LAST-MODIFIED:20230602T142658Z
UID:10001544-1689240600-1689249600@crocoule.org
SUMMARY:Illumaton !
DESCRIPTION:Illumaton !\n\nL’association Art Oseur de Saint Barthélemy-Lestra propose le stage d’été Illumaton ! \nIllustration stylisation aquarelle sous vide ! \nContrastes ombre et lumière – volume \n\n\n\nINSCRIPTIONS-RENSEIGNEMENTS : art.oseur@free.fr ou 04 77 28 56 01 Possibilité d’organiser des stages «famille» / «amis» sur demande. \nEntre 25€ et 30€. \nINTERVENANTE – JULIE ARGOUSE\nDiplômée des Beaux-Arts de Saint Etienne : D.N.S.E.P. Enseignante en Expression Plastique en écoles supérieures Atelier L’ART OSEUR sculpture peinture illustration Saint Bartélemy-Lestra.  \nAssociation L’Art Oseur – Saint Barthélemy-Lestra \nL’association Art Oseur de Saint Barthélemy-Lestra est un organisme qui se consacre à la promotion et à la valorisation de l’art et de la culture dans la commune. Cette association dynamique met en place diverses activités et événements artistiques pour enrichir la vie culturelle locale. \nL’association Art Oseur organise régulièrement des expositions d’art\, mettant en avant les talents locaux et régionaux. Ces expositions offrent une plateforme aux artistes pour présenter leurs œuvres et partager leur vision artistique avec le public. Cela permet également aux habitants de Saint Barthélemy-Lestra et des environs de découvrir et d’apprécier différentes formes d’expression artistique. \nEn plus des expositions\, Art Oseur propose des ateliers artistiques et des cours pour les enfants et les adultes. Ces activités créatives permettent aux participants de développer leurs compétences artistiques\, d’explorer leur créativité et d’exprimer librement leur imagination. Les ateliers peuvent couvrir diverses disciplines artistiques telles que la peinture\, la sculpture\, la photographie\, les arts textiles\, et bien plus encore. \n\n\n\n\n\n	Similaire
URL:https://crocoule.org/notre-evenement/illumaton-2/
LOCATION:Association L’Art Oseur – Saint Barthélemy-Lestra\, 41 rue de relais de poste\, Saint Barthélemy-Lestra\, 42110
CATEGORIES:07 ans +
END:VEVENT
BEGIN:VEVENT
DTSTART;TZID=Europe/Paris:20230712T093000
DTEND;TZID=Europe/Paris:20230712T170000
DTSTAMP:20260421T130420
CREATED:20230602T141335Z
LAST-MODIFIED:20230602T141335Z
UID:10001540-1689154200-1689181200@crocoule.org
SUMMARY:Dessin !
DESCRIPTION:Dessin ! \nL’association Art Oseur de Saint Barthélemy-Lestra propose le stage d’été Dessin ! \nContrastes ombre et lumière – volume \n\n\n\nINSCRIPTIONS-RENSEIGNEMENTS : art.oseur@free.fr ou 04 77 28 56 01 Possibilité d’organiser des stages «famille» / «amis» sur demande. \nEntre 50€ et 55€. \nINTERVENANTE – JULIE ARGOUSE\nDiplômée des Beaux-Arts de Saint Etienne : D.N.S.E.P. Enseignante en Expression Plastique en écoles supérieures Atelier L’ART OSEUR sculpture peinture illustration Saint Bartélemy-Lestra.  \nAssociation L’Art Oseur – Saint Barthélemy-Lestra \nL’association Art Oseur de Saint Barthélemy-Lestra est un organisme qui se consacre à la promotion et à la valorisation de l’art et de la culture dans la commune. Cette association dynamique met en place diverses activités et événements artistiques pour enrichir la vie culturelle locale. \nL’association Art Oseur organise régulièrement des expositions d’art\, mettant en avant les talents locaux et régionaux. Ces expositions offrent une plateforme aux artistes pour présenter leurs œuvres et partager leur vision artistique avec le public. Cela permet également aux habitants de Saint Barthélemy-Lestra et des environs de découvrir et d’apprécier différentes formes d’expression artistique. \nEn plus des expositions\, Art Oseur propose des ateliers artistiques et des cours pour les enfants et les adultes. Ces activités créatives permettent aux participants de développer leurs compétences artistiques\, d’explorer leur créativité et d’exprimer librement leur imagination. Les ateliers peuvent couvrir diverses disciplines artistiques telles que la peinture\, la sculpture\, la photographie\, les arts textiles\, et bien plus encore. \n\n\n\n\n\n	Similaire
URL:https://crocoule.org/notre-evenement/dessin/
LOCATION:Association L’Art Oseur – Saint Barthélemy-Lestra\, 41 rue de relais de poste\, Saint Barthélemy-Lestra\, 42110
CATEGORIES:10 ans +
END:VEVENT
BEGIN:VEVENT
DTSTART;TZID=Europe/Paris:20230711T093000
DTEND;TZID=Europe/Paris:20230711T163000
DTSTAMP:20260421T130420
CREATED:20230526T123152Z
LAST-MODIFIED:20230526T123152Z
UID:10001525-1689067800-1689093000@crocoule.org
SUMMARY:Terre vivante
DESCRIPTION:Terre vivante\n\nL’association Art Oseur de Saint Barthélemy-Lestra propose le stage d’été Terre vivante ! \nContrastes ombre et lumière – volume \n\n\n\nINSCRIPTIONS-RENSEIGNEMENTS : art.oseur@free.fr ou 04 77 28 56 01 Possibilité d’organiser des stages «famille» / «amis» sur demande. \nEntre 55€ et 60€. \nINTERVENANTE – JULIE ARGOUSE\nDiplômée des Beaux-Arts de Saint Etienne : D.N.S.E.P. Enseignante en Expression Plastique en écoles supérieures Atelier L’ART OSEUR sculpture peinture illustration Saint Bartélemy-Lestra.  \nAssociation L’Art Oseur – Saint Barthélemy-Lestra \nL’association Art Oseur de Saint Barthélemy-Lestra est un organisme qui se consacre à la promotion et à la valorisation de l’art et de la culture dans la commune. Cette association dynamique met en place diverses activités et événements artistiques pour enrichir la vie culturelle locale. \nL’association Art Oseur organise régulièrement des expositions d’art\, mettant en avant les talents locaux et régionaux. Ces expositions offrent une plateforme aux artistes pour présenter leurs œuvres et partager leur vision artistique avec le public. Cela permet également aux habitants de Saint Barthélemy-Lestra et des environs de découvrir et d’apprécier différentes formes d’expression artistique. \nEn plus des expositions\, Art Oseur propose des ateliers artistiques et des cours pour les enfants et les adultes. Ces activités créatives permettent aux participants de développer leurs compétences artistiques\, d’explorer leur créativité et d’exprimer librement leur imagination. Les ateliers peuvent couvrir diverses disciplines artistiques telles que la peinture\, la sculpture\, la photographie\, les arts textiles\, et bien plus encore. \n\n\n\n\n\n	Similaire
URL:https://crocoule.org/notre-evenement/terre-vivante/
LOCATION:Association L’Art Oseur – Saint Barthélemy-Lestra\, 41 rue de relais de poste\, Saint Barthélemy-Lestra\, 42110
CATEGORIES:08 ans +
END:VEVENT
BEGIN:VEVENT
DTSTART;TZID=Europe/Paris:20230710T093000
DTEND;TZID=Europe/Paris:20230710T170000
DTSTAMP:20260421T130420
CREATED:20230526T120202Z
LAST-MODIFIED:20230526T120202Z
UID:10001521-1688981400-1689008400@crocoule.org
SUMMARY:Fusain !
DESCRIPTION:Fusain !\nL’association Art Oseur de Saint Barthélemy-Lestra propose le stage d’été Fusain ! \nContrastes ombre et lumière – volume \n\n\n\nINSCRIPTIONS-RENSEIGNEMENTS : art.oseur@free.fr ou 04 77 28 56 01 Possibilité d’organiser des stages «famille» / «amis» sur demande. \nEntre 50€ et 55€. \nINTERVENANTE – JULIE ARGOUSE\nDiplômée des Beaux-Arts de Saint Etienne : D.N.S.E.P. Enseignante en Expression Plastique en écoles supérieures Atelier L’ART OSEUR sculpture peinture illustration Saint Bartélemy-Lestra.  \nAssociation L’Art Oseur – Saint Barthélemy-Lestra \nL’association Art Oseur de Saint Barthélemy-Lestra est un organisme qui se consacre à la promotion et à la valorisation de l’art et de la culture dans la commune. Cette association dynamique met en place diverses activités et événements artistiques pour enrichir la vie culturelle locale. \nL’association Art Oseur organise régulièrement des expositions d’art\, mettant en avant les talents locaux et régionaux. Ces expositions offrent une plateforme aux artistes pour présenter leurs œuvres et partager leur vision artistique avec le public. Cela permet également aux habitants de Saint Barthélemy-Lestra et des environs de découvrir et d’apprécier différentes formes d’expression artistique. \nEn plus des expositions\, Art Oseur propose des ateliers artistiques et des cours pour les enfants et les adultes. Ces activités créatives permettent aux participants de développer leurs compétences artistiques\, d’explorer leur créativité et d’exprimer librement leur imagination. Les ateliers peuvent couvrir diverses disciplines artistiques telles que la peinture\, la sculpture\, la photographie\, les arts textiles\, et bien plus encore. \n\n\n\n\n\n	Similaire
URL:https://crocoule.org/notre-evenement/fusain-2/
LOCATION:Association L’Art Oseur – Saint Barthélemy-Lestra\, 41 rue de relais de poste\, Saint Barthélemy-Lestra\, 42110
CATEGORIES:10 ans +
END:VEVENT
BEGIN:VEVENT
DTSTART;TZID=Europe/Paris:20230706T093000
DTEND;TZID=Europe/Paris:20230706T170000
DTSTAMP:20260421T130420
CREATED:20230522T142647Z
LAST-MODIFIED:20230522T143047Z
UID:10001509-1688635800-1688662800@crocoule.org
SUMMARY:Lino tutti colors
DESCRIPTION:« Lino tutti colors ! »\nL’association Art Oseur de Saint Barthélemy-Lestra propose le stage d’été Lino tutti colors ! \nGraver du lino et imprimer à gogo ! \nINSCRIPTIONS-RENSEIGNEMENTS : art.oseur@free.fr ou 04 77 28 56 01 Possibilité d’organiser des stages «famille» / «amis» sur demande. \nEntre 55€ et 60€. \nINTERVENANTE – JULIE ARGOUSE\nDiplômée des Beaux-Arts de Saint Etienne : D.N.S.E.P. Enseignante en Expression Plastique en écoles supérieures Atelier L’ART OSEUR sculpture peinture illustration Saint Bartélemy-Lestra.  \nAssociation L’Art Oseur – Saint Barthélemy-Lestra \nL’association Art Oseur de Saint Barthélemy-Lestra est un organisme qui se consacre à la promotion et à la valorisation de l’art et de la culture dans la commune. Cette association dynamique met en place diverses activités et événements artistiques pour enrichir la vie culturelle locale. \nL’association Art Oseur organise régulièrement des expositions d’art\, mettant en avant les talents locaux et régionaux. Ces expositions offrent une plateforme aux artistes pour présenter leurs œuvres et partager leur vision artistique avec le public. Cela permet également aux habitants de Saint Barthélemy-Lestra et des environs de découvrir et d’apprécier différentes formes d’expression artistique. \nEn plus des expositions\, Art Oseur propose des ateliers artistiques et des cours pour les enfants et les adultes. Ces activités créatives permettent aux participants de développer leurs compétences artistiques\, d’explorer leur créativité et d’exprimer librement leur imagination. Les ateliers peuvent couvrir diverses disciplines artistiques telles que la peinture\, la sculpture\, la photographie\, les arts textiles\, et bien plus encore. \n\n\n	Similaire
URL:https://crocoule.org/notre-evenement/lino-tutti-colors/
LOCATION:Association L’Art Oseur – Saint Barthélemy-Lestra\, 41 rue de relais de poste\, Saint Barthélemy-Lestra\, 42110
END:VEVENT
BEGIN:VEVENT
DTSTART;TZID=Europe/Paris:20230705T140000
DTEND;TZID=Europe/Paris:20230705T160000
DTSTAMP:20260421T130420
CREATED:20230522T134304Z
LAST-MODIFIED:20230522T142953Z
UID:10001501-1688565600-1688572800@crocoule.org
SUMMARY:Couleurs Power
DESCRIPTION:« Couleurs Power ! »\nL’association Art Oseur de Saint Barthélemy-Lestra propose le stage d’été couleurs power ! \nCollage couleurs et matières \nINSCRIPTIONS-RENSEIGNEMENTS : art.oseur@free.fr ou 04 77 28 56 01 Possibilité d’organiser des stages «famille» / «amis» sur demande. \nEntre 23 et 26 € \nINTERVENANTE – JULIE ARGOUSE\nDiplômée des Beaux-Arts de Saint Etienne : D.N.S.E.P. Enseignante en Expression Plastique en écoles supérieures Atelier L’ART OSEUR sculpture peinture illustration Saint Bartélemy-Lestra.  \nEntre 23 et 26 € \nAssociation L’Art Oseur – Saint Barthélemy-Lestra \nL’association Art Oseur de Saint Barthélemy-Lestra est un organisme qui se consacre à la promotion et à la valorisation de l’art et de la culture dans la commune. Cette association dynamique met en place diverses activités et événements artistiques pour enrichir la vie culturelle locale. \nL’association Art Oseur organise régulièrement des expositions d’art\, mettant en avant les talents locaux et régionaux. Ces expositions offrent une plateforme aux artistes pour présenter leurs œuvres et partager leur vision artistique avec le public. Cela permet également aux habitants de Saint Barthélemy-Lestra et des environs de découvrir et d’apprécier différentes formes d’expression artistique. \nEn plus des expositions\, Art Oseur propose des ateliers artistiques et des cours pour les enfants et les adultes. Ces activités créatives permettent aux participants de développer leurs compétences artistiques\, d’explorer leur créativité et d’exprimer librement leur imagination. Les ateliers peuvent couvrir diverses disciplines artistiques telles que la peinture\, la sculpture\, la photographie\, les arts textiles\, et bien plus encore. \n\n\n	Similaire
URL:https://crocoule.org/notre-evenement/couleurs-power/
LOCATION:Association L’Art Oseur – Saint Barthélemy-Lestra\, 41 rue de relais de poste\, Saint Barthélemy-Lestra\, 42110
CATEGORIES:05 ans +
END:VEVENT
BEGIN:VEVENT
DTSTART;TZID=Europe/Paris:20230705T100000
DTEND;TZID=Europe/Paris:20230705T120000
DTSTAMP:20260421T130420
CREATED:20230522T133656Z
LAST-MODIFIED:20230522T133656Z
UID:10001500-1688551200-1688558400@crocoule.org
SUMMARY:Ton héros rocambolesque
DESCRIPTION:« Ton héros rocambolesque ! »\nL’association Art Oseur de Saint Barthélemy-Lestra propose le stage d’été ton héros rocambolesque ! \nCollage couleurs et matières \nINTERVENANTE – JULIE ARGOUSE\nDiplômée des Beaux-Arts de Saint Etienne : D.N.S.E.P. Enseignante en Expression Plastique en écoles supérieures Atelier L’ART OSEUR sculpture peinture illustration Saint Bartélemy-Lestra.  \nEntre 23 et 26 € \nAssociation L’Art Oseur – Saint Barthélemy-Lestra \nL’association Art Oseur de Saint Barthélemy-Lestra est un organisme qui se consacre à la promotion et à la valorisation de l’art et de la culture dans la commune. Cette association dynamique met en place diverses activités et événements artistiques pour enrichir la vie culturelle locale. \nL’association Art Oseur organise régulièrement des expositions d’art\, mettant en avant les talents locaux et régionaux. Ces expositions offrent une plateforme aux artistes pour présenter leurs œuvres et partager leur vision artistique avec le public. Cela permet également aux habitants de Saint Barthélemy-Lestra et des environs de découvrir et d’apprécier différentes formes d’expression artistique. \nEn plus des expositions\, Art Oseur propose des ateliers artistiques et des cours pour les enfants et les adultes. Ces activités créatives permettent aux participants de développer leurs compétences artistiques\, d’explorer leur créativité et d’exprimer librement leur imagination. Les ateliers peuvent couvrir diverses disciplines artistiques telles que la peinture\, la sculpture\, la photographie\, les arts textiles\, et bien plus encore. \n\n\n	Similaire
URL:https://crocoule.org/notre-evenement/ton-heros-rocambolesque/
LOCATION:Association L’Art Oseur – Saint Barthélemy-Lestra\, 41 rue de relais de poste\, Saint Barthélemy-Lestra\, 42110
CATEGORIES:07 ans +
END:VEVENT
BEGIN:VEVENT
DTSTART;TZID=Europe/Paris:20230701T093000
DTEND;TZID=Europe/Paris:20230701T170000
DTSTAMP:20260421T130420
CREATED:20230522T090115Z
LAST-MODIFIED:20230522T090115Z
UID:10001480-1688203800-1688230800@crocoule.org
SUMMARY:Sculpture minute
DESCRIPTION:« Sculpture minute ! »\nL’association Art Oseur de Saint Barthélemy-Lestra propose le stage d’été sculpture minute ! \nDonne vie au personnage de tes rêves ! Sculpture fil de fer et techniques mixtes. \n\n\n\nINSCRIPTIONS-RENSEIGNEMENTS : art.oseur@free.fr ou 04 77 28 56 01 Possibilité d’organiser des stages «famille» / «amis» sur demande. \nEntre 55€ et 60€. \nINTERVENANTE – JULIE ARGOUSE\nDiplômée des Beaux-Arts de Saint Etienne : D.N.S.E.P. Enseignante en Expression Plastique en écoles supérieures Atelier L’ART OSEUR sculpture peinture illustration Saint Bartélemy-Lestra.  \nAssociation L’Art Oseur – Saint Barthélemy-Lestra \nL’association Art Oseur de Saint Barthélemy-Lestra est un organisme qui se consacre à la promotion et à la valorisation de l’art et de la culture dans la commune. Cette association dynamique met en place diverses activités et événements artistiques pour enrichir la vie culturelle locale. \nL’association Art Oseur organise régulièrement des expositions d’art\, mettant en avant les talents locaux et régionaux. Ces expositions offrent une plateforme aux artistes pour présenter leurs œuvres et partager leur vision artistique avec le public. Cela permet également aux habitants de Saint Barthélemy-Lestra et des environs de découvrir et d’apprécier différentes formes d’expression artistique. \nEn plus des expositions\, Art Oseur propose des ateliers artistiques et des cours pour les enfants et les adultes. Ces activités créatives permettent aux participants de développer leurs compétences artistiques\, d’explorer leur créativité et d’exprimer librement leur imagination. Les ateliers peuvent couvrir diverses disciplines artistiques telles que la peinture\, la sculpture\, la photographie\, les arts textiles\, et bien plus encore. \n\n\n\n\n\n	Similaire
URL:https://crocoule.org/notre-evenement/sculpture-minute/
LOCATION:Association L’Art Oseur – Saint Barthélemy-Lestra\, 41 rue de relais de poste\, Saint Barthélemy-Lestra\, 42110
CATEGORIES:10 ans +,Activité du week-end
END:VEVENT
END:VCALENDAR