BEGIN:VCALENDAR
VERSION:2.0
PRODID:-//Crocoule - ECPv6.15.15//NONSGML v1.0//EN
CALSCALE:GREGORIAN
METHOD:PUBLISH
X-WR-CALNAME:Crocoule
X-ORIGINAL-URL:https://crocoule.org
X-WR-CALDESC:Évènements pour Crocoule
REFRESH-INTERVAL;VALUE=DURATION:PT1H
X-Robots-Tag:noindex
X-PUBLISHED-TTL:PT1H
BEGIN:VTIMEZONE
TZID:Europe/Paris
BEGIN:DAYLIGHT
TZOFFSETFROM:+0100
TZOFFSETTO:+0200
TZNAME:CEST
DTSTART:20210328T010000
END:DAYLIGHT
BEGIN:STANDARD
TZOFFSETFROM:+0200
TZOFFSETTO:+0100
TZNAME:CET
DTSTART:20211031T010000
END:STANDARD
BEGIN:DAYLIGHT
TZOFFSETFROM:+0100
TZOFFSETTO:+0200
TZNAME:CEST
DTSTART:20220327T010000
END:DAYLIGHT
BEGIN:STANDARD
TZOFFSETFROM:+0200
TZOFFSETTO:+0100
TZNAME:CET
DTSTART:20221030T010000
END:STANDARD
BEGIN:DAYLIGHT
TZOFFSETFROM:+0100
TZOFFSETTO:+0200
TZNAME:CEST
DTSTART:20230326T010000
END:DAYLIGHT
BEGIN:STANDARD
TZOFFSETFROM:+0200
TZOFFSETTO:+0100
TZNAME:CET
DTSTART:20231029T010000
END:STANDARD
BEGIN:DAYLIGHT
TZOFFSETFROM:+0100
TZOFFSETTO:+0200
TZNAME:CEST
DTSTART:20240331T010000
END:DAYLIGHT
BEGIN:STANDARD
TZOFFSETFROM:+0200
TZOFFSETTO:+0100
TZNAME:CET
DTSTART:20241027T010000
END:STANDARD
END:VTIMEZONE
BEGIN:VEVENT
DTSTART;TZID=Europe/Paris:20230704T093000
DTEND;TZID=Europe/Paris:20230704T110000
DTSTAMP:20260421T130745
CREATED:20230516T142611Z
LAST-MODIFIED:20230516T142611Z
UID:10001399-1688463000-1688468400@crocoule.org
SUMMARY:SENSIBILISATION MASSAGE BÉBÉ
DESCRIPTION:SENSIBILISATION MASSAGE BÉBÉ\nTout d’abord\, la sensibilisation au massage pour les bébés consiste à apprendre aux parents à masser leur bébé de manière efficace et sécuritaire. Pour cela\, il faut comprendre l’apprentissage des techniques de massages\, mais aussi les points de pression appropriés\, les huiles ou les lotions à utiliser\, les signaux de détresse de l’enfant\, ainsi que les bienfaits pour le développement physique et émotionnel de l’enfant. \nDe plus\, cet sensibilisation au massage pour les bébés peut être effectuée par un professionnel de santé\, un instructeur de massage formé ou dans le cadre d’un groupe de soutien pour les parents. Sous forme\, d’ateliers\, de cours\, de conférences ou de sessions individuelles. \nEnfin\, ces ateliers ont pour but d’aider les parents à renforcer leur confiance et leur capacité à répondre aux besoins de leurs\, à créer des liens émotionnels plus forts et à améliorer la communication avec leur bébé\, ainsi qu’à améliorer leur santé et leur bien-être. \nSession d’apprentissage en 5 séances\, chaque lundi matin du 5 juin au 3 juillet . \nTarifs : \n125€ les 5 séances \nInscription obligatoire \nSENSIBILISATION MASSAGE BÉBÉ AVEC ALICE MASSARDIER – PARENT’AISE42\nAlice Massardier est une conseillère à la Parentalité et à la périnatalité. Tout d’abord\, elle a travaillé dans le secteur du handicap pendant 5 ans. Puis dans le champ de la protection de l’enfance pendant 7 ans. \nDepuis 2016\, elle souhaite apporter un accompagnement à tous les parents\, qui se pose des questions concernant la parentalité! \n   AUTRE DATES  \n\n\n	Similaire
URL:https://crocoule.org/notre-evenement/sensibilisation-massage-bebe-14/
LOCATION:Andrézieux
CATEGORIES:Activité en semaine
END:VEVENT
BEGIN:VEVENT
DTSTART;TZID=Europe/Paris:20230629T090000
DTEND;TZID=Europe/Paris:20230629T110000
DTSTAMP:20260421T130745
CREATED:20230516T142438Z
LAST-MODIFIED:20230516T142438Z
UID:10001398-1688029200-1688036400@crocoule.org
SUMMARY:SENSIBILISATION MASSAGE BÉBÉ
DESCRIPTION:SENSIBILISATION MASSAGE BÉBÉ\nTout d’abord\, la sensibilisation au massage pour les bébés consiste à apprendre aux parents à masser leur bébé de manière efficace et sécuritaire. Pour cela\, il faut comprendre l’apprentissage des techniques de massages\, mais aussi les points de pression appropriés\, les huiles ou les lotions à utiliser\, les signaux de détresse de l’enfant\, ainsi que les bienfaits pour le développement physique et émotionnel de l’enfant. \nDe plus\, cet sensibilisation au massage pour les bébés peut être effectuée par un professionnel de santé\, un instructeur de massage formé ou dans le cadre d’un groupe de soutien pour les parents. Sous forme\, d’ateliers\, de cours\, de conférences ou de sessions individuelles. \nEnfin\, ces ateliers ont pour but d’aider les parents à renforcer leur confiance et leur capacité à répondre aux besoins de leurs\, à créer des liens émotionnels plus forts et à améliorer la communication avec leur bébé\, ainsi qu’à améliorer leur santé et leur bien-être. \nSession d’apprentissage en 5 séances\, chaque lundi matin du 5 juin au 3 juillet . \nTarifs : \n125€ les 5 séances \nInscription obligatoire \nSENSIBILISATION MASSAGE BÉBÉ AVEC ALICE MASSARDIER – PARENT’AISE42\nAlice Massardier est une conseillère à la Parentalité et à la périnatalité. Tout d’abord\, elle a travaillé dans le secteur du handicap pendant 5 ans. Puis dans le champ de la protection de l’enfance pendant 7 ans. \nDepuis 2016\, elle souhaite apporter un accompagnement à tous les parents\, qui se pose des questions concernant la parentalité! \n   AUTRE DATES  \n\n\n	Similaire
URL:https://crocoule.org/notre-evenement/sensibilisation-massage-bebe-13/
LOCATION:Andrézieux
CATEGORIES:Activité en semaine
END:VEVENT
BEGIN:VEVENT
DTSTART;TZID=Europe/Paris:20230622T110000
DTEND;TZID=Europe/Paris:20230622T120000
DTSTAMP:20260421T130745
CREATED:20230519T123813Z
LAST-MODIFIED:20230519T123813Z
UID:10001445-1687431600-1687435200@crocoule.org
SUMMARY:DÉCOUVERTE MASSAGE BÉBÉ
DESCRIPTION:DÉCOUVERTE MASSAGE BÉBÉ\nTout d’abord\, la sensibilisation au massage pour les bébés consiste à apprendre aux parents à masser leur bébé de manière efficace et sécuritaire. Pour cela\, il faut comprendre l’apprentissage des techniques de massages\, mais aussi les points de pression appropriés\, les huiles ou les lotions à utiliser\, les signaux de détresse de l’enfant\, ainsi que les bienfaits pour le développement physique et émotionnel de l’enfant. \nDe plus\, cet sensibilisation au massage pour les bébés peut être effectuée par un professionnel de santé\, un instructeur de massage formé ou dans le cadre d’un groupe de soutien pour les parents. Sous forme\, d’ateliers\, de cours\, de conférences ou de sessions individuelles. \nEnfin\, ces ateliers ont pour but d’aider les parents à renforcer leur confiance et leur capacité à répondre aux besoins de leurs\, à créer des liens émotionnels plus forts et à améliorer la communication avec leur bébé\, ainsi qu’à améliorer leur santé et leur bien-être. \nSENSIBILISATION MASSAGE BÉBÉ AVEC ALICE MASSARDIER – PARENT’AISE42\n  \nAlice Massardier est une conseillère à la Parentalité et à la périnatalité. Tout d’abord\, elle a travaillé dans le secteur du handicap pendant 5 ans. Puis dans le champ de la protection de l’enfance pendant 7 ans. \nDepuis 2016\, elle souhaite apporter un accompagnement à tous les parents\, qui se pose des questions concernant la parentalité! \n   AUTRE DATES  \n\n\n	Similaire
URL:https://crocoule.org/notre-evenement/decouverte-massage-bebe/
LOCATION:Andrézieux
CATEGORIES:Activité en semaine
END:VEVENT
BEGIN:VEVENT
DTSTART;TZID=Europe/Paris:20230622T093000
DTEND;TZID=Europe/Paris:20230622T110000
DTSTAMP:20260421T130745
CREATED:20230516T142209Z
LAST-MODIFIED:20230516T142209Z
UID:10001397-1687426200-1687431600@crocoule.org
SUMMARY:SENSIBILISATION MASSAGE BÉBÉ
DESCRIPTION:SENSIBILISATION MASSAGE BÉBÉ\nTout d’abord\, la sensibilisation au massage pour les bébés consiste à apprendre aux parents à masser leur bébé de manière efficace et sécuritaire. Pour cela\, il faut comprendre l’apprentissage des techniques de massages\, mais aussi les points de pression appropriés\, les huiles ou les lotions à utiliser\, les signaux de détresse de l’enfant\, ainsi que les bienfaits pour le développement physique et émotionnel de l’enfant. \nDe plus\, cet sensibilisation au massage pour les bébés peut être effectuée par un professionnel de santé\, un instructeur de massage formé ou dans le cadre d’un groupe de soutien pour les parents. Sous forme\, d’ateliers\, de cours\, de conférences ou de sessions individuelles. \nEnfin\, ces ateliers ont pour but d’aider les parents à renforcer leur confiance et leur capacité à répondre aux besoins de leurs\, à créer des liens émotionnels plus forts et à améliorer la communication avec leur bébé\, ainsi qu’à améliorer leur santé et leur bien-être. \nSession d’apprentissage en 5 séances\, chaque lundi matin du 5 juin au 3 juillet . \nTarifs : \n125€ les 5 séances \nInscription obligatoire \nSENSIBILISATION MASSAGE BÉBÉ AVEC ALICE MASSARDIER – PARENT’AISE42\nAlice Massardier est une conseillère à la Parentalité et à la périnatalité. Tout d’abord\, elle a travaillé dans le secteur du handicap pendant 5 ans. Puis dans le champ de la protection de l’enfance pendant 7 ans. \nDepuis 2016\, elle souhaite apporter un accompagnement à tous les parents\, qui se pose des questions concernant la parentalité! \n   AUTRE DATES  \n\n\n	Similaire
URL:https://crocoule.org/notre-evenement/sensibilisation-massage-bebe-12/
LOCATION:Andrézieux
CATEGORIES:Activité en semaine
END:VEVENT
BEGIN:VEVENT
DTSTART;TZID=Europe/Paris:20230615T093000
DTEND;TZID=Europe/Paris:20230615T110000
DTSTAMP:20260421T130745
CREATED:20230516T142040Z
LAST-MODIFIED:20230516T142040Z
UID:10001396-1686821400-1686826800@crocoule.org
SUMMARY:SENSIBILISATION MASSAGE BÉBÉ
DESCRIPTION:SENSIBILISATION MASSAGE BÉBÉ\nTout d’abord\, la sensibilisation au massage pour les bébés consiste à apprendre aux parents à masser leur bébé de manière efficace et sécuritaire. Pour cela\, il faut comprendre l’apprentissage des techniques de massages\, mais aussi les points de pression appropriés\, les huiles ou les lotions à utiliser\, les signaux de détresse de l’enfant\, ainsi que les bienfaits pour le développement physique et émotionnel de l’enfant. \nDe plus\, cet sensibilisation au massage pour les bébés peut être effectuée par un professionnel de santé\, un instructeur de massage formé ou dans le cadre d’un groupe de soutien pour les parents. Sous forme\, d’ateliers\, de cours\, de conférences ou de sessions individuelles. \nEnfin\, ces ateliers ont pour but d’aider les parents à renforcer leur confiance et leur capacité à répondre aux besoins de leurs\, à créer des liens émotionnels plus forts et à améliorer la communication avec leur bébé\, ainsi qu’à améliorer leur santé et leur bien-être. \nSession d’apprentissage en 5 séances\, chaque lundi matin du 5 juin au 3 juillet . \nTarifs : \n125€ les 5 séances \nInscription obligatoire \nSENSIBILISATION MASSAGE BÉBÉ AVEC ALICE MASSARDIER – PARENT’AISE42\nAlice Massardier est une conseillère à la Parentalité et à la périnatalité. Tout d’abord\, elle a travaillé dans le secteur du handicap pendant 5 ans. Puis dans le champ de la protection de l’enfance pendant 7 ans. \nDepuis 2016\, elle souhaite apporter un accompagnement à tous les parents\, qui se pose des questions concernant la parentalité! \n   AUTRE DATES  \n\n\n	Similaire
URL:https://crocoule.org/notre-evenement/sensibilisation-massage-bebe-11/
LOCATION:Andrézieux
CATEGORIES:Activité en semaine
END:VEVENT
BEGIN:VEVENT
DTSTART;TZID=Europe/Paris:20230608T093000
DTEND;TZID=Europe/Paris:20230608T110000
DTSTAMP:20260421T130745
CREATED:20230516T141842Z
LAST-MODIFIED:20230516T141842Z
UID:10001395-1686216600-1686222000@crocoule.org
SUMMARY:SENSIBILISATION MASSAGE BÉBÉ
DESCRIPTION:SENSIBILISATION MASSAGE BÉBÉ\nTout d’abord\, la sensibilisation au massage pour les bébés consiste à apprendre aux parents à masser leur bébé de manière efficace et sécuritaire. Pour cela\, il faut comprendre l’apprentissage des techniques de massages\, mais aussi les points de pression appropriés\, les huiles ou les lotions à utiliser\, les signaux de détresse de l’enfant\, ainsi que les bienfaits pour le développement physique et émotionnel de l’enfant. \nDe plus\, cet sensibilisation au massage pour les bébés peut être effectuée par un professionnel de santé\, un instructeur de massage formé ou dans le cadre d’un groupe de soutien pour les parents. Sous forme\, d’ateliers\, de cours\, de conférences ou de sessions individuelles. \nEnfin\, ces ateliers ont pour but d’aider les parents à renforcer leur confiance et leur capacité à répondre aux besoins de leurs\, à créer des liens émotionnels plus forts et à améliorer la communication avec leur bébé\, ainsi qu’à améliorer leur santé et leur bien-être. \nSession d’apprentissage en 5 séances\, chaque lundi matin du 5 juin au 3 juillet . \nTarifs : \n125€ les 5 séances \nInscription obligatoire \nSENSIBILISATION MASSAGE BÉBÉ AVEC ALICE MASSARDIER – PARENT’AISE42\nAlice Massardier est une conseillère à la Parentalité et à la périnatalité. Tout d’abord\, elle a travaillé dans le secteur du handicap pendant 5 ans. Puis dans le champ de la protection de l’enfance pendant 7 ans. \nDepuis 2016\, elle souhaite apporter un accompagnement à tous les parents\, qui se pose des questions concernant la parentalité! \n   AUTRE DATES  \n\n\n	Similaire
URL:https://crocoule.org/notre-evenement/sensibilisation-massage-bebe-10/
LOCATION:Andrézieux
CATEGORIES:Activité en semaine
ORGANIZER;CN="Parent'aise 42":MAILTO:parentaise42@gmail.com
END:VEVENT
BEGIN:VEVENT
DTSTART;VALUE=DATE:20230513
DTEND;VALUE=DATE:20230515
DTSTAMP:20260421T130745
CREATED:20230228T142926Z
LAST-MODIFIED:20230228T142926Z
UID:10001061-1683936000-1684108799@crocoule.org
SUMMARY:COULEUR NATURE
DESCRIPTION:COULEUR NATURE\nViens survoler le parc du château de Bouthéon en tyrolienne pour l’évènement annuel Couleur Nature !  \nLa tyrolienne est ouverte à tous\, indépendamment de l’âge ou du niveau d’expérience Grâce à l’encadrement attentif et professionnel des instructeurs qualifiés qui assurent la sécurité des participants. Les visiteurs peuvent ainsi se détendre et profiter de la sensation de liberté en volant à travers les airs en toute confiance. \nC’EST QUOI\, COULEUR NATURE ? \nEn 2011\, la Ville d’Andrézieux-Bouthéon a inauguré la manifestation Couleur Nature. La création de cet événement répond aux demandes formulées par les habitants. Dans le cadre de la démarche Agenda 21 de la commune. \nLes attentes des habitants en termes d’information et d’animations autours de thèmes aussi variés que le jardinage\, la consommation\, la solidarité\, les déplacements\, les énergies renouvelables\, etc. trouvent réponse dans ce rendez-vous désormais ancré dans le calendrier de la ville. \nLa Municipalité a souhaité faire de cette manifestation gratuite et ouverte à tous. En effet\, elle se veut informative et récréative. Basée sur le partenariat et la valorisation des initiatives responsables\, Couleur Nature offre au grand public un accès ludique aux enjeux du développement durable. \nSymbole de l’Agenda 21\, ce rendez-vous festif compte également parmi ses exposants\, les services municipaux qui peuvent valoriser leurs actions auprès des habitants. Couleur Nature se veut être avant tout un outil de sensibilisation à la préservation de notre environnement et au maintien d’une solidarité quotidienne. \nTout d’abord\, le parc du château de Bouthéon\, situé dans la région Auvergne-Rhône-Alpes en France. C’est un endroit magnifique qui attire de nombreux visiteurs chaque année. Pour célébrer la beauté de la nature et encourager les gens à explorer le monde extérieur\, l’événement annuel Couleur Nature y est organisé. \nParmi les activités les plus passionnantes proposées lors de cet événement\, la tyrolienne permet aux visiteurs de survoler en toute sécurité le parc du château et d’admirer les paysages époustouflants depuis les hauteurs. Cette expérience unique offre une vue panoramique sur les jardins bien entretenus\, les lacs cristallins et les arbres majestueux qui embellissent le parc. \n\n\n	Similaire
URL:https://crocoule.org/notre-evenement/couleur-nature/
LOCATION:Andrézieux
CATEGORIES:05 ans +
END:VEVENT
BEGIN:VEVENT
DTSTART;TZID=Europe/Paris:20230126T110000
DTEND;TZID=Europe/Paris:20230126T120000
DTSTAMP:20260421T130745
CREATED:20221221T092400Z
LAST-MODIFIED:20221221T092400Z
UID:10000595-1674730800-1674734400@crocoule.org
SUMMARY:SENSIBILISATION MASSAGE BÉBÉ
DESCRIPTION:1h pour aborder les bienfaits du massage bébé\, découvrir les sessions d’apprentissage à venir et débuter par quels mouvements! Inscriptions au 07.68.97.42.21 ou parentaise42@gmail.com\, parentaise42.fr \n\n\n	Similaire
URL:https://crocoule.org/notre-evenement/sensibilisation-massage-bebe-3/
LOCATION:Andrézieux
CATEGORIES:Activité en semaine
ORGANIZER;CN="Parent'aise 42":MAILTO:parentaise42@gmail.com
END:VEVENT
BEGIN:VEVENT
DTSTART;TZID=Europe/Paris:20230110T190000
DTEND;TZID=Europe/Paris:20230110T213000
DTSTAMP:20260421T130745
CREATED:20221221T082736Z
LAST-MODIFIED:20221221T082736Z
UID:10000581-1673377200-1673386200@crocoule.org
SUMMARY:ÉDUCATION BIENVEILLANTE
DESCRIPTION:Atelier de parentalité en 7 dates pour découvrir des pistes et outils qui permettront de poser du cadre\, gérer les émotions de l’enfant\, susciter la coopération\, remplacer la punition\, encourager l’autonomie\, augmenter l’estime de soi et éviter de poser des étiquettes sur les enfants. Parce que ça fait du bien d’échanger entre parents et d’obtenir des perspectives positives dans le quotidien avec les enfants!\nInscriptions au 07.68.97.42.21 ou parentaise42@gmail.com\, parentaise42.fr \n\n\n	Similaire
URL:https://crocoule.org/notre-evenement/education-bienveillante-2/
LOCATION:Andrézieux
CATEGORIES:Activité en semaine
END:VEVENT
BEGIN:VEVENT
DTSTART;TZID=Europe/Paris:20230107T090000
DTEND;TZID=Europe/Paris:20230107T130000
DTSTAMP:20260421T130745
CREATED:20221221T094117Z
LAST-MODIFIED:20221221T094117Z
UID:10000601-1673082000-1673096400@crocoule.org
SUMMARY:FRATRIE SANS RIVALITÉ
DESCRIPTION:Atelier de parentalité en 3 dates pour découvrir des éléments de compréhension de fonctionnements relationnels dans la fratrie et découvrir des outils pour mieux gérer les conflits\, éviter les sentiments d’injustice etc… parents d’enfants de 1 à 16 ans\, ou tout adulte en relation avec des enfants. \n4h > 150\,00 € \nInscriptions au 07.68.97.42.21 ou parentaise42@gmail.com\, parentaise42.fr \n\n\n	Similaire
URL:https://crocoule.org/notre-evenement/fratrie-sans-rivalite/
LOCATION:Andrézieux
CATEGORIES:Activité du week-end
END:VEVENT
BEGIN:VEVENT
DTSTART;TZID=Europe/Paris:20221213T090000
DTEND;TZID=Europe/Paris:20221213T100000
DTSTAMP:20260421T130745
CREATED:20221128T092541Z
LAST-MODIFIED:20221128T092541Z
UID:10000467-1670922000-1670925600@crocoule.org
SUMMARY:SENSIBILISATION MASSAGE BÉBÉ
DESCRIPTION:1 h pour aborder les bienfaits du massage bébé\, découvrir les sessions d’apprentissage à venir et débuter par quels mou-\nvements! \nInscriptions au 07.68.97.42.21 ou parentaise42@ gmail.com\, parentaise42.fr \n\n\n	Similaire
URL:https://crocoule.org/notre-evenement/sensibilisation-massage-bebe-2/
LOCATION:Andrézieux
ORGANIZER;CN="Parent'aise 42":MAILTO:parentaise42@gmail.com
END:VEVENT
END:VCALENDAR