BEGIN:VCALENDAR
VERSION:2.0
PRODID:-//Crocoule - ECPv6.15.15//NONSGML v1.0//EN
CALSCALE:GREGORIAN
METHOD:PUBLISH
X-WR-CALNAME:Crocoule
X-ORIGINAL-URL:https://crocoule.org
X-WR-CALDESC:Évènements pour Crocoule
REFRESH-INTERVAL;VALUE=DURATION:PT1H
X-Robots-Tag:noindex
X-PUBLISHED-TTL:PT1H
BEGIN:VTIMEZONE
TZID:Europe/Paris
BEGIN:DAYLIGHT
TZOFFSETFROM:+0100
TZOFFSETTO:+0200
TZNAME:CEST
DTSTART:20210328T010000
END:DAYLIGHT
BEGIN:STANDARD
TZOFFSETFROM:+0200
TZOFFSETTO:+0100
TZNAME:CET
DTSTART:20211031T010000
END:STANDARD
BEGIN:DAYLIGHT
TZOFFSETFROM:+0100
TZOFFSETTO:+0200
TZNAME:CEST
DTSTART:20220327T010000
END:DAYLIGHT
BEGIN:STANDARD
TZOFFSETFROM:+0200
TZOFFSETTO:+0100
TZNAME:CET
DTSTART:20221030T010000
END:STANDARD
BEGIN:DAYLIGHT
TZOFFSETFROM:+0100
TZOFFSETTO:+0200
TZNAME:CEST
DTSTART:20230326T010000
END:DAYLIGHT
BEGIN:STANDARD
TZOFFSETFROM:+0200
TZOFFSETTO:+0100
TZNAME:CET
DTSTART:20231029T010000
END:STANDARD
BEGIN:DAYLIGHT
TZOFFSETFROM:+0100
TZOFFSETTO:+0200
TZNAME:CEST
DTSTART:20240331T010000
END:DAYLIGHT
BEGIN:STANDARD
TZOFFSETFROM:+0200
TZOFFSETTO:+0100
TZNAME:CET
DTSTART:20241027T010000
END:STANDARD
END:VTIMEZONE
BEGIN:VEVENT
DTSTART;TZID=Europe/Paris:20231220T143000
DTEND;TZID=Europe/Paris:20231220T170000
DTSTAMP:20260421T113609
CREATED:20231107T105055Z
LAST-MODIFIED:20231107T105055Z
UID:10002677-1703082600-1703091600@crocoule.org
SUMMARY:Le Noël enchanté d'Agathe
DESCRIPTION:Fripon est probablement le plus maladroit de tous les lutins du Père Noël. Mais cette année\, il n’a plus le droit à l’erreur… S’il veut rester dans l’équipe de préparation des cadeaux de Noël\, il doit se ressaisir ! \nLe Père Noël lui a donné pour mission de rassembler tous les cadeaux de la liste de la petite Agathe. Venez suivre leur épopée\, rencontrer pleins de personnages\, et aider Fripon à rassembler tous les cadeaux pour que le Noël d’Agathe soit inoubliable ! Selon vous\, Fripon va-t-il réussir sa mission ? \n\nAGAPES ET SPECTACLES – QU’EST QUE C’EST ? \n \nEn plein centre de Montbrison\, sur le boulevard de la Madeleine\, Agapes et spectacles vous propose de régaler vos papilles et de divertir votre esprit dans un cadre chaleureux et élégant. Venez savourer une cuisine traditionnelle autour de la scène ou boire une coupe de champagne dans l’une de nos loges privées. \nVous pourrez également découvrir ou redécouvrir des artistes professionnels et amateurs qui sauront vous faire passer un moment des plus agréables. \nAgapes et spectacles : c’est le restaurant-spectacle à ne pas manquer dans la région ! \n\n\n	Similaire
URL:https://crocoule.org/notre-evenement/le-noel-enchante-dagathe-7/
LOCATION:Agapes Et Spectacles – Montbrison\, 18 Bd de la Madeleine\, Montbrison\, 42600
CATEGORIES:03 ans +,Activité pendant les vacances
END:VEVENT
BEGIN:VEVENT
DTSTART;TZID=Europe/Paris:20231210T150000
DTEND;TZID=Europe/Paris:20231210T170000
DTSTAMP:20260421T113609
CREATED:20231107T104719Z
LAST-MODIFIED:20231107T104719Z
UID:10002676-1702220400-1702227600@crocoule.org
SUMMARY:Le Noël enchanté d'Agathe
DESCRIPTION:Fripon est probablement le plus maladroit de tous les lutins du Père Noël. Mais cette année\, il n’a plus le droit à l’erreur… S’il veut rester dans l’équipe de préparation des cadeaux de Noël\, il doit se ressaisir ! \nLe Père Noël lui a donné pour mission de rassembler tous les cadeaux de la liste de la petite Agathe. Venez suivre leur épopée\, rencontrer pleins de personnages\, et aider Fripon à rassembler tous les cadeaux pour que le Noël d’Agathe soit inoubliable ! Selon vous\, Fripon va-t-il réussir sa mission ? \n\nAGAPES ET SPECTACLES – QU’EST QUE C’EST ? \n \nEn plein centre de Montbrison\, sur le boulevard de la Madeleine\, Agapes et spectacles vous propose de régaler vos papilles et de divertir votre esprit dans un cadre chaleureux et élégant. Venez savourer une cuisine traditionnelle autour de la scène ou boire une coupe de champagne dans l’une de nos loges privées. \nVous pourrez également découvrir ou redécouvrir des artistes professionnels et amateurs qui sauront vous faire passer un moment des plus agréables. \nAgapes et spectacles : c’est le restaurant-spectacle à ne pas manquer dans la région ! \n\n\n	Similaire
URL:https://crocoule.org/notre-evenement/le-noel-enchante-dagathe-6/
LOCATION:Agapes Et Spectacles – Montbrison\, 18 Bd de la Madeleine\, Montbrison\, 42600
CATEGORIES:03 ans +,Activité du week-end,Intérieur
END:VEVENT
BEGIN:VEVENT
DTSTART;TZID=Europe/Paris:20230415T150000
DTEND;TZID=Europe/Paris:20230415T150000
DTSTAMP:20260421T113609
CREATED:20230327T095650Z
LAST-MODIFIED:20230327T095650Z
UID:10001140-1681570800-1681570800@crocoule.org
SUMMARY:QUEL CIRQUE !
DESCRIPTION:QUEL CIRQUE !\nQuel cirque ! est un spectacle jeune public\, à partir de 3 ans proposé par la salle de spectacle agapes et spectacles de Montbrison dans le département de la Loire. \nTrois machinistes vont devoir remplacer les artistes du cirque… \nMichel\, Michel et Michelle installent les décors\, les accessoires et le son pour le spectacle. Mais très vite\, ils se rendent compte qu’ils ont oublié d’appeler les artistes. Ils vont devoir les remplacer au pied levé avec l’aide des enfants. Acrobaties\, jonglage\, magie\, ventriloquie\, sculpture sur ballon et musique : tous les numéros du cirque sont passés en revue. \nUne heure de divertissement\, de bonne humeur et de gags\, pour satisfaire petits et grands. Et en plus\, les enfants du public qui participent au spectacle sont récompensés par une surprise ! \nRÉSERVER  \nAGAPES ET SPECTACLES – QU’EST QUE C’EST ? \n \nEn plein centre de Montbrison\, sur le boulevard de la Madeleine\, Agapes et spectacles vous propose de régaler vos papilles et de divertir votre esprit dans un cadre chaleureux et élégant. Venez savourer une cuisine traditionnelle autour de la scène ou boire une coupe de champagne dans l’une de nos loges privées. \nVous pourrez également découvrir ou redécouvrir des artistes professionnels et amateurs qui sauront vous faire passer un moment des plus agréables. \nAgapes et spectacles : c’est le restaurant-spectacle à ne pas manquer dans la région ! \n\n\n	Similaire
URL:https://crocoule.org/notre-evenement/quel-cirque-3/
LOCATION:Agapes Et Spectacles – Montbrison\, 18 Bd de la Madeleine\, Montbrison\, 42600
CATEGORIES:03 ans +
END:VEVENT
BEGIN:VEVENT
DTSTART;TZID=Europe/Paris:20230414T150000
DTEND;TZID=Europe/Paris:20230414T150000
DTSTAMP:20260421T113609
CREATED:20230327T095403Z
LAST-MODIFIED:20230327T095403Z
UID:10001139-1681484400-1681484400@crocoule.org
SUMMARY:QUEL CIRQUE !
DESCRIPTION:QUEL CIRQUE !\nQuel cirque ! est un spectacle jeune public\, à partir de 3 ans. \nTrois machinistes vont devoir remplacer les artistes du cirque… \nMichel\, Michel et Michelle installent les décors\, les accessoires et le son pour le spectacle. Mais très vite\, ils se rendent compte qu’ils ont oublié d’appeler les artistes. Ils vont devoir les remplacer au pied levé avec l’aide des enfants. Acrobaties\, jonglage\, magie\, ventriloquie\, sculpture sur ballon et musique : tous les numéros du cirque sont passés en revue. \nUne heure de divertissement\, de bonne humeur et de gags\, pour satisfaire petits et grands. Et en plus\, les enfants du public qui participent au spectacle sont récompensés par une surprise ! \nRÉSERVER  \nAGAPES ET SPECTACLES – QU’EST QUE C’EST ? \n \nEn plein centre de Montbrison\, sur le boulevard de la Madeleine\, Agapes et spectacles vous propose de régaler vos papilles et de divertir votre esprit dans un cadre chaleureux et élégant. Venez savourer une cuisine traditionnelle autour de la scène ou boire une coupe de champagne dans l’une de nos loges privées. \nVous pourrez également découvrir ou redécouvrir des artistes professionnels et amateurs qui sauront vous faire passer un moment des plus agréables. \nAgapes et spectacles : c’est le restaurant-spectacle à ne pas manquer dans la région ! \n\n\n	Similaire
URL:https://crocoule.org/notre-evenement/quel-cirque-2/
LOCATION:Agapes Et Spectacles – Montbrison\, 18 Bd de la Madeleine\, Montbrison\, 42600
CATEGORIES:03 ans +
END:VEVENT
BEGIN:VEVENT
DTSTART;TZID=Europe/Paris:20230413T150000
DTEND;TZID=Europe/Paris:20230413T150000
DTSTAMP:20260421T113609
CREATED:20230327T095152Z
LAST-MODIFIED:20230327T095325Z
UID:10001138-1681398000-1681398000@crocoule.org
SUMMARY:QUEL CIRQUE !
DESCRIPTION:QUEL CIRQUE !\nQuel cirque ! est un spectacle jeune public\, à partir de 3 ans. \nTrois machinistes vont devoir remplacer les artistes du cirque… \nMichel\, Michel et Michelle installent les décors\, les accessoires et le son pour le spectacle. Mais très vite\, ils se rendent compte qu’ils ont oublié d’appeler les artistes. Ils vont devoir les remplacer au pied levé avec l’aide des enfants. Acrobaties\, jonglage\, magie\, ventriloquie\, sculpture sur ballon et musique : tous les numéros du cirque sont passés en revue. \nUne heure de divertissement\, de bonne humeur et de gags\, pour satisfaire petits et grands. Et en plus\, les enfants du public qui participent au spectacle sont récompensés par une surprise ! \nRÉSERVER  \nAGAPES ET SPECTACLES – QU’EST QUE C’EST ? \n \nEn plein centre de Montbrison\, sur le boulevard de la Madeleine\, Agapes et spectacles vous propose de régaler vos papilles et de divertir votre esprit dans un cadre chaleureux et élégant. Venez savourer une cuisine traditionnelle autour de la scène ou boire une coupe de champagne dans l’une de nos loges privées. \nVous pourrez également découvrir ou redécouvrir des artistes professionnels et amateurs qui sauront vous faire passer un moment des plus agréables. \nAgapes et spectacles : c’est le restaurant-spectacle à ne pas manquer dans la région ! \n\n\n	Similaire
URL:https://crocoule.org/notre-evenement/quel-cirque/
LOCATION:Agapes Et Spectacles – Montbrison\, 18 Bd de la Madeleine\, Montbrison\, 42600
CATEGORIES:03 ans +
END:VEVENT
BEGIN:VEVENT
DTSTART;TZID=Europe/Paris:20221224T150000
DTEND;TZID=Europe/Paris:20221224T150000
DTSTAMP:20260421T113609
CREATED:20221128T123337Z
LAST-MODIFIED:20221128T123337Z
UID:10000503-1671894000-1671894000@crocoule.org
SUMMARY:LE NOËL ENCHANTÉ D'AGATHE
DESCRIPTION:Fripon est probablement le plus maladroit de tous les lutins du Père Noël. Mais cette année\, il n’a plus le droit à l’erreur… S’il veut rester dans l’équipe de préparation des cadeaux de Noël\, il doit se ressaisir ! Il va devoir aider la petite Agathe ! \n\n\n	Similaire
URL:https://crocoule.org/notre-evenement/le-noel-enchante-dagathe-5/
LOCATION:Agapes Et Spectacles – Montbrison\, 18 Bd de la Madeleine\, Montbrison\, 42600
CATEGORIES:Activité du week-end
END:VEVENT
BEGIN:VEVENT
DTSTART;TZID=Europe/Paris:20221224T150000
DTEND;TZID=Europe/Paris:20221224T150000
DTSTAMP:20260421T113609
CREATED:20221128T093641Z
LAST-MODIFIED:20221128T093641Z
UID:10000472-1671894000-1671894000@crocoule.org
SUMMARY:LE NOËL ENCHANTÉ D'AGATHE
DESCRIPTION:Fripon est probablement le plus maladroit de tous les lutins du Père Noël. Mais cette année\, il n’a plus le droit à l’erreur… S’il veut rester dans l’équipe de préparation des cadeaux de Noël\, il doit se ressaisir ! Il va devoir aider la petite Agathe ! \n\n\n	Similaire
URL:https://crocoule.org/notre-evenement/le-noel-enchante-dagathe-2/
LOCATION:Agapes Et Spectacles – Montbrison\, 18 Bd de la Madeleine\, Montbrison\, 42600
CATEGORIES:Activité en semaine
END:VEVENT
BEGIN:VEVENT
DTSTART;TZID=Europe/Paris:20221214T150000
DTEND;TZID=Europe/Paris:20221214T150000
DTSTAMP:20260421T113609
CREATED:20221128T093547Z
LAST-MODIFIED:20221128T093547Z
UID:10000471-1671030000-1671030000@crocoule.org
SUMMARY:LE NOËL ENCHANTÉ D'AGATHE
DESCRIPTION:Fripon est probablement le plus maladroit de tous les lutins du Père Noël. Mais cette année\, il n’a plus le droit à l’erreur… S’il veut rester dans l’équipe de préparation des cadeaux de Noël\, il doit se ressaisir ! Il va devoir aider la petite Agathe ! \n\n\n	Similaire
URL:https://crocoule.org/notre-evenement/le-noel-enchante-dagathe/
LOCATION:Agapes Et Spectacles – Montbrison\, 18 Bd de la Madeleine\, Montbrison\, 42600
CATEGORIES:Activité en semaine
END:VEVENT
BEGIN:VEVENT
DTSTART;TZID=Europe/Paris:20221211T150000
DTEND;TZID=Europe/Paris:20221211T150000
DTSTAMP:20260421T113609
CREATED:20221128T122948Z
LAST-MODIFIED:20221128T122948Z
UID:10000501-1670770800-1670770800@crocoule.org
SUMMARY:LE NOËL ENCHANTÉ D'AGATHE
DESCRIPTION:Fripon est probablement le plus maladroit de tous les lutins du Père Noël. Mais cette année\, il n’a plus le droit à l’erreur… S’il veut rester dans l’équipe de préparation des cadeaux de Noël\, il doit se ressaisir ! Il va devoir aider la petite Agathe ! \n\n\n	Similaire
URL:https://crocoule.org/notre-evenement/le-noel-enchante-dagathe-3/
LOCATION:Agapes Et Spectacles – Montbrison\, 18 Bd de la Madeleine\, Montbrison\, 42600
END:VEVENT
BEGIN:VEVENT
DTSTART;TZID=Europe/Paris:20221204T150000
DTEND;TZID=Europe/Paris:20221204T150000
DTSTAMP:20260421T113609
CREATED:20221128T120539Z
LAST-MODIFIED:20221128T120539Z
UID:10000491-1670166000-1670166000@crocoule.org
SUMMARY:OHÉ - CONTE MUSICAL
DESCRIPTION:Depuis son plus jeune âge on l’appelait Ohé ! À longueur de journée\, dans une sorte d’écho lointain\, il entendait :“Ohé ! Ohé !?” Qui se finissait toujours par un « Ohé ! Range ta chambre\, fait ton sac\, à table !!! » \n\n\n	Similaire
URL:https://crocoule.org/notre-evenement/ohe-conte-musical/
LOCATION:Agapes Et Spectacles – Montbrison\, 18 Bd de la Madeleine\, Montbrison\, 42600
CATEGORIES:Activité du week-end
END:VEVENT
END:VCALENDAR