BEGIN:VCALENDAR
VERSION:2.0
PRODID:-//Crocoule - ECPv6.15.15//NONSGML v1.0//EN
CALSCALE:GREGORIAN
METHOD:PUBLISH
X-WR-CALNAME:Crocoule
X-ORIGINAL-URL:https://crocoule.org
X-WR-CALDESC:Évènements pour Crocoule
REFRESH-INTERVAL;VALUE=DURATION:PT1H
X-Robots-Tag:noindex
X-PUBLISHED-TTL:PT1H
BEGIN:VTIMEZONE
TZID:Europe/Paris
BEGIN:DAYLIGHT
TZOFFSETFROM:+0100
TZOFFSETTO:+0200
TZNAME:CEST
DTSTART:20220327T010000
END:DAYLIGHT
BEGIN:STANDARD
TZOFFSETFROM:+0200
TZOFFSETTO:+0100
TZNAME:CET
DTSTART:20221030T010000
END:STANDARD
BEGIN:DAYLIGHT
TZOFFSETFROM:+0100
TZOFFSETTO:+0200
TZNAME:CEST
DTSTART:20230326T010000
END:DAYLIGHT
BEGIN:STANDARD
TZOFFSETFROM:+0200
TZOFFSETTO:+0100
TZNAME:CET
DTSTART:20231029T010000
END:STANDARD
BEGIN:DAYLIGHT
TZOFFSETFROM:+0100
TZOFFSETTO:+0200
TZNAME:CEST
DTSTART:20240331T010000
END:DAYLIGHT
BEGIN:STANDARD
TZOFFSETFROM:+0200
TZOFFSETTO:+0100
TZNAME:CET
DTSTART:20241027T010000
END:STANDARD
BEGIN:DAYLIGHT
TZOFFSETFROM:+0100
TZOFFSETTO:+0200
TZNAME:CEST
DTSTART:20250330T010000
END:DAYLIGHT
BEGIN:STANDARD
TZOFFSETFROM:+0200
TZOFFSETTO:+0100
TZNAME:CET
DTSTART:20251026T010000
END:STANDARD
BEGIN:DAYLIGHT
TZOFFSETFROM:+0100
TZOFFSETTO:+0200
TZNAME:CEST
DTSTART:20260329T010000
END:DAYLIGHT
BEGIN:STANDARD
TZOFFSETFROM:+0200
TZOFFSETTO:+0100
TZNAME:CET
DTSTART:20261025T010000
END:STANDARD
END:VTIMEZONE
BEGIN:VEVENT
DTSTART;TZID=Europe/Paris:20250424T150000
DTEND;TZID=Europe/Paris:20250424T160000
DTSTAMP:20260420T100428
CREATED:20250217T111805Z
LAST-MODIFIED:20250313T163341Z
UID:10010354-1745506800-1745510400@crocoule.org
SUMMARY:Charlieu | Animation en famille
DESCRIPTION:Construire une abbaye\, ce n’est pas si simple ! Il faut trouver les matériaux\, organiser\, mesurer… Lors de cette visite-atelier\, petits et grands\, devenez les maîtres d’œuvre d’un jour et apprenez comment\, au Moyen âge\, on pouvait bâtir des monuments qui traversent encore les siècles ! \n\n\n	Similaire
URL:https://crocoule.org/notre-evenement/charlieu-animation-en-famille/
LOCATION:Abbaye bénédictine\, Place de l'Abbaye\, Charlieu\, 42190
CATEGORIES:08 ans +,09 ans +,10 ans +,11 ans +,12 ans +,Activité en semaine,Activité pendant les vacances,En famille,Jeune Public,Tous les événements
END:VEVENT
BEGIN:VEVENT
DTSTART;TZID=Europe/Paris:20250419T100000
DTEND;TZID=Europe/Paris:20250419T180000
DTSTAMP:20260420T100428
CREATED:20250217T111802Z
LAST-MODIFIED:20250313T163339Z
UID:10010353-1745056800-1745085600@crocoule.org
SUMMARY:Charlieu | Jeu de piste connecté
DESCRIPTION:C’est un jeu de piste au cœur du Château de la Bâtie d’Urfé mixé à une véritable course contre la montre\, dans lequel logique\, observation et stratégie seront vos meilleurs alliés.\n???? Créez votre équipe de 2 à 5 joueurs\n⏱️ 60 min de jeu\n???? Réalisez des défis et énigmes au cœur du château\n???? Récoltez le plus de points possible\n???? Jouez en direct contre d’autres équipes\n???? 60€ par équipe\n???? Départ : De 10h à 16h \n\n\n	Similaire
URL:https://crocoule.org/notre-evenement/charlieu-jeu-de-piste-connecte/
LOCATION:Abbaye bénédictine\, Place de l'Abbaye\, Charlieu\, 42190
CATEGORIES:08 ans +,09 ans +,10 ans +,11 ans +,12 ans +,Activité du week-end,Activité pendant les vacances,En famille,Jeune Public,Tous les événements
END:VEVENT
BEGIN:VEVENT
DTSTART;TZID=Europe/Paris:20241208T180000
DTEND;TZID=Europe/Paris:20241208T210000
DTSTAMP:20260420T100428
CREATED:20241125T073511Z
LAST-MODIFIED:20241125T073511Z
UID:10009821-1733680800-1733691600@crocoule.org
SUMMARY:Charlieu | Illuminations de l'abbaye
DESCRIPTION:À la tombée de la nuit\, l’abbaye s’illumine de centaines de lumignons et propose aux enfants des ateliers pour confectionner des cartes de voeux et décorations de fin d’année. \n\n\n	Similaire
URL:https://crocoule.org/notre-evenement/charlieu-illuminations-de-labbaye/
LOCATION:Abbaye bénédictine\, Place de l'Abbaye\, Charlieu\, 42190
CATEGORIES:01 an +,En famille,Gratuit,Tous les événements,Tout public
ATTACH;FMTTYPE=image/jpeg:https://crocoule.org/wp-content/uploads/2024/11/26473738-diaporama-6n3RkJ.tmp_.jpg
END:VEVENT
BEGIN:VEVENT
DTSTART;TZID=Europe/Paris:20241031T150000
DTEND;TZID=Europe/Paris:20241031T170000
DTSTAMP:20260420T100428
CREATED:20240916T072653Z
LAST-MODIFIED:20240923T205242Z
UID:10009194-1730386800-1730394000@crocoule.org
SUMMARY:Atelier " Petit Archiviste"
DESCRIPTION:Atelier  » Petit Archiviste »\nPlonge dans l’histoire\, sur les traces de Cluny dans la Loire. Un atelier enfant en lien avec l’expo-dossier  » La Loire\, des histoires clunisiennes »\, présentée à l’abbaye jusqu’au 29 décembre 2024\, en partenariat avec les Archives Départementales de la Loire. \nDès 6 ans – 4\,50 euros.\nSi ton regard se pose sur ces mots c’est que toi aussi tu fais partie de la Haute Congrégation des Super Parents (HCSP : rien que ça !  ????) investis en quête d’idées de sorties familiales dans la Loire et la Haute-Loire pour son/ses bambin(s) ! \nTu ne me crois pas ? Si si\, promis Bienvenue et toutes mes Félicitations ! Tu es sur la bonne page … Et je vais te le prouver ! Tu es prêt ? Allez\, viens je t’emmène au fil des pages du Crocoule ! \nTout d’abord\, Le Crocoule Magazine c’est quoi ? Le Crocoule\, papier ou web\, c’est LE magazine qui porte en lui la douceur et la bienveillance dont tu as besoin en tant que parent et qui facilite tes recherches d’activités loisirs\, culturelles\, nature pour tous les budgets et tous les goûts ! Et ça c’est une promesse ? Tu veux en savoir +\, suis moi par ici ! \nEt ce n’est pas tout … Si tu as soif d’aventure Le Crocoule Express est fait pour toi !\n  \n  \n  \n  \n\n\n	Similaire
URL:https://crocoule.org/notre-evenement/atelier-petit-archiviste/2024-10-31/
LOCATION:Abbaye bénédictine\, Place de l'Abbaye\, Charlieu\, 42190
CATEGORIES:06 ans +,Activité pendant les vacances,En famille,Intérieur,Tous les événements
END:VEVENT
BEGIN:VEVENT
DTSTART;TZID=Europe/Paris:20241024T150000
DTEND;TZID=Europe/Paris:20241024T170000
DTSTAMP:20260420T100428
CREATED:20240916T072653Z
LAST-MODIFIED:20240923T205242Z
UID:10009193-1729782000-1729789200@crocoule.org
SUMMARY:Atelier " Petit Archiviste"
DESCRIPTION:Atelier  » Petit Archiviste »\nPlonge dans l’histoire\, sur les traces de Cluny dans la Loire. Un atelier enfant en lien avec l’expo-dossier  » La Loire\, des histoires clunisiennes »\, présentée à l’abbaye jusqu’au 29 décembre 2024\, en partenariat avec les Archives Départementales de la Loire. \nDès 6 ans – 4\,50 euros.\nSi ton regard se pose sur ces mots c’est que toi aussi tu fais partie de la Haute Congrégation des Super Parents (HCSP : rien que ça !  ????) investis en quête d’idées de sorties familiales dans la Loire et la Haute-Loire pour son/ses bambin(s) ! \nTu ne me crois pas ? Si si\, promis Bienvenue et toutes mes Félicitations ! Tu es sur la bonne page … Et je vais te le prouver ! Tu es prêt ? Allez\, viens je t’emmène au fil des pages du Crocoule ! \nTout d’abord\, Le Crocoule Magazine c’est quoi ? Le Crocoule\, papier ou web\, c’est LE magazine qui porte en lui la douceur et la bienveillance dont tu as besoin en tant que parent et qui facilite tes recherches d’activités loisirs\, culturelles\, nature pour tous les budgets et tous les goûts ! Et ça c’est une promesse ? Tu veux en savoir +\, suis moi par ici ! \nEt ce n’est pas tout … Si tu as soif d’aventure Le Crocoule Express est fait pour toi !\n  \n  \n  \n  \n\n\n	Similaire
URL:https://crocoule.org/notre-evenement/atelier-petit-archiviste/2024-10-24/
LOCATION:Abbaye bénédictine\, Place de l'Abbaye\, Charlieu\, 42190
CATEGORIES:06 ans +,Activité pendant les vacances,En famille,Intérieur,Tous les événements
END:VEVENT
BEGIN:VEVENT
DTSTART;TZID=Europe/Paris:20240929T100000
DTEND;TZID=Europe/Paris:20240929T180000
DTSTAMP:20260420T100428
CREATED:20240831T120952Z
LAST-MODIFIED:20240923T195630Z
UID:10008622-1727604000-1727632800@crocoule.org
SUMMARY:Jeu de piste connecté
DESCRIPTION:Jeu de piste connecté\nA la croisée entre un escape game et des jeux de piste connectés\, constituez votre équipe de 2 à 6 joueurs et tentez de réussir le plus de challenges et de résoudre le maximum d’énigmes dans L’abbaye de Charlieu.\nComment se déroule une partie ? Votre aventure commence avec le briefing de notre Game Master (maître du jeu). Il vous donnera instructions\, règles et astuces pour profiter pleinement de votre rallye d’énigmes dans l’Abbaye de Charlieu Il vous distribuera ensuite votre kit de jeu. Choisissez un nom d’équipe et c’est parti pour 60 minutes d’enquête. Observez les fondations des trois églises\, admirez les chapiteaux romans et réalisez des photos funs ! Chacune des étapes de notre jeu vous met au défi. Servez-vous du smartphone pour répondre aux énigmes. Vous traverserez plus d’une trentaine de points d’intérêts\, ouvrez donc l’œil et profitez du patrimoine que nous offre l’Abbaye. Mais n’oubliez pas l’enjeu ! Au bout de 60 minutes\, le gong retentit : rendez-vous au point de départ pour découvrir votre classement dans cette chasse aux énigmes. Notre Game Master vous débriefera la partie et avec un peu de chance et de talent\, vous serez sacré champion parmi tous les participants !\nDès 6 ans / Réservations\nSi ton regard se pose sur ces mots c’est que toi aussi tu fais partie de la Haute Congrégation des Super Parents (HCSP : rien que ça !  ????) investis en quête d’idées de sorties familiales dans la Loire et la Haute-Loire pour son/ses bambin(s) ! \nTu ne me crois pas ? Si si\, promis Bienvenue et toutes mes Félicitations ! Tu es sur la bonne page … Et je vais te le prouver ! Tu es prêt ? Allez\, viens je t’emmène au fil des pages du Crocoule ! \nTout d’abord\, Le Crocoule Magazine c’est quoi ? Le Crocoule\, papier ou web\, c’est LE magazine qui porte en lui la douceur et la bienveillance dont tu as besoin en tant que parent et qui facilite tes recherches d’activités loisirs\, culturelles\, nature pour tous les budgets et tous les goûts ! Et ça c’est une promesse ? Tu veux en savoir +\, suis moi par ici ! \nEt ce n’est pas tout … Si tu as soif d’aventure Le Crocoule Express est fait pour toi !\n  \n  \n  \n\n\n	Similaire
URL:https://crocoule.org/notre-evenement/jeu-de-piste-connecte/
LOCATION:Abbaye bénédictine\, Place de l'Abbaye\, Charlieu\, 42190
CATEGORIES:06 ans +,Activité du week-end,En famille,Exterieur,Tous les événements
END:VEVENT
BEGIN:VEVENT
DTSTART;TZID=Europe/Paris:20231208T173000
DTEND;TZID=Europe/Paris:20231208T173000
DTSTAMP:20260420T100428
CREATED:20231125T153144Z
LAST-MODIFIED:20231125T153230Z
UID:10002731-1702056600-1702056600@crocoule.org
SUMMARY:Les illuminations de l'abbaye
DESCRIPTION:L’abbaye illuminée par des centaines de lumignons !\nÀ la tombée de la nuit\, découvrez l’abbaye illuminée de centaines de lumignons et laissez exprimer votre créativité en participant à l’atelier pour réaliser des cartes de vœux et décors de Noël. Repartez avec vos créations !\nABBAYE BÉNÉDICTINE\nDes fouilles ont permis de découvrir les fondations de trois églises construites sur le même emplacement au IXe\, Xe et XIe. Le grand portail\, dont la décoration s’inspire du livre de l’Apocalypse\, est un chef d’œuvre de l’art roman du XIIe siècle. Le cloître\, de la fin du XVe\, s’ouvre sur la salle capitulaire (XVe\, lutrin remarquable) par une colonnade romane. De là\, on accède à la chapelle du prieur (fin XVe)\, puis à la cour de l’Hôtel du prieur (début XVIe). \nOUVERTURE\nDu 02/01 au 31/01\, tous les samedis et dimanches. \nDu 01/02 au 31/03.\nFermé le mardi. \nDu 01/04 au 31/05.\nFermé le mardi. \nDu 01/06 au 31/08\, tous les jours. \nDu 01/09 au 31/10.\nFermé le mardi. \nDu 01/11 au 30/12\, tous les samedis et dimanches.\nFermetures exceptionnelles les 24\, 25\, 31 décembre et 1er janvier. \nTARIFS\nPlein tarif : 4 €\nTarif réduit : 3 €. \nGratuit pour les moins de 12 ans\, les accompagnateurs guides\, les chauffeurs.\nTarif groupe à partir de 10 personnes. \n\n\n	Similaire
URL:https://crocoule.org/notre-evenement/les-illuminations-de-labbaye/
LOCATION:Abbaye bénédictine\, Place de l'Abbaye\, Charlieu\, 42190
CATEGORIES:Activité du week-end,Tout public
END:VEVENT
BEGIN:VEVENT
DTSTART;TZID=Europe/Paris:20231102T150000
DTEND;TZID=Europe/Paris:20231102T160000
DTSTAMP:20260420T100428
CREATED:20230828T130047Z
LAST-MODIFIED:20230828T130047Z
UID:10002499-1698937200-1698940800@crocoule.org
SUMMARY:"VOYAGER AU XIXE SIÈCLE : ITINÉRAIRE DES ROULLIER"
DESCRIPTION:« VOYAGER AU XIXE SIÈCLE : ITINÉRAIRE DES ROULLIER » – ATELIER JEUNE PUBLIC\nParticipez à l’atelier « VOYAGER AU XIXE SIÈCLE : ITINÉRAIRE DES ROULLIER ». Atelier jeune public en lien avec l’expo-dossier « Blanche et Christian-Henri Roullier : des artistes voyageurs \nBlanche et Christian-Henri Roullier : des artistes voyageurs au XIXe siècle\, à découvrir à travers une exposition : dessins\, aquarelles\, pastels et huiles. Représentant l’esprit de cette époque\, ils s’imprègnent des couleurs chaudes et éclatantes de la Méditerranée. Les œuvres exposées sont issues des collections de la Société des Amis des Arts de Charlieu et des musées de la Ville de Charlieu\, partenaires privilégiés de cette promenade artistique. \nABBAYE BÉNÉDICTINE\nDes fouilles ont permis de découvrir les fondations de trois églises construites sur le même emplacement au IXe\, Xe et XIe. Le grand portail\, dont la décoration s’inspire du livre de l’Apocalypse\, est un chef d’œuvre de l’art roman du XIIe siècle. Le cloître\, de la fin du XVe\, s’ouvre sur la salle capitulaire (XVe\, lutrin remarquable) par une colonnade romane. De là\, on accède à la chapelle du prieur (fin XVe)\, puis à la cour de l’Hôtel du prieur (début XVIe). \nOUVERTURE\nDu 02/01 au 31/01\, tous les samedis et dimanches. \nDu 01/02 au 31/03.\nFermé le mardi. \nDu 01/04 au 31/05.\nFermé le mardi. \nDu 01/06 au 31/08\, tous les jours. \nDu 01/09 au 31/10.\nFermé le mardi. \nDu 01/11 au 30/12\, tous les samedis et dimanches.\nFermetures exceptionnelles les 24\, 25\, 31 décembre et 1er janvier. \nTARIFS\nPlein tarif : 4 €\nTarif réduit : 3 €. \nGratuit pour les moins de 12 ans\, les accompagnateurs guides\, les chauffeurs.\nTarif groupe à partir de 10 personnes. \n\n\n	Similaire
URL:https://crocoule.org/notre-evenement/voyager-au-xixe-siecle-itineraire-des-roullier-2/
LOCATION:Abbaye bénédictine\, Place de l'Abbaye\, Charlieu\, 42190
CATEGORIES:08 ans +
END:VEVENT
BEGIN:VEVENT
DTSTART;TZID=Europe/Paris:20231026T150000
DTEND;TZID=Europe/Paris:20231026T160000
DTSTAMP:20260420T100428
CREATED:20230823T134103Z
LAST-MODIFIED:20230823T134103Z
UID:10002426-1698332400-1698336000@crocoule.org
SUMMARY:"VOYAGER AU XIXE SIÈCLE : ITINÉRAIRE DES ROULLIER"
DESCRIPTION:« VOYAGER AU XIXE SIÈCLE : ITINÉRAIRE DES ROULLIER » – ATELIER JEUNE PUBLIC\nParticipez à l’atelier « VOYAGER AU XIXE SIÈCLE : ITINÉRAIRE DES ROULLIER ». Atelier jeune public en lien avec l’expo-dossier « Blanche et Christian-Henri Roullier : des artistes voyageurs \nBlanche et Christian-Henri Roullier : des artistes voyageurs au XIXe siècle\, à découvrir à travers une exposition : dessins\, aquarelles\, pastels et huiles. Représentant l’esprit de cette époque\, ils s’imprègnent des couleurs chaudes et éclatantes de la Méditerranée. Les œuvres exposées sont issues des collections de la Société des Amis des Arts de Charlieu et des musées de la Ville de Charlieu\, partenaires privilégiés de cette promenade artistique. \nABBAYE BÉNÉDICTINE\nDes fouilles ont permis de découvrir les fondations de trois églises construites sur le même emplacement au IXe\, Xe et XIe. Le grand portail\, dont la décoration s’inspire du livre de l’Apocalypse\, est un chef d’œuvre de l’art roman du XIIe siècle. Le cloître\, de la fin du XVe\, s’ouvre sur la salle capitulaire (XVe\, lutrin remarquable) par une colonnade romane. De là\, on accède à la chapelle du prieur (fin XVe)\, puis à la cour de l’Hôtel du prieur (début XVIe). \nOUVERTURE\nDu 02/01 au 31/01\, tous les samedis et dimanches. \nDu 01/02 au 31/03.\nFermé le mardi. \nDu 01/04 au 31/05.\nFermé le mardi. \nDu 01/06 au 31/08\, tous les jours. \nDu 01/09 au 31/10.\nFermé le mardi. \nDu 01/11 au 30/12\, tous les samedis et dimanches.\nFermetures exceptionnelles les 24\, 25\, 31 décembre et 1er janvier. \nTARIFS\nPlein tarif : 4 €\nTarif réduit : 3 €. \nGratuit pour les moins de 12 ans\, les accompagnateurs guides\, les chauffeurs.\nTarif groupe à partir de 10 personnes. \n\n\n	Similaire
URL:https://crocoule.org/notre-evenement/voyager-au-xixe-siecle-itineraire-des-roullier/
LOCATION:Abbaye bénédictine\, Place de l'Abbaye\, Charlieu\, 42190
CATEGORIES:08 ans +
END:VEVENT
END:VCALENDAR